Workbook

Sheet  Table 6A
A1: =Parameters!$A$9 -> TABLE 6A FATAL AND INJURY TRUCK CRASHES BY MONTH 2017-2021
B4: 2017 | D4: 2018 | F4: 2019 | H4: 2020 | J4: 2021
A5: Month | B5: Fatal | C5: Injury | D5: Fatal | E5: Injury | F5: Fatal | G5: Injury | H5: Fatal | I5: Injury | J5: Fatal | K5: Injury
A6: January | B6: 16 | C6: 502 | D6: 16 | E6: 566 | F6: 21 | G6: 562 | H6: 27 | I6: 498 | J6: 25 | K6: 535
A7: February | B7: 14 | C7: 457 | D7: 21 | E7: 534 | F7: 28 | G7: 486 | H7: 22 | I7: 488 | J7: 17 | K7: 452
A8: March | B8: 28 | C8: 592 | D8: 18 | E8: 599 | F8: 21 | G8: 571 | H8: 32 | I8: 466 | J8: 22 | K8: 601
A9: April | B9: 28 | C9: 519 | D9: 15 | E9: 534 | F9: 26 | G9: 558 | H9: 17 | I9: 370 | J9: 37 | K9: 579
A10: May | B10: 17 | C10: 567 | D10: 25 | E10: 613 | F10: 22 | G10: 565 | H10: 27 | I10: 391 | J10: 24 | K10: 583
A11: June | B11: 31 | C11: 647 | D11: 26 | E11: 626 | F11: 33 | G11: 571 | H11: 22 | I11: 493 | J11: 37 | K11: 666
A12: July | B12: 36 | C12: 546 | D12: 28 | E12: 605 | F12: 34 | G12: 613 | H12: 24 | I12: 527 | J12: 32 | K12: 651
A13: August | B13: 27 | C13: 638 | D13: 35 | E13: 672 | F13: 35 | G13: 653 | H13: 32 | I13: 556 | J13: 36 | K13: 656
A14: September | B14: 35 | C14: 620 | D14: 38 | E14: 652 | F14: 34 | G14: 609 | H14: 34 | I14: 570 | J14: 39 | K14: 735
A15: October | B15: 42 | C15: 652 | D15: 27 | E15: 661 | F15: 36 | G15: 643 | H15: 38 | I15: 635 | J15: 32 | K15: 678
A16: November | B16: 25 | C16: 597 | D16: 28 | E16: 611 | F16: 29 | G16: 585 | H16: 34 | I16: 524 | J16: 39 | K16: 621
A17: December | B17: 28 | C17: 560 | D17: 28 | E17: 550 | F17: 25 | G17: 593 | H17: 25 | I17: 520 | J17: 35 | K17: 580
A18: Total | B18: 327 | C18: 6897 | D18: 305 | E18: 7223 | F18: 344 | G18: 7009 | H18: 334 | I18: 6038 | J18: 375 | K18: 7337

Sheet Table 6B
A1: =Parameters!$A$12 -> TABLE 6B PERSONS KILLED AND INJURED IN TRUCK CRASHES BY MONTH 2017-2021
B4: 2017 | D4: 2018 | F4: 2019 | H4: 2020 | J4: 2021
A5: Month | B5: Killed | C5: Injured | D5: Killed | E5: Injured | F5: Killed | G5: Injured | H5: Killed | I5: Injured | J5: Killed | K5: Injured
A6: January | B6: 17 | C6: 704 | D6: 18 | E6: 793 | F6: 22 | G6: 779 | H6: 31 | I6: 670 | J6: 30 | K6: 722
A7: February | B7: 16 | C7: 623 | D7: 26 | E7: 747 | F7: 34 | G7: 673 | H7: 23 | I7: 666 | J7: 17 | K7: 623
A8: March | B8: 29 | C8: 802 | D8: 20 | E8: 861 | F8: 23 | G8: 829 | H8: 34 | I8: 642 | J8: 36 | K8: 832
A9: April | B9: 31 | C9: 730 | D9: 16 | E9: 742 | F9: 27 | G9: 782 | H9: 19 | I9: 501 | J9: 40 | K9: 843
A10: May | B10: 22 | C10: 781 | D10: 29 | E10: 876 | F10: 24 | G10: 827 | H10: 29 | I10: 552 | J10: 28 | K10: 825
A11: June | B11: 34 | C11: 928 | D11: 31 | E11: 918 | F11: 41 | G11: 819 | H11: 28 | I11: 681 | J11: 46 | K11: 947
A12: July | B12: 41 | C12: 771 | D12: 32 | E12: 885 | F12: 42 | G12: 855 | H12: 29 | I12: 743 | J12: 36 | K12: 915
A13: August | B13: 31 | C13: 924 | D13: 37 | E13: 930 | F13: 39 | G13: 902 | H13: 38 | I13: 790 | J13: 38 | K13: 925
A14: September | B14: 42 | C14: 877 | D14: 43 | E14: 900 | F14: 41 | G14: 862 | H14: 35 | I14: 783 | J14: 40 | K14: 1026
A15: October | B15: 45 | C15: 914 | D15: 30 | E15: 921 | F15: 37 | G15: 881 | H15: 41 | I15: 930 | J15: 34 | K15: 968
A16: November | B16: 29 | C16: 836 | D16: 34 | E16: 879 | F16: 34 | G16: 825 | H16: 40 | I16: 703 | J16: 42 | K16: 903
A17: December | B17: 30 | C17: 820 | D17: 28 | E17: 779 | F17: 28 | G17: 854 | H17: 25 | I17: 689 | J17: 37 | K17: 831
A18: Total | B18: 367 | C18: 9710 | D18: 344 | E18: 10231 | F18: 392 | G18: 9888 | H18: 372 | I18: 8350 | J18: 424 | K18: 10360

Sheet  Table 6C
A1: =Parameters!$A$24 -> TABLE 6C FATAL AND INJURY TRUCK CRASHES BY COUNTY 2017-2021
B4: 2017 | D4: 2018 | F4: 2019 | H4: 2020 | J4: 2021
A5: County | B5: Fatal | C5: Injury | D5: Fatal | E5: Injury | F5: Fatal | G5: Injury | H5: Fatal | I5: Injury | J5: Fatal | K5: Injury
A6: Alameda | B6: 7 | C6: 351 | D6: 6 | E6: 373 | F6: 12 | G6: 316 | H6: 7 | I6: 255 | J6: 4 | K6: 322
A7: Alpine | B7: 1 | C7: 2 | D7: 1 | E7: 0 | F7: 0 | G7: 1 | H7: 0 | I7: 2 | J7: 0 | K7: 0
A8: Amador | B8: 0 | C8: 7 | D8: 1 | E8: 6 | F8: 1 | G8: 5 | H8: 0 | I8: 7 | J8: 1 | K8: 3
A9: Butte | B9: 3 | C9: 28 | D9: 0 | E9: 29 | F9: 5 | G9: 33 | H9: 5 | I9: 33 | J9: 3 | K9: 28
A10: Calaveras | B10: 2 | C10: 6 | D10: 3 | E10: 7 | F10: 0 | G10: 9 | H10: 0 | I10: 7 | J10: 0 | K10: 5
A11: Colusa | B11: 0 | C11: 15 | D11: 3 | E11: 13 | F11: 2 | G11: 8 | H11: 0 | I11: 13 | J11: 0 | K11: 15
A12: Contra Costa | B12: 3 | C12: 98 | D12: 5 | E12: 119 | F12: 6 | G12: 126 | H12: 9 | I12: 108 | J12: 2 | K12: 99
A13: Del Norte | B13: 0 | C13: 6 | D13: 1 | E13: 4 | F13: 0 | G13: 5 | H13: 0 | I13: 5 | J13: 0 | K13: 6
A14: El Dorado | B14: 1 | C14: 19 | D14: 0 | E14: 11 | F14: 1 | G14: 11 | H14: 0 | I14: 8 | J14: 1 | K14: 10
A15: Fresno | B15: 16 | C15: 139 | D15: 12 | E15: 162 | F15: 10 | G15: 160 | H15: 18 | I15: 170 | J15: 16 | K15: 226
A16: Glenn | B16: 1 | C16: 10 | D16: 1 | E16: 12 | F16: 0 | G16: 10 | H16: 2 | I16: 6 | J16: 0 | K16: 10
A17: Humboldt | B17: 2 | C17: 14 | D17: 5 | E17: 13 | F17: 3 | G17: 10 | H17: 0 | I17: 16 | J17: 3 | K17: 11
... A64: Total | B64: 327 | C64: 6897 | D64: 305 | E64: 7223 | F64: 344 | G64: 7009 | H64: 334 | I64: 6038 | J64: 375 | K64: 7337

Sheet Table 6D
A1: =Parameters!$A$27 -> TABLE 6D PERSONS KILLED AND INJURED IN TRUCK CRASHES BY COUNTY 2017-2021
B4: 2017 | D4: 2018 | F4: 2019 | H4: 2020 | J4: 2021
A5: County | B5: Killed | C5: Injured | D5: Killed | E5: Injured | F5: Killed | G5: Injured | H5: Killed | I5: Injured | J5: Killed | K5: Injured
A6: Alameda | B6: 7 | C6: 484 | D6: 7 | E6: 483 | F6: 14 | G6: 410 | H6: 8 | I6: 341 | J6: 4 | K6: 429
A7: Alpine | B7: 1 | C7: 2 | D7: 1 | E7: 0 | F7: 0 | G7: 1 | H7: 0 | I7: 3 | J7: 0 | K7: 0
A8: Amador | B8: 0 | C8: 9 | D8: 2 | E8: 7 | F8: 1 | G8: 9 | H8: 0 | I8: 8 | J8: 1 | K8: 7
A9: Butte | B9: 3 | C9: 46 | D9: 0 | E9: 35 | F9: 6 | G9: 46 | H9: 9 | I9: 55 | J9: 3 | K9: 35
A10: Calaveras | B10: 2 | C10: 9 | D10: 4 | E10: 15 | F10: 0 | G10: 10 | H10: 0 | I10: 10 | J10: 0 | K10: 6
A11: Colusa | B11: 0 | C11: 17 | D11: 5 | E11: 16 | F11: 3 | G11: 18 | H11: 0 | I11: 13 | J11: 0 | K11: 16
A12: Contra Costa | B12: 3 | C12: 125 | D12: 5 | E12: 168 | F12: 6 | G12: 175 | H12: 9 | I12: 145 | J12: 2 | K12: 136
A13: Del Norte | B13: 0 | C13: 6 | D13: 1 | E13: 5 | F13: 0 | G13: 7 | H13: 0 | I13: 6 | J13: 0 | K13: 7
A14: El Dorado | B14: 2 | C14: 23 | D14: 0 | E14: 18 | F14: 1 | G14: 22 | H14: 0 | I14: 11 | J14: 1 | K14: 15
A15: Fresno | B15: 21 | C15: 225 | D15: 17 | E15: 245 | F15: 13 | G15: 246 | H15: 24 | I15: 253 | J15: 22 | K15: 342
A16: Glenn | B16: 1 | C16: 17 | D16: 1 | E16: 17 | F16: 0 | G16: 10 | H16: 2 | I16: 10 | J16: 0 | K16: 13
A17: Humboldt | B17: 2 | C17: 20 | D17: 6 | E17: 20 | F17: 4 | G17: 12 | H17: 0 | I17: 17 | J17: 3 | K17: 13
... A64: Total | B64: 367 | C64: 9710 | D64: 344 | E64: 10231 | F64: 392 | G64: 9888 | H64: 372 | I64: 8350 | J64: 424 | K64: 10360

Sheet Table 6E
A1: =Parameters!$A$30 -> TABLE 6E TRUCK DRIVERS AT FAULT IN FATAL CRASHES BY AGE BY PRIMARY CRASH FACTOR - 2021
A4: Primary Crash Factor | B4: 20-24 | C4: 25-29 | D4: 30-34 | E4: 35-39 | F4: 40-44 | G4: 45-49 | H4: 50-54 | I4: 55-59 | J4: 60-64 | K4: 65 and over | L4: Total
A5: Driving or Bicycling under Influence of Alcohol or Drug | B5: 1 | C5: 0 | D5: 1 | E5: 3 | F5: 0 | G5: 2 | H5: 1 | I5: 0 | J5: 0 | K5: 0 | L5: 8
A6: Unsafe Speed | B6: 1 | C6: 3 | D6: 1 | E6: 4 | F6: 4 | G6: 3 | H6: 6 | I6: 3 | J6: 3 | K6: 3 | L6: 31
A7: Following Too Closely | B7: 0 | C7: 1 | D7: 0 | E7: 0 | F7: 0 | G7: 0 | H7: 0 | I7: 0 | J7: 0 | K7: 0 | L7: 1
A8: Wrong Side of Road | B8: 0 | C8: 0 | D8: 0 | E8: 0 | F8: 0 | G8: 1 | H8: 1 | I8: 0 | J8: 0 | K8: 1 | L8: 3
A9: Improper Passing | B9: 0 | C9: 1 | D9: 0 | E9: 0 | F9: 0 | G9: 0 | H9: 0 | I9: 0 | J9: 0 | K9: 0 | L9: 1
A10: Improper Turning | B10: 0 | C10: 1 | D10: 3 | E10: 4 | F10: 2 | G10: 2 | H10: 6 | I10: 2 | J10: 1 | K10: 3 | L10: 24
A11: Automobile Right-of-Way | B11: 1 | C11: 1 | D11: 1 | E11: 0 | F11: 0 | G11: 0 | H11: 3 | I11: 1 | J11: 0 | K11: 4 | L11: 11
A12: Pedestrian Right-of-Way | B12: 0 | C12: 1 | D12: 0 | E12: 0 | F12: 0 | G12: 0 | H12: 0 | I12: 1 | J12: 0 | K12: 1 | L12: 3
A13: Traffic Signals and Signs | B13: 2 | C13: 0 | D13: 0 | E13: 1 | F13: 0 | G13: 1 | H13: 0 | I13: 2 | J13: 0 | K13: 0 | L13: 6
A14: Unsafe Starting or Backing | B14: 0 | C14: 0 | D14: 0 | E14: 1 | F14: 0 | G14: 0 | H14: 0 | I14: 0 | J14: 0 | K14: 0 | L14: 1
A15: Total | B15: 5 | C15: 8 | D15: 6 | E15: 13 | F15: 6 | G15: 9 | H15: 17 | I15: 9 | J15: 4 | K15: 12 | L15: 89

Sheet Table 6F
A1: =Parameters!$A$33 -> TABLE 6F TRUCK DRIVERS AT FAULT IN INJURY CRASHES BY AGE BY PRIMARY CRASH FACTOR - 2021
A4: Primary Crash Factor | B4: 0-14 | C4: 15-19 | D4: 20-24 | E4: 25-29 | F4: 30-34 | G4: 35-39 | H4: 40-44 | I4: 45-49 | J4: 50-54 | K4: 55-59 | L4: 60-64 | M4: 65 and over | N4: Not stated | O4: Total
A5: Driving or Bicycling under Influence of Alcohol or Drug | B5: 0 | C5: 1 | D5: 11 | E5: 12 | F5: 12 | G5: 13 | H5: 3 | I5: 9 | J5: 4 | K5: 7 | L5: 1 | M5: 0 | N5: 0 | O5: 73
A6: Impeding Traffic | B6: 0 | C6: 0 | D6: 0 | E6: 0 | F6: 0 | G6: 1 | H6: 0 | I6: 1 | J6: 0 | K6: 0 | L6: 1 | M6: 0 | N6: 0 | O6: 3
A7: Unsafe Speed | B7: 1 | C7: 19 | D7: 128 | E7: 128 | F7: 150 | G7: 143 | H7: 108 | I7: 107 | J7: 143 | K7: 114 | L7: 77 | M7: 58 | N7: 35 | O7: 1211
A8: Following Too Closely | B8: 0 | C8: 1 | D8: 4 | E8: 2 | F8: 6 | G8: 5 | H8: 6 | I8: 5 | J8: 6 | K8: 4 | L8: 1 | M8: 0 | N8: 2 | O8: 42
A9: Wrong Side of Road | B9: 0 | C9: 0 | D9: 5 | E9: 4 | F9: 4 | G9: 5 | H9: 6 | I9: 2 | J9: 2 | K9: 4 | L9: 5 | M9: 2 | N9: 3 | O9: 42
A10: Improper Passing | B10: 0 | C10: 0 | D10: 2 | E10: 0 | F10: 1 | G10: 2 | H10: 1 | I10: 1 | J10: 1 | K10: 0 | L10: 1 | M10: 1 | N10: 2 | O10: 12
A11: Unsafe Lane Change | B11: 0 | C11: 0 | D11: 17 | E11: 37 | F11: 41 | G11: 34 | H11: 37 | I11: 43 | J11: 42 | K11: 44 | L11: 27 | M11: 20 | N11: 31 | O11: 373
A12: Improper Turning | B12: 0 | C12: 12 | D12: 66 | E12: 75 | F12: 78 | G12: 64 | H12: 60 | I12: 52 | J12: 66 | K12: 59 | L12: 52 | M12: 43 | N12: 24 | O12: 651
A13: Automobile Right-of-Way | B13: 0 | C13: 7 | D13: 17 | E13: 23 | F13: 31 | G13: 28 | H13: 30 | I13: 15 | J13: 28 | K13: 30 | L13: 24 | M13: 21 | N13: 9 | O13: 263
A14: Pedestrian Right-of-Way | B14: 0 | C14: 0 | D14: 2 | E14: 2 | F14: 4 | G14: 0 | H14: 3 | I14: 3 | J14: 3 | K14: 2 | L14: 3 | M14: 3 | N14: 4 | O14: 29
A15: Traffic Signals and Signs | B15: 0 | C15: 4 | D15: 14 | E15: 22 | F15: 18 | G15: 14 | H15: 12 | I15: 16 | J15: 13 | K15: 17 | L15: 12 | M15: 9 | N15: 16 | O15: 167
A16: Hazardous Parking | B16: 0 | C16: 0 | D16: 0 | E16: 0 | F16: 1 | G16: 1 | H16: 0 | I16: 0 | J16: 1 | K16: 0 | L16: 1 | M16: 0 | N16: 0 | O16: 4
... A24: Total | B24: 1 | C24: 47 | D24: 276 | E24: 321 | F24: 361 | G24: 324 | H24: 278 | I24: 270 | J24: 318 | K24: 293 | L24: 213 | M24: 162 | N24: 139 | O24: 3003

Sheet Table 6G
A1: =Parameters!$A$36 -> TABLE 6G PERSONS KILLED IN TRUCK CRASHES WHERE TRUCK DRIVER WAS AT FAULT BY AGE BY PRIMARY CRASH FACTOR - 2021
A4: Primary Crash Factor | B4: 0-14 | C4: 15-19 | D4: 20-24 | E4: 25-29 | F4: 30-34 | G4: 35-39 | H4: 40-44 | I4: 45-49 | J4: 50-54 | K4: 55-59 | L4: 60-64 | M4: 65 and over | N4: Total
A5: Driving Or Bicycling Under Influence Of Alcohol Or Drug | B5: 1 | C5: 1 | D5: 0 | E5: 0 | F5: 1 | G5: 1 | H5: 1 | I5: 1 | J5: 1 | K5: 2 | L5: 0 | M5: 0 | N5: 9
A6: Unsafe Speed | B6: 2 | C6: 2 | D6: 0 | E6: 2 | F6: 6 | G6: 3 | H6: 4 | I6: 3 | J6: 3 | K6: 1 | L6: 4 | M6: 5 | N6: 35
A7: Following Too Closely | B7: 0 | C7: 0 | D7: 0 | E7: 1 | F7: 0 | G7: 0 | H7: 0 | I7: 0 | J7: 0 | K7: 0 | L7: 0 | M7: 0 | N7: 1
A8: Wrong Side Of Road | B8: 0 | C8: 0 | D8: 0 | E8: 2 | F8: 1 | G8: 1 | H8: 0 | I8: 0 | J8: 0 | K8: 0 | L8: 0 | M8: 0 | N8: 4
A9: Improper Passing | B9: 0 | C9: 0 | D9: 0 | E9: 1 | F9: 0 | G9: 0 | H9: 0 | I9: 0 | J9: 0 | K9: 0 | L9: 0 | M9: 0 | N9: 1
A10: Improper Turning | B10: 0 | C10: 0 | D10: 1 | E10: 3 | F10: 2 | G10: 3 | H10: 1 | I10: 3 | J10: 6 | K10: 2 | L10: 1 | M10: 3 | N10: 25
A11: Automobile Right-Of-Way | B11: 0 | C11: 0 | D11: 1 | E11: 3 | F11: 3 | G11: 2 | H11: 0 | I11: 1 | J11: 0 | K11: 0 | L11: 1 | M11: 2 | N11: 13
A12: Pedestrian Right-Of-Way | B12: 0 | C12: 0 | D12: 0 | E12: 0 | F12: 0 | G12: 0 | H12: 0 | I12: 0 | J12: 1 | K12: 0 | L12: 0 | M12: 2 | N12: 3
A13: Traffic Signals And Signs | B13: 0 | C13: 2 | D13: 2 | E13: 0 | F13: 0 | G13: 0 | H13: 0 | I13: 0 | J13: 0 | K13: 1 | L13: 1 | M13: 0 | N13: 6
A14: Unsafe Starting Or Backing | B14: 0 | C14: 0 | D14: 0 | E14: 0 | F14: 0 | G14: 1 | H14: 0 | I14: 0 | J14: 0 | K14: 0 | L14: 0 | M14: 0 | N14: 1
A15: Total | B15: 3 | C15: 5 | D15: 4 | E15: 12 | F15: 13 | G15: 11 | H15: 6 | I15: 8 | J15: 11 | K15: 6 | L15: 7 | M15: 12 | N15: 98

Sheet Table 6H
A1: =Parameters!$A$39 -> TABLE 6H PERSONS INJURED IN TRUCK CRASHES WHERE TRUCK DRIVER WAS AT FAULT BY AGE BY PRIMARY CRASH FACTOR - 2021
A4: Primary Crash Factor | B4: 0-14 | C4: 15-19 | D4: 20-24 | E4: 25-29 | F4: 30-34 | G4: 35-39 | H4: 40-44 | I4: 45-49 | J4: 50-54 | K4: 55-59 | L4: 60-64 | M4: 65 and over | N4: Not stated | O4: Total
A5: Driving Or Bicycling Under Influence Of Alcohol Or Drug | B5: 0 | C5: 9 | D5: 17 | E5: 19 | F5: 12 | G5: 14 | H5: 5 | I5: 11 | J5: 7 | K5: 9 | L5: 3 | M5: 2 | N5: 0 | O5: 108
A6: Impeding Traffic | B6: 0 | C6: 0 | D6: 0 | E6: 0 | F6: 0 | G6: 1 | H6: 0 | I6: 1 | J6: 0 | K6: 1 | L6: 2 | M6: 0 | N6: 0 | O6: 5
A7: Unsafe Speed | B7: 55 | C7: 58 | D7: 169 | E7: 192 | F7: 193 | G7: 184 | H7: 175 | I7: 162 | J7: 191 | K7: 152 | L7: 136 | M7: 164 | N7: 11 | O7: 1842
A8: Following Too Closely | B8: 7 | C8: 2 | D8: 9 | E8: 9 | F8: 6 | G8: 7 | H8: 5 | I8: 5 | J8: 2 | K8: 3 | L8: 3 | M8: 3 | N8: 1 | O8: 62
A9: Wrong Side Of Road | B9: 0 | C9: 4 | D9: 8 | E9: 8 | F9: 7 | G9: 6 | H9: 8 | I9: 7 | J9: 5 | K9: 5 | L9: 8 | M9: 4 | N9: 2 | O9: 72
A10: Improper Passing | B10: 1 | C10: 1 | D10: 1 | E10: 1 | F10: 1 | G10: 1 | H10: 1 | I10: 2 | J10: 2 | K10: 4 | L10: 0 | M10: 3 | N10: 0 | O10: 18
A11: Unsafe Lane Change | B11: 18 | C11: 23 | D11: 55 | E11: 54 | F11: 49 | G11: 44 | H11: 37 | I11: 42 | J11: 60 | K11: 28 | L11: 33 | M11: 38 | N11: 1 | O11: 482
A12: Improper Turning | B12: 18 | C12: 34 | D12: 95 | E12: 97 | F12: 76 | G12: 70 | H12: 71 | I12: 69 | J12: 73 | K12: 73 | L12: 63 | M12: 50 | N12: 1 | O12: 790
A13: Automobile Right-Of-Way | B13: 23 | C13: 28 | D13: 31 | E13: 48 | F13: 40 | G13: 36 | H13: 29 | I13: 24 | J13: 23 | K13: 32 | L13: 19 | M13: 33 | N13: 1 | O13: 367
A14: Pedestrian Right-Of-Way | B14: 0 | C14: 2 | D14: 4 | E14: 1 | F14: 1 | G14: 3 | H14: 2 | I14: 1 | J14: 1 | K14: 2 | L14: 3 | M14: 10 | N14: 1 | O14: 31
A15: Traffic Signals And Signs | B15: 11 | C15: 16 | D15: 25 | E15: 27 | F15: 32 | G15: 23 | H15: 20 | I15: 24 | J15: 14 | K15: 26 | L15: 13 | M15: 18 | N15: 2 | O15: 251
A16: Hazardous Parking | B16: 0 | C16: 0 | D16: 0 | E16: 0 | F16: 1 | G16: 0 | H16: 1 | I16: 0 | J16: 1 | K16: 0 | L16: 1 | M16: 0 | N16: 0 | O16: 4
... A24: Total | B24: 136 | C24: 188 | D24: 423 | E24: 469 | F24: 433 | G24: 410 | H24: 373 | I24: 362 | J24: 394 | K24: 346 | L24: 294 | M24: 343 | N24: 21 | O24: 4192

Sheet  Table 6I
A1: =Parameters!$A$42 -> TABLE 6I FATAL AND INJURY TRUCK CRASHES WHERE TRUCK DRIVER WAS AT FAULT BY PRIMARY CRASH FACTOR 2017-2021
B4: 2017 | D4: 2018 | F4: 2019 | H4: 2020 | J4: 2021
A5: Primary Crash Factor | B5: Fatal | C5: Injury | D5: Fatal | E5: Injury | F5: Fatal | G5: Injury | H5: Fatal | I5: Injury | J5: Fatal | K5: Injury
A6: Driving Or Bicycling Under Influence Of Alcohol Or Drug | B6: 4 | C6: 44 | D6: 5 | E6: 53 | F6: 6 | G6: 50 | H6: 8 | I6: 68 | J6: 8 | K6: 73
A7: Impeding Traffic | B7: 0 | C7: 0 | D7: 0 | E7: 1 | F7: 1 | G7: 1 | H7: 0 | I7: 2 | J7: 0 | K7: 3
A8: Unsafe Speed | B8: 26 | C8: 1307 | D8: 25 | E8: 1347 | F8: 29 | G8: 1344 | H8: 32 | I8: 921 | J8: 31 | K8: 1211
A9: Following Too Closely | B9: 0 | C9: 66 | D9: 0 | E9: 59 | F9: 1 | G9: 63 | H9: 0 | I9: 47 | J9: 1 | K9: 42
A10: Wrong Side Of Road | B10: 4 | C10: 57 | D10: 5 | E10: 34 | F10: 1 | G10: 40 | H10: 3 | I10: 32 | J10: 3 | K10: 42
A11: Improper Passing | B11: 0 | C11: 13 | D11: 2 | E11: 15 | F11: 1 | G11: 10 | H11: 1 | I11: 10 | J11: 1 | K11: 12
A12: Unsafe Lane Change | B12: 1 | C12: 340 | D12: 3 | E12: 363 | F12: 0 | G12: 342 | H12: 2 | I12: 295 | J12: 0 | K12: 373
A13: Improper Turning | B13: 25 | C13: 548 | D13: 29 | E13: 595 | F13: 17 | G13: 575 | H13: 22 | I13: 533 | J13: 24 | K13: 651
A14: Automobile Right-Of-Way | B14: 8 | C14: 252 | D14: 7 | E14: 263 | F14: 10 | G14: 280 | H14: 7 | I14: 227 | J14: 11 | K14: 263
A15: Pedestrian Right-Of-Way | B15: 2 | C15: 23 | D15: 5 | E15: 33 | F15: 6 | G15: 34 | H15: 4 | I15: 35 | J15: 3 | K15: 29
A16: Pedestrian Violation | B16: 0 | C16: 2 | D16: 1 | E16: 4 | F16: 0 | G16: 0 | H16: 0 | I16: 4 | J16: 0 | K16: 0
A17: Traffic Signals And Signs | B17: 6 | C17: 135 | D17: 5 | E17: 138 | F17: 6 | G17: 143 | H17: 6 | I17: 129 | J17: 6 | K17: 167
... A27: Total | B27: 84 | C27: 2967 | D27: 90 | E27: 3098 | F27: 83 | G27: 3038 | H27: 88 | I27: 2447 | J27: 89 | K27: 3003

Sheet Table 6J
A1: =Parameters!$A$45 -> TABLE 6J FATAL AND INJURY TRUCK CRASHES COMPARED TO ALL FATAL AND INJURY CRASHES 2017-2021
B3: =Parameters!B56 -> 2017 | C3: =Parameters!C56 -> 2018 | D3: =Parameters!D56 -> 2019 | E3: =Parameters!E56 -> 2020 | F3: =Parameters!F56 -> 2021
A4: Crashes
A5: Total fatal crashes | B5: =Parameters!$B$57 -> 3582 | C5: =Parameters!$C$57 -> 3478 | D5: =Parameters!$D$57 -> 3438 | E5: =Parameters!$E$57 -> 3672 | F5: =Parameters!$F$57 -> 4161
A6: Fatal truck crashes | B6: =Parameters!B50 -> 327 | C6: =Parameters!C50 -> 305 | D6: =Parameters!D50 -> 344 | E6: =Parameters!E50 -> 334 | F6: =Parameters!F50 -> 375
A7: Percent of total | B7: =B6/B5*100 -> 9.1289782 | C7: =C6/C5*100 -> 8.7694077 | D7: =D6/D5*100 -> 10.005817 | E7: =E6/E5*100 -> 9.0958606 | F7: =F6/F5*100 -> 9.0122567
A8: Total injury crashes | B8: =Parameters!B58 -> 193564 | C8: =Parameters!C58 -> 191971 | D8: =Parameters!D58 -> 187211 | E8: =Parameters!E58 -> 143476 | F8: =Parameters!F58 -> 157875
A9: Injury truck crashes | B9: =Parameters!B51 -> 6897 | C9: =Parameters!C51 -> 7223 | D9: =Parameters!D51 -> 7009 | E9: =Parameters!E51 -> 6038 | F9: =Parameters!F51 -> 7337
A10: Percent of total | B10: =B9/B8*100 -> 3.5631626 | C10: =C9/C8*100 -> 3.7625475 | D10: =D9/D8*100 -> 3.7439039 | E10: =E9/E8*100 -> 4.2083693 | F10: =F9/F8*100 -> 4.6473476

Sheet Table 6K
A1: =Parameters!$A$62 -> TABLE 6K TRUCK DRIVERS IN FATAL CRASHES BY AGE BY MOVEMENT PRECEDING CRASH - 2021
A4: Movement Preceding Crash | B4: 15-19 | C4: 20-24 | D4: 25-29 | E4: 30-34 | F4: 35-39 | G4: 40-44 | H4: 45-49 | I4: 50-54 | J4: 55-59 | K4: 60-64 | L4: 65 and over | M4: Not stated | N4: Total
A5: Stopped | B5: 0 | C5: 1 | D5: 2 | E5: 2 | F5: 3 | G5: 5 | H5: 3 | I5: 0 | J5: 2 | K5: 3 | L5: 0 | M5: 0 | N5: 21
A6: Proceeding straight | B6: 1 | C6: 10 | D6: 23 | E6: 25 | F6: 26 | G6: 26 | H6: 33 | I6: 45 | J6: 35 | K6: 20 | L6: 17 | M6: 6 | N6: 267
A7: Ran off road | B7: 0 | C7: 0 | D7: 1 | E7: 1 | F7: 2 | G7: 1 | H7: 1 | I7: 2 | J7: 0 | K7: 0 | L7: 2 | M7: 0 | N7: 10
A8: Making right turn | B8: 0 | C8: 0 | D8: 1 | E8: 0 | F8: 3 | G8: 1 | H8: 0 | I8: 1 | J8: 2 | K8: 1 | L8: 2 | M8: 0 | N8: 11
A9: Making left turn | B9: 0 | C9: 1 | D9: 2 | E9: 2 | F9: 0 | G9: 0 | H9: 1 | I9: 2 | J9: 3 | K9: 2 | L9: 5 | M9: 0 | N9: 18
A10: Making U turn | B10: 0 | C10: 0 | D10: 0 | E10: 0 | F10: 0 | G10: 0 | H10: 0 | I10: 1 | J10: 0 | K10: 0 | L10: 0 | M10: 0 | N10: 1
A11: Backing | B11: 0 | C11: 0 | D11: 0 | E11: 0 | F11: 1 | G11: 1 | H11: 0 | I11: 0 | J11: 0 | K11: 0 | L11: 0 | M11: 0 | N11: 2
A12: Slowing/stopping | B12: 1 | C12: 2 | D12: 4 | E12: 1 | F12: 2 | G12: 1 | H12: 0 | I12: 2 | J12: 2 | K12: 1 | L12: 0 | M12: 0 | N12: 16
A13: Passing other vehicle | B13: 0 | C13: 0 | D13: 1 | E13: 0 | F13: 0 | G13: 0 | H13: 0 | I13: 0 | J13: 0 | K13: 0 | L13: 1 | M13: 0 | N13: 2
A14: Changing lanes | B14: 0 | C14: 0 | D14: 0 | E14: 1 | F14: 0 | G14: 0 | H14: 0 | I14: 0 | J14: 0 | K14: 0 | L14: 0 | M14: 0 | N14: 1
A15: Entering traffic | B15: 0 | C15: 1 | D15: 0 | E15: 2 | F15: 0 | G15: 1 | H15: 0 | I15: 2 | J15: 0 | K15: 1 | L15: 1 | M15: 0 | N15: 8
A16: Other unsafe turning | B16: 0 | C16: 0 | D16: 0 | E16: 0 | F16: 1 | G16: 0 | H16: 0 | I16: 0 | J16: 1 | K16: 0 | L16: 0 | M16: 0 | N16: 2
... A20: Total | B20: 2 | C20: 15 | D20: 34 | E20: 37 | F20: 40 | G20: 37 | H20: 40 | I20: 60 | J20: 47 | K20: 29 | L20: 31 | M20: 6 | N20: 378

Sheet Table 6L
A1: =Parameters!$A$65 -> TABLE 6L TRUCK DRIVERS IN INJURY CRASHES BY AGE BY MOVEMENT PRECEDING CRASH - 2021
A4: Movement Preceding Crash | B4: 0-14 | C4: 15-19 | D4: 20-24 | E4: 25-29 | F4: 30-34 | G4: 35-39 | H4: 40-44 | I4: 45-49 | J4: 50-54 | K4: 55-59 | L4: 60-64 | M4: 65 and over | N4: Not stated | O4: Total
A5: Stopped | B5: 0 | C5: 3 | D5: 31 | E5: 62 | F5: 56 | G5: 82 | H5: 69 | I5: 62 | J5: 75 | K5: 55 | L5: 50 | M5: 35 | N5: 7 | O5: 587
A6: Proceeding straight | B6: 3 | C6: 40 | D6: 290 | E6: 429 | F6: 539 | G6: 508 | H6: 492 | I6: 494 | J6: 591 | K6: 538 | L6: 368 | M6: 212 | N6: 122 | O6: 4626
A7: Ran off road | B7: 0 | C7: 6 | D7: 19 | E7: 10 | F7: 15 | G7: 13 | H7: 14 | I7: 8 | J7: 17 | K7: 11 | L7: 12 | M7: 9 | N7: 0 | O7: 134
A8: Making right turn | B8: 0 | C8: 3 | D8: 12 | E8: 25 | F8: 32 | G8: 20 | H8: 27 | I8: 25 | J8: 25 | K8: 29 | L8: 13 | M8: 9 | N8: 11 | O8: 231
A9: Making left turn | B9: 0 | C9: 9 | D9: 30 | E9: 43 | F9: 63 | G9: 38 | H9: 47 | I9: 29 | J9: 49 | K9: 39 | L9: 38 | M9: 25 | N9: 12 | O9: 422
A10: Making U turn | B10: 0 | C10: 0 | D10: 0 | E10: 5 | F10: 8 | G10: 8 | H10: 6 | I10: 7 | J10: 6 | K10: 1 | L10: 5 | M10: 2 | N10: 2 | O10: 50
A11: Backing | B11: 0 | C11: 1 | D11: 3 | E11: 7 | F11: 6 | G11: 5 | H11: 9 | I11: 5 | J11: 7 | K11: 6 | L11: 3 | M11: 2 | N11: 1 | O11: 55
A12: Slowing/stopping | B12: 0 | C12: 3 | D12: 16 | E12: 32 | F12: 43 | G12: 30 | H12: 28 | I12: 42 | J12: 55 | K12: 38 | L12: 19 | M12: 18 | N12: 7 | O12: 331
A13: Passing other vehicle | B13: 0 | C13: 0 | D13: 3 | E13: 1 | F13: 0 | G13: 3 | H13: 2 | I13: 0 | J13: 1 | K13: 1 | L13: 1 | M13: 4 | N13: 1 | O13: 17
A14: Changing lanes | B14: 0 | C14: 0 | D14: 22 | E14: 40 | F14: 47 | G14: 40 | H14: 46 | I14: 47 | J14: 52 | K14: 49 | L14: 31 | M14: 26 | N14: 35 | O14: 435
A15: Parking maneuver | B15: 0 | C15: 0 | D15: 1 | E15: 0 | F15: 1 | G15: 0 | H15: 0 | I15: 0 | J15: 1 | K15: 0 | L15: 1 | M15: 0 | N15: 0 | O15: 4
A16: Entering traffic | B16: 0 | C16: 1 | D16: 2 | E16: 4 | F16: 9 | G16: 4 | H16: 4 | I16: 5 | J16: 8 | K16: 6 | L16: 5 | M16: 7 | N16: 3 | O16: 58
... A24: Total | B24: 3 | C24: 71 | D24: 476 | E24: 712 | F24: 867 | G24: 796 | H24: 794 | I24: 765 | J24: 929 | K24: 822 | L24: 583 | M24: 374 | N24: 220 | O24: 7412

Sheet Parameters
A1: Start_year | B1: End_year
A2: 2017 | B2: 2021
A4: Crash_year
A5: 2021
A8: Title 6A
A9: ="TABLE 6A FATAL AND INJURY TRUCK CRASHES BY MONTH "&A2&"-"&B2 -> TABLE 6A FATAL AND INJURY TRUCK CRASHES BY MONTH 2017-2021
A11: Title 6B
A12: ="TABLE 6B PERSONS KILLED AND INJURED IN TRUCK CRASHES BY MONTH "&A2&"-"&B2&"" -> TABLE 6B PERSONS KILLED AND INJURED IN TRUCK CRASHES BY MONTH 2017-2021
A14: Table 6B Chart
A15: Year | B15: Killed | C15: Injured
A16: 2017 | B16: 367 | C16: 9710
A17: 2018 | B17: 344 | C17: 10231
A18: 2019 | B18: 392 | C18: 9888
A19: 2020 | B19: 372 | C19: 8350
A20: 2021 | B20: 424 | C20: 10360
A21: Grand Total | B21: 1899 | C21: 48539
A23: Title 6C
A24: ="TABLE 6C FATAL AND INJURY TRUCK CRASHES BY COUNTY "&A2&"-"&B2 -> TABLE 6C FATAL AND INJURY TRUCK CRASHES BY COUNTY 2017-2021
A26: Title 6D
A27: ="TABLE 6D PERSONS KILLED AND INJURED IN TRUCK CRASHES BY COUNTY "&A2&"-"&B2 -> TABLE 6D PERSONS KILLED AND INJURED IN TRUCK CRASHES BY COUNTY 2017-2021
A29: Title 6E
A30: ="TABLE 6E TRUCK DRIVERS AT FAULT IN FATAL CRASHES BY AGE BY PRIMARY CRASH FACTOR - "&A5 -> TABLE 6E TRUCK DRIVERS AT FAULT IN FATAL CRASHES BY AGE BY PRIMARY CRASH FACTOR - 2021
A32: Title 6F
A33: ="TABLE 6F TRUCK DRIVERS AT FAULT IN INJURY CRASHES BY AGE BY PRIMARY CRASH FACTOR - "&A5 -> TABLE 6F TRUCK DRIVERS AT FAULT IN INJURY CRASHES BY AGE BY PRIMARY CRASH FACTOR - 2021
A35: Title 6G
A36: ="TABLE 6G PERSONS KILLED IN TRUCK CRASHES WHERE TRUCK DRIVER WAS AT FAULT BY AGE BY PRIMARY CRASH FACTOR - "&A5 -> TABLE 6G PERSONS KILLED IN TRUCK CRASHES WHERE TRUCK DRIVER WAS AT FAULT BY AGE BY PRIMARY CRASH FACTOR - 2021
A38: Title 6H
A39: ="TABLE 6H PERSONS INJURED IN TRUCK CRASHES WHERE TRUCK DRIVER WAS AT FAULT BY AGE BY PRIMARY CRASH FACTOR - "&A5 -> TABLE 6H PERSONS INJURED IN TRUCK CRASHES WHERE TRUCK DRIVER WAS AT FAULT BY AGE BY PRIMARY CRASH FACTOR - 2021
A41: Title 6I
A42: ="TABLE 6I FATAL AND INJURY TRUCK CRASHES WHERE TRUCK DRIVER WAS AT FAULT BY PRIMARY CRASH FACTOR "&A2&"-"&B2 -> TABLE 6I FATAL AND INJURY TRUCK CRASHES WHERE TRUCK DRIVER WAS AT FAULT BY PRIMARY CRASH FACTOR 2017-2021
A44: Title 6J
A45: ="TABLE 6J FATAL AND INJURY TRUCK CRASHES COMPARED TO ALL FATAL AND INJURY CRASHES "&A2&"-"&B2 -> TABLE 6J FATAL AND INJURY TRUCK CRASHES COMPARED TO ALL FATAL AND INJURY CRASHES 2017-2021
A47: Table 6J Fatal & Injury Truck Crashes
B48: Year
A49: SEVERITY | B49: 2017 | C49: 2018 | D49: 2019 | E49: 2020 | F49: 2021 | G49: Grand Total
A50: Fatal | B50: 327 | C50: 305 | D50: 344 | E50: 334 | F50: 375 | G50: 1685
A51: Injury | B51: 6897 | C51: 7223 | D51: 7009 | E51: 6038 | F51: 7337 | G51: 34504
A52: Grand Total | B52: 7224 | C52: 7528 | D52: 7353 | E52: 6372 | F52: 7712 | G52: 36189
A54: Table 6J Total Crashes
B55: Year
...
