Workbook

Sheet Table 7A
A1: =Parameters!$A$15 -> TABLE 7A FATAL AND INJURY CRASHES BY PRIMARY CRASH FACTOR 2017-2021
B4: 2017 | D4: 2018 | F4: 2019 | H4: 2020 | J4: 2021
A5: Primary Crash Factor** | B5: Fatal | C5: Injury | D5: Fatal | E5: Injury | F5: Fatal | G5: Injury | H5: Fatal | I5: Injury | J5: Fatal | K5: Injury
A6: Driving Or Bicycling Under Influence Of Alcohol Or Drug | B6: 760 | C6: 13520 | D6: 700 | E6: 13994 | F6: 720 | G6: 13652 | H6: 849 | I6: 12607 | J6: 955 | K6: 15146
A7: Impeding Traffic | B7: 2 | C7: 105 | D7: 1 | E7: 125 | F7: 4 | G7: 111 | H7: 0 | I7: 77 | J7: 3 | K7: 90
A8: Unsafe Speed | B8: 559 | C8: 61993 | D8: 489 | E8: 60627 | F8: 533 | G8: 59399 | H8: 542 | I8: 39761 | J8: 669 | K8: 47001
A9: Following Too Closely | B9: 3 | C9: 3865 | D9: 2 | E9: 3882 | F9: 2 | G9: 3674 | H9: 1 | I9: 2407 | J9: 5 | K9: 2152
A10: Wrong Side Of Road | B10: 177 | C10: 5032 | D10: 190 | E10: 4714 | F10: 170 | G10: 4617 | H10: 162 | I10: 3470 | J10: 181 | K10: 3692
A11: Improper Passing | B11: 29 | C11: 1261 | D11: 38 | E11: 1360 | F11: 33 | G11: 1300 | H11: 34 | I11: 964 | J11: 34 | K11: 1057
A12: Unsafe Lane Change | B12: 53 | C12: 8094 | D12: 64 | E12: 8204 | F12: 37 | G12: 7750 | H12: 45 | I12: 5572 | J12: 42 | K12: 6636
A13: Improper Turning | B13: 664 | C13: 28221 | D13: 667 | E13: 28229 | F13: 551 | G13: 27347 | H13: 646 | I13: 24611 | J13: 794 | K13: 26980
A14: Automobile Right-Of-Way | B14: 218 | C14: 30884 | D14: 237 | E14: 31075 | F14: 225 | G14: 30006 | H14: 208 | I14: 21066 | J14: 218 | K14: 22224
A15: Pedestrian Right-Of-Way | B15: 126 | C15: 5286 | D15: 110 | E15: 5477 | F15: 128 | G15: 5335 | H15: 80 | I15: 3436 | J15: 84 | K15: 3184
A16: Pedestrian Violation | B16: 593 | C16: 4412 | D16: 582 | E16: 4330 | F16: 656 | G16: 4106 | H16: 685 | I16: 3192 | J16: 763 | K16: 3265
A17: Traffic Signals And Signs | B17: 165 | C17: 16356 | D17: 176 | E17: 16608 | F17: 164 | G17: 16353 | H17: 162 | I17: 14671 | J17: 191 | K17: 14856
... A29: Total | B29: 3582 | C29: 193564 | D29: 3478 | E29: 191971 | F29: 3438 | G29: 187211 | H29: 3672 | I29: 143476 | J29: 4161 | K29: 157875
A31: *Anomalies are due to re-engineering of SWITRS beginning with 2002 Data.
A32: **See Glossary for definition.
A33: ***Fell Asleep is no longer a Primary Crash Factor since July 2003 Traffic Crash form revision.

Sheet Table 7B
A1: =Parameters!$A$18 -> TABLE 7B PERSONS KILLED AND INJURED BY PRIMARY CRASH FACTOR 2017-2021
B4: 2017 | D4: 2018 | F4: 2019 | H4: 2020 | J4: 2021
A5: Primary Crash Factor** | B5: Killed | C5: Injured | D5: Killed | E5: Injured | F5: Killed | G5: Injured | H5: Killed | I5: Injured | J5: Killed | K5: Injured
A6: Driving Or Bicycling Under Influence Of Alcohol Or Drug | B6: 869 | C6: 20185 | D6: 816 | E6: 20825 | F6: 818 | G6: 20481 | H6: 973 | I6: 18388 | J6: 1093 | K6: 22287
A7: Impeding Traffic | B7: 2 | C7: 149 | D7: 1 | E7: 167 | F7: 4 | G7: 144 | H7: 0 | I7: 113 | J7: 3 | K7: 140
A8: Unsafe Speed | B8: 608 | C8: 90565 | D8: 529 | E8: 88973 | F8: 588 | G8: 87364 | H8: 593 | I8: 57562 | J8: 721 | K8: 68445
A9: Following Too Closely | B9: 3 | C9: 5478 | D9: 2 | E9: 5637 | F9: 2 | G9: 5384 | H9: 1 | I9: 3477 | J9: 5 | K9: 3024
A10: Wrong Side Of Road | B10: 207 | C10: 7076 | D10: 218 | E10: 6544 | F10: 201 | G10: 6529 | H10: 187 | I10: 5003 | J10: 216 | K10: 5384
A11: Improper Passing | B11: 39 | C11: 1603 | D11: 48 | E11: 1752 | F11: 39 | G11: 1698 | H11: 36 | I11: 1239 | J11: 35 | K11: 1393
A12: Unsafe Lane Change | B12: 57 | C12: 10639 | D12: 71 | E12: 10937 | F12: 38 | G12: 10231 | H12: 48 | I12: 7381 | J12: 44 | K12: 8920
A13: Improper Turning | B13: 732 | C13: 37458 | D13: 737 | E13: 37234 | F13: 610 | G13: 35804 | H13: 713 | I13: 32059 | J13: 850 | K13: 35219
A14: Automobile Right-Of-Way | B14: 237 | C14: 48271 | D14: 253 | E14: 48282 | F14: 237 | G14: 47260 | H14: 214 | I14: 32796 | J14: 231 | K14: 34509
A15: Pedestrian Right-Of-Way | B15: 127 | C15: 5642 | D15: 111 | E15: 5812 | F15: 131 | G15: 5645 | H15: 80 | I15: 3629 | J15: 84 | K15: 3414
A16: Pedestrian Violation | B16: 594 | C16: 4617 | D16: 586 | E16: 4577 | F16: 662 | G16: 4345 | H16: 687 | I16: 3364 | J16: 766 | K16: 3451
A17: Traffic Signals And Signs | B17: 186 | C17: 26694 | D17: 199 | E17: 27105 | F17: 184 | G17: 26686 | H17: 182 | I17: 23640 | J17: 199 | K17: 24019
... A29: Total | B29: 3904 | C29: 277160 | D29: 3804 | E29: 274854 | F29: 3737 | G29: 269031 | H29: 3982 | I29: 203888 | J29: 4477 | K29: 225109
A31: *Anomalies are due to re-engineering of SWITRS beginning with 2002 Data.
A32: **See Glossary for definition.
A33: ***Fell Asleep is no longer a Primary Crash Factor since July 2003 Traffic Crash form revision.

Sheet Table 7C
A1: =Parameters!A21 -> TABLE 7C ESTIMATED COST PER PERSON AND PER CRASH BY VICTIM SEVERITY AND
A2: =Parameters!$A$22 -> PROPERTY DAMAGE ONLY CRASHES 2020-2021
C4: 20201/ | E4: 20212/
A5: Victim Severity | C5: Cost Per | D5: Total Cost | E5: Cost Per | F5: Total Cost
A6: Killed | C6: ='Table 7C Calculations'!D21 -> 4205000 | D6: ='Table 7C Calculations'!H21 -> 16744000000 | E6: ='Table 7C Calculations'!D41 -> 4395000 | F6: ='Table 7C Calculations'!H41 -> 19676000000
A7: Injured
B8: Serious Injury | C8: ='Table 7C Calculations'!D22 -> 291000 | D8: ='Table 7C Calculations'!H22 -> 4479000000 | E8: ='Table 7C Calculations'!D42 -> 304000 | F8: ='Table 7C Calculations'!H42 -> 5498000000
B9: Minor Injury | C9: ='Table 7C Calculations'!D23 -> 58000 | D9: ='Table 7C Calculations'!H23 -> 3486000000 | E9: ='Table 7C Calculations'!D43 -> 61000 | F9: ='Table 7C Calculations'!H43 -> 4344000000
B10: Possible Injury | C10: ='Table 7C Calculations'!D24 -> 31000 | D10: ='Table 7C Calculations'!H24 -> 3980000000 | E10: ='Table 7C Calculations'!D44 -> 32000 | F10: ='Table 7C Calculations'!H44 -> 4346000000
A11: Property Damage Only Crashes | C11: ='Table 7C Calculations'!D25 -> 3000 | D11: ='Table 7C Calculations'!H25 -> 662000000 | E11: ='Table 7C Calculations'!D45 -> 3000 | F11: ='Table 7C Calculations'!H45 -> 746000000
A12: Total | D12: =SUM(D6:D11) -> 29351000000 | F12: =SUM(F6:F11) -> 34610000000
A14: 1/Source of cost estimates: U. S. Department of Transportation, Federal Highway Administration, October 31, 1994, "Technical Advisory on Motor
A15: Vehicle Accident Costs." Costs have been updated to 2020 dollars using the Gross Domestic Product (GDP).
A16: 2/Source of cost estimate: 1994 Study as indicated in footnote number one (1/). Costs have been updated to 2021 dollars using the Gross Domestic
A17: Product (GDP) figure provided by the U. S. Department of Commerce-Bureau of Economic Analysis. Due to change in future publication.

Sheet Table 7D
A1: =Parameters!$A$39 -> TABLE 7D HIT AND RUN CRASHES AND VICTIMS BY TYPE OF CRASH - 2021
B4: Head-On | C4: Sideswipe | D4: Rear End | E4: Broadside | F4: Hit Object | G4: Overturned | H4: Auto/ Pedestrian | I4: Other | J4: Not Stated | K4: Total
A5: Fatal Crashes | B5: 21 | C5: 25 | D5: 55 | E5: 49 | F5: 19 | G5: 6 | H5: 325 | I5: 19 | J5: 3 | K5: 522
A6: Injury Crashes | B6: 1124 | C6: 3498 | D6: 7004 | E6: 4299 | F6: 1335 | G6: 270 | H6: 2397 | I6: 473 | J6: 148 | K6: 20548
A7: Killed Victims | B7: 22 | C7: 26 | D7: 61 | E7: 52 | F7: 19 | G7: 7 | H7: 330 | I7: 20 | J7: 3 | K7: 540
A8: Injured Victims | B8: 1539 | C8: 4438 | D8: 9725 | E8: 5803 | F8: 1613 | G8: 329 | H8: 2530 | I8: 523 | J8: 181 | K8: 26681

Sheet Table 7E
A1: =Parameters!$A$68 -> TABLE 7E PASSENGERS KILLED AND INJURED AGED 5 AND UNDER BY COUNTY 2019-2021
B4: 2019** | D4: 2020** | F4: 2021** | H4: 2020 vs 2021 Percentage of Change
A5: County* | B5: Killed | C5: Injured | D5: Killed | E5: Injured | F5: Killed | G5: Injured | H5: Killed | I5: Injured
A6: Alameda | B6: 1 | C6: 94 | D6: 0 | E6: 72 | F6: 0 | G6: 85 | I6: =(G6-E6)/E6 -> 0.18055556
A7: Alpine | B7: 0 | C7: 1 | D7: 0 | E7: 0 | F7: 0 | G7: 0
A8: Amador | B8: 0 | C8: 4 | D8: 2 | E8: 6 | F8: 0 | G8: 7 | H8: =(F8-D8)/D8 -> -1 | I8: =(G8-E8)/E8 -> 0.16666667
A9: Butte | B9: 0 | C9: 18 | D9: 1 | E9: 12 | F9: 1 | G9: 16 | H9: =(F9-D9)/D9 -> 0 | I9: =(G9-E9)/E9 -> 0.33333333
A10: Calaveras | B10: 0 | C10: 4 | D10: 0 | E10: 4 | F10: 0 | G10: 2 | I10: =(G10-E10)/E10 -> -0.5
A11: Colusa | B11: 0 | C11: 3 | D11: 0 | E11: 4 | F11: 0 | G11: 8 | I11: =(G11-E11)/E11 -> 1
A12: Contra Costa | B12: 0 | C12: 83 | D12: 1 | E12: 51 | F12: 0 | G12: 61 | H12: =(F12-D12)/D12 -> -1 | I12: =(G12-E12)/E12 -> 0.19607843
A13: Del Norte | B13: 0 | C13: 5 | D13: 0 | E13: 3 | F13: 0 | G13: 6 | I13: =(G13-E13)/E13 -> 1
A14: El Dorado | B14: 1 | C14: 14 | D14: 0 | E14: 4 | F14: 0 | G14: 9 | I14: =(G14-E14)/E14 -> 1.25
A15: Fresno | B15: 1 | C15: 101 | D15: 1 | E15: 92 | F15: 1 | G15: 92 | H15: =(F15-D15)/D15 -> 0 | I15: =(G15-E15)/E15 -> 0
A16: Glenn | B16: 0 | C16: 9 | D16: 0 | E16: 3 | F16: 0 | G16: 1 | I16: =(G16-E16)/E16 -> -0.66666667
A17: Humboldt | B17: 0 | C17: 6 | D17: 0 | E17: 3 | F17: 0 | G17: 6 | I17: =(G17-E17)/E17 -> 1
A18: Imperial | B18: 0 | C18: 14 | D18: 0 | E18: 6 | F18: 0 | G18: 6 | I18: =(G18-E18)/E18 -> 0
A19: Inyo | B19: 0 | C19: 1 | D19: 1 | E19: 2 | F19: 0 | G19: 1 | H19: =(F19-D19)/D19 -> -1 | I19: =(G19-E19)/E19 -> -0.5
A20: Kern | B20: 2 | C20: 139 | D20: 1 | E20: 106 | F20: 1 | G20: 124 | H20: =(F20-D20)/D20 -> 0 | I20: =(G20-E20)/E20 -> 0.16981132
A21: Kings | B21: 0 | C21: 7 | D21: 0 | E21: 8 | F21: 0 | G21: 11 | I21: =(G21-E21)/E21 -> 0.375
A22: Lake | B22: 0 | C22: 5 | D22: 0 | E22: 13 | F22: 0 | G22: 8 | I22: =(G22-E22)/E22 -> -0.38461538
A23: Lassen | B23: 0 | C23: 2 | D23: 0 | E23: 1 | F23: 0 | G23: 1 | I23: =(G23-E23)/E23 -> 0
A24: Los Angeles | B24: 3 | C24: 1061 | D24: 3 | E24: 636 | F24: 4 | G24: 593 | H24: =(F24-D24)/D24 -> 0.33333333 | I24: =(G24-E24)/E24 -> -0.067610063
A25: Madera | B25: 0 | C25: 15 | D25: 0 | E25: 12 | F25: 0 | G25: 18 | I25: =(G25-E25)/E25 -> 0.5
A26: Marin | B26: 1 | C26: 11 | D26: 0 | E26: 7 | F26: 0 | G26: 1 | I26: =(G26-E26)/E26 -> -0.85714286
A27: Mariposa | B27: 0 | C27: 1 | D27: 0 | E27: 0 | F27: 0 | G27: 1 | I27: ∞
A28: Mendocino | B28: 0 | C28: 15 | D28: 0 | E28: 14 | F28: 0 | G28: 5 | I28: =(G28-E28)/E28 -> -0.64285714
A29: Merced | B29: 1 | C29: 41 | D29: 0 | E29: 41 | F29: 0 | G29: 44 | I29: =(G29-E29)/E29 -> 0.073170732
A30: Modoc | B30: 1 | C30: 0 | D30: 0 | E30: 3 | F30: 0 | G30: 1 | I30: =(G30-E30)/E30 -> -0.66666667
A31: Mono | B31: 0 | C31: 1 | D31: 0 | E31: 1 | F31: 0 | G31: 0 | I31: =(G31-E31)/E31 -> -1
A32: Monterey | B32: 0 | C32: 40 | D32: 0 | E32: 21 | F32: 0 | G32: 27 | I32: =(G32-E32)/E32 -> 0.28571429
A33: Napa | B33: 0 | C33: 10 | D33: 0 | E33: 7 | F33: 0 | G33: 8 | I33: =(G33-E33)/E33 -> 0.14285714
A34: Nevada | B34: 0 | C34: 12 | D34: 0 | E34: 4 | F34: 1 | G34: 4 | H34: ∞ | I34: =(G34-E34)/E34 -> 0
A35: Orange | B35: 0 | C35: 161 | D35: 0 | E35: 118 | F35: 1 | G35: 126 | H35: ∞ | I35: =(G35-E35)/E35 -> 0.06779661
A36: Placer | B36: 0 | C36: 26 | D36: 0 | E36: 19 | F36: 0 | G36: 19 | I36: =(G36-E36)/E36 -> 0
A37: Plumas | B37: 0 | C37: 1 | D37: 0 | E37: 1 | F37: 0 | G37: 1 | I37: =(G37-E37)/E37 -> 0
A38: Riverside | B38: 3 | C38: 230 | D38: 1 | E38: 185 | F38: 0 | G38: 202 | H38: =(F38-D38)/D38 -> -1 | I38: =(G38-E38)/E38 -> 0.091891892
A39: Sacramento | B39: 1 | C39: 175 | D39: 0 | E39: 111 | F39: 0 | G39: 118 | I39: =(G39-E39)/E39 -> 0.063063063
A40: San Benito | B40: 0 | C40: 11 | D40: 0 | E40: 7 | F40: 1 | G40: 3 | H40: ∞ | I40: =(G40-E40)/E40 -> -0.57142857
A41: San Bernardino | B41: 0 | C41: 291 | D41: 7 | E41: 203 | F41: 4 | G41: 212 | H41: =(F41-D41)/D41 -> -0.42857143 | I41: =(G41-E41)/E41 -> 0.044334975
A42: San Diego | B42: 0 | C42: 193 | D42: 0 | E42: 147 | F42: 1 | G42: 154 | H42: ∞ | I42: =(G42-E42)/E42 -> 0.047619048
...

Sheet Table 7F
A1: =Parameters!$A$71 -> TABLE 7F FATAL AND INJURY PEDESTRIAN CRASHES BY MONTH 2017-2021
B4: 2017 | D4: 2018 | F4: 2019 | H4: 2020 | J4: 2021
A5: Month | B5: Fatal | C5: Injury | D5: Fatal | E5: Injury | F5: Fatal | G5: Injury | H5: Fatal | I5: Injury | J5: Fatal | K5: Injury
A6: January | B6: 94 | C6: 1332 | D6: 110 | E6: 1325 | F6: 91 | G6: 1230 | H6: 107 | I6: 1248 | J6: 99 | K6: 794
A7: February | B7: 83 | C7: 1176 | D7: 83 | E7: 1164 | F7: 89 | G7: 1133 | H7: 91 | I7: 1260 | J7: 84 | K7: 698
A8: March | B8: 79 | C8: 1201 | D8: 77 | E8: 1129 | F8: 79 | G8: 1108 | H8: 75 | I8: 770 | J8: 95 | K8: 686
A9: April | B9: 69 | C9: 1030 | D9: 61 | E9: 959 | F9: 79 | G9: 968 | H9: 47 | I9: 429 | J9: 93 | K9: 702
A10: May | B10: 71 | C10: 1061 | D10: 70 | E10: 967 | F10: 60 | G10: 931 | H10: 80 | I10: 565 | J10: 68 | K10: 697
A11: June | B11: 78 | C11: 909 | D11: 63 | E11: 932 | F11: 61 | G11: 888 | H11: 66 | I11: 570 | J11: 78 | K11: 704
A12: July | B12: 53 | C12: 965 | D12: 65 | E12: 874 | F12: 80 | G12: 890 | H12: 87 | I12: 667 | J12: 117 | K12: 741
A13: August | B13: 68 | C13: 1043 | D13: 86 | E13: 1056 | F13: 86 | G13: 1080 | H13: 74 | I13: 671 | J13: 96 | K13: 791
A14: September | B14: 91 | C14: 1111 | D14: 79 | E14: 1223 | F14: 84 | G14: 1192 | H14: 98 | I14: 792 | J14: 106 | K14: 888
A15: October | B15: 92 | C15: 1365 | D15: 93 | E15: 1396 | F15: 89 | G15: 1413 | H15: 108 | I15: 918 | J15: 104 | K15: 1069
A16: November | B16: 87 | C16: 1303 | D16: 96 | E16: 1336 | F16: 118 | G16: 1368 | H16: 98 | I16: 916 | J16: 118 | K16: 1065
A17: December | B17: 99 | C17: 1386 | D17: 111 | E17: 1393 | F17: 110 | G17: 1332 | H17: 107 | I17: 949 | J17: 110 | K17: 1003
A18: Total | B18: 964 | C18: 13882 | D18: 994 | E18: 13754 | F18: 1026 | G18: 13533 | H18: 1038 | I18: 9755 | J18: 1168 | K18: 9838

Sheet Table 7G
A1: =Parameters!$A$84 -> TABLE 7G PEDESTRIANS KILLED AND INJURED BY AGE 2017-2021
B4: 2017 | D4: 2018 | F4: 2019 | H4: 2020 | J4: 2021
A5: Age | B5: Killed | C5: Injured | D5: Killed | E5: Injured | F5: Killed | G5: Injured | H5: Killed | I5: Injured | J5: Killed | K5: Injured
A6: 0-4 | B6: 9 | C6: 239 | D6: 11 | E6: 248 | F6: 7 | G6: 211 | H6: 8 | I6: 164 | J6: 6 | K6: 171
A7: 5-14 | B7: 11 | C7: 1436 | D7: 15 | E7: 1293 | F7: 15 | G7: 1277 | H7: 17 | I7: 591 | J7: 14 | K7: 731
A8: 15-24 | B8: 88 | C8: 2868 | D8: 112 | E8: 2617 | F8: 71 | G8: 2536 | H8: 88 | I8: 1566 | J8: 89 | K8: 1567
A9: 25-34 | B9: 145 | C9: 2461 | D9: 134 | E9: 2434 | F9: 193 | G9: 2437 | H9: 198 | I9: 1879 | J9: 241 | K9: 1929
A10: 35-44 | B10: 126 | C10: 1727 | D10: 129 | E10: 1844 | F10: 152 | G10: 1833 | H10: 174 | I10: 1469 | J10: 210 | K10: 1508
A11: 45-54 | B11: 156 | C11: 1874 | D11: 163 | E11: 1867 | F11: 155 | G11: 1785 | H11: 168 | I11: 1361 | J11: 168 | K11: 1359
A12: 55-64 | B12: 203 | C12: 1980 | D12: 210 | E12: 2022 | F12: 199 | G12: 1917 | H12: 188 | I12: 1486 | J12: 214 | K12: 1428
A13: 65-74 | B13: 113 | C13: 1121 | D13: 110 | E13: 1205 | F13: 127 | G13: 1260 | H13: 113 | I13: 958 | J13: 131 | K13: 967
A14: 75-84 | B14: 81 | C14: 575 | D14: 77 | E14: 548 | F14: 72 | G14: 591 | H14: 61 | I14: 411 | J14: 66 | K14: 389
A15: 85 and over | B15: 26 | C15: 143 | D15: 32 | E15: 162 | F15: 37 | G15: 170 | H15: 27 | I15: 120 | J15: 23 | K15: 103
A16: Not stated | B16: 5 | C16: 130 | D16: 4 | E16: 114 | F16: 6 | G16: 109 | H16: 1 | I16: 106 | J16: 7 | K16: 124
A17: Total | B17: 963 | C17: 14554 | D17: 997 | E17: 14354 | F17: 1034 | G17: 14126 | H17: 1043 | I17: 10111 | J17: 1169 | K17: 10276

Sheet Table 7H
A1: =Parameters!$A$87 -> TABLE 7H FATAL AND INJURY MOTORCYCLE CRASHES BY MONTH 2017-2021
B4: 2017 | D4: 2018 | F4: 2019 | H4: 2020 | J4: 2021
A5: Month* | B5: Fatal | C5: Injury | D5: Fatal | E5: Injury | F5: Fatal | G5: Injury | H5: Fatal | I5: Injury | J5: Fatal | K5: Injury
A6: January | B6: 20 | C6: 651 | D6: 41 | E6: 834 | F6: 20 | G6: 715 | H6: 30 | I6: 820 | J6: 35 | K6: 600
A7: February | B7: 28 | C7: 652 | D7: 34 | E7: 1023 | F7: 20 | G7: 560 | H7: 43 | I7: 1006 | J7: 36 | K7: 646
A8: March | B8: 39 | C8: 1194 | D8: 35 | E8: 873 | F8: 44 | G8: 961 | H8: 31 | I8: 607 | J8: 57 | K8: 797
A9: April | B9: 65 | C9: 1266 | D9: 49 | E9: 1164 | F9: 38 | G9: 1106 | H9: 34 | I9: 582 | J9: 62 | K9: 994
A10: May | B10: 45 | C10: 1309 | D10: 40 | E10: 1189 | F10: 46 | G10: 1052 | H10: 50 | I10: 844 | J10: 56 | K10: 1057
A11: June | B11: 58 | C11: 1323 | D11: 56 | E11: 1335 | F11: 56 | G11: 1297 | H11: 46 | I11: 846 | J11: 63 | K11: 1108
A12: July | B12: 61 | C12: 1308 | D12: 45 | E12: 1300 | F12: 54 | G12: 1232 | H12: 52 | I12: 1004 | J12: 69 | K12: 1097
A13: August | B13: 57 | C13: 1336 | D13: 42 | E13: 1428 | F13: 48 | G13: 1407 | H13: 57 | I13: 992 | J13: 57 | K13: 1145
A14: September | B14: 62 | C14: 1394 | D14: 52 | E14: 1396 | F14: 51 | G14: 1337 | H14: 75 | I14: 1028 | J14: 57 | K14: 1177
A15: October | B15: 52 | C15: 1534 | D15: 49 | E15: 1427 | F15: 43 | G15: 1353 | H15: 59 | I15: 1059 | J15: 56 | K15: 1054
A16: November | B16: 40 | C16: 1078 | D16: 42 | E16: 1066 | F16: 38 | G16: 994 | H16: 52 | I16: 844 | J16: 48 | K16: 936
A17: December | B17: 39 | C17: 862 | D17: 29 | E17: 847 | F17: 22 | G17: 693 | H17: 42 | I17: 654 | J17: 35 | K17: 607
A18: Total | B18: 566 | C18: 13907 | D18: 514 | E18: 13882 | F18: 480 | G18: 12707 | H18: 571 | I18: 10286 | J18: 631 | K18: 11218
A20: *May be under reported for non-CHP agencies due to a traffic crash report form revision July 2003. (See Preface for details.)

Sheet Table 7I
A1: =Parameters!$A$100 -> TABLE 7I MOTORCYCLISTS KILLED AND INJURED BY AGE 2017-2021
B4: 2017 | D4: 2018 | F4: 2019 | H4: 2020 | J4: 2021
A5: Age* | B5: Killed | C5: Injured | D5: Killed | E5: Injured | F5: Killed | G5: Injured | H5: Killed | I5: Injured | J5: Killed | K5: Injured
A6: 0-4 | B6: 0 | C6: 9 | D6: 1 | E6: 8 | F6: 0 | G6: 12 | H6: 0 | I6: 9 | J6: 0 | K6: 14
A7: 5-14 | B7: 0 | C7: 91 | D7: 2 | E7: 143 | F7: 1 | G7: 116 | H7: 5 | I7: 141 | J7: 6 | K7: 196
A8: 15-24 | B8: 103 | C8: 2986 | D8: 95 | E8: 2855 | F8: 72 | G8: 2403 | H8: 73 | I8: 1993 | J8: 91 | K8: 2019
A9: 25-34 | B9: 148 | C9: 4552 | D9: 136 | E9: 4424 | F9: 140 | G9: 4138 | H9: 144 | I9: 3181 | J9: 154 | K9: 3424
A10: 35-44 | B10: 103 | C10: 2318 | D10: 83 | E10: 2358 | F10: 79 | G10: 2333 | H10: 108 | I10: 1912 | J10: 119 | K10: 2289
A11: 45-54 | B11: 86 | C11: 2059 | D11: 87 | E11: 2109 | F11: 82 | G11: 1857 | H11: 94 | I11: 1511 | J11: 119 | K11: 1640
A12: 55-64 | B12: 81 | C12: 1484 | D12: 76 | E12: 1551 | F12: 63 | G12: 1415 | H12: 88 | I12: 1237 | J12: 84 | K12: 1292
A13: 65-74 | B13: 31 | C13: 514 | D13: 26 | E13: 484 | F13: 38 | G13: 524 | H13: 45 | I13: 446 | J13: 34 | K13: 463
A14: 75-84 | B14: 13 | C14: 74 | D14: 5 | E14: 74 | F14: 7 | G14: 73 | H14: 8 | I14: 71 | J14: 10 | K14: 76
A15: 85 and over | B15: 0 | C15: 5 | D15: 0 | E15: 7 | F15: 2 | G15: 7 | H15: 0 | I15: 5 | J15: 2 | K15: 8
A16: Not stated | B16: 1 | C16: 56 | D16: 0 | E16: 60 | F16: 0 | G16: 57 | H16: 0 | I16: 47 | J16: 0 | K16: 44
A17: Total | B17: 566 | C17: 14148 | D17: 511 | E17: 14073 | F17: 484 | G17: 12935 | H17: 565 | I17: 10553 | J17: 619 | K17: 11465
A19: *May be under reported for non-CHP agencies due to a traffic crash report form revision July 2003. (See Preface for details.)

Sheet Table 7J
A1: =Parameters!$A$103 -> TABLE 7J FATAL AND INJURY MOTORCYCLE CRASHES BY COUNTY 2017-2021
B4: 2017 | D4: 2018 | F4: 2019 | H4: 2020 | J4: 2021
A5: County* | B5: Fatal | C5: Injury | D5: Fatal | E5: Injury | F5: Fatal | G5: Injury | H5: Fatal | I5: Injury | J5: Fatal | K5: Injury
A6: Alameda | B6: 15 | C6: 610 | D6: 11 | E6: 669 | F6: 15 | G6: 631 | H6: 19 | I6: 448 | J6: 13 | K6: 403
A7: Alpine | B7: 1 | C7: 6 | D7: 1 | E7: 3 | F7: 1 | G7: 9 | H7: 0 | I7: 10 | J7: 0 | K7: 4
A8: Amador | B8: 2 | C8: 24 | D8: 3 | E8: 31 | F8: 1 | G8: 18 | H8: 4 | I8: 29 | J8: 1 | K8: 23
A9: Butte | B9: 2 | C9: 66 | D9: 6 | E9: 71 | F9: 3 | G9: 69 | H9: 7 | I9: 70 | J9: 10 | K9: 61
A10: Calaveras | B10: 7 | C10: 45 | D10: 3 | E10: 40 | F10: 0 | G10: 32 | H10: 3 | I10: 26 | J10: 6 | K10: 39
A11: Colusa | B11: 1 | C11: 6 | D11: 0 | E11: 7 | F11: 0 | G11: 7 | H11: 1 | I11: 9 | J11: 0 | K11: 15
A12: Contra Costa | B12: 11 | C12: 268 | D12: 8 | E12: 307 | F12: 10 | G12: 312 | H12: 11 | I12: 203 | J12: 9 | K12: 227
A13: Del Norte | B13: 2 | C13: 10 | D13: 0 | E13: 9 | F13: 1 | G13: 14 | H13: 0 | I13: 17 | J13: 0 | K13: 10
A14: El Dorado | B14: 3 | C14: 71 | D14: 7 | E14: 113 | F14: 5 | G14: 54 | H14: 6 | I14: 86 | J14: 4 | K14: 84
A15: Fresno | B15: 22 | C15: 116 | D15: 11 | E15: 129 | F15: 14 | G15: 117 | H15: 22 | I15: 157 | J15: 21 | K15: 206
A16: Glenn | B16: 0 | C16: 2 | D16: 0 | E16: 4 | F16: 0 | G16: 4 | H16: 0 | I16: 5 | J16: 1 | K16: 3
A17: Humboldt | B17: 2 | C17: 59 | D17: 2 | E17: 56 | F17: 2 | G17: 47 | H17: 3 | I17: 42 | J17: 1 | K17: 45
... A64: Total | B64: 566 | C64: 13907 | D64: 514 | E64: 13882 | F64: 480 | G64: 12707 | H64: 571 | I64: 10286 | J64: 631 | K64: 11218
A66: *May be under reported for non-CHP agencies due to a traffic crash report form revision July 2003. (See Preface for details.)

Sheet Table 7K
A1: =Parameters!$A$106 -> TABLE 7K MOTORCYCLE DRIVERS AT FAULT IN FATAL CRASHES BY AGE BY PRIMARY CRASH FACTOR - 2021
A4: Primary Crash Factor* | B4: 0-14 | C4: 15-19 | D4: 20-24 | E4: 25-29 | F4: 30-34 | G4: 35-39 | H4: 40-44 | I4: 45-49 | J4: 50-54 | K4: 55-59 | L4: 60-64 | M4: 65 and over | N4: Total
A5: Driving Or Bicycling Under Influence Of Alcohol Or Drug | B5: 1 | C5: 0 | D5: 5 | E5: 18 | F5: 14 | G5: 15 | H5: 8 | I5: 12 | J5: 15 | K5: 7 | L5: 5 | M5: 6 | N5: 106
A6: Unsafe Speed | B6: 0 | C6: 5 | D6: 24 | E6: 21 | F6: 24 | G6: 16 | H6: 13 | I6: 16 | J6: 15 | K6: 10 | L6: 9 | M6: 5 | N6: 158
A7: Wrong Side Of Road | B7: 0 | C7: 0 | D7: 2 | E7: 3 | F7: 2 | G7: 1 | H7: 1 | I7: 2 | J7: 5 | K7: 0 | L7: 0 | M7: 3 | N7: 19
A8: Improper Passing | B8: 0 | C8: 1 | D8: 0 | E8: 1 | F8: 0 | G8: 2 | H8: 0 | I8: 1 | J8: 0 | K8: 0 | L8: 0 | M8: 0 | N8: 5
A9: Unsafe Lane Change | B9: 0 | C9: 0 | D9: 0 | E9: 0 | F9: 0 | G9: 0 | H9: 1 | I9: 0 | J9: 2 | K9: 1 | L9: 1 | M9: 0 | N9: 5
A10: Improper Turning | B10: 2 | C10: 3 | D10: 13 | E10: 8 | F10: 6 | G10: 10 | H10: 12 | I10: 5 | J10: 11 | K10: 5 | L10: 9 | M10: 10 | N10: 94
A11: Automobile Right-Of-Way | B11: 0 | C11: 1 | D11: 4 | E11: 0 | F11: 1 | G11: 2 | H11: 1 | I11: 2 | J11: 1 | K11: 1 | L11: 1 | M11: 2 | N11: 16
A12: Pedestrian Right-Of-Way | B12: 0 | C12: 0 | D12: 0 | E12: 0 | F12: 0 | G12: 1 | H12: 0 | I12: 0 | J12: 0 | K12: 0 | L12: 0 | M12: 0 | N12: 1
A13: Traffic Signals And Signs | B13: 0 | C13: 0 | D13: 3 | E13: 8 | F13: 7 | G13: 1 | H13: 3 | I13: 2 | J13: 1 | K13: 1 | L13: 1 | M13: 2 | N13: 29
A14: Other Equipment | B14: 0 | C14: 0 | D14: 0 | E14: 0 | F14: 0 | G14: 0 | H14: 0 | I14: 0 | J14: 0 | K14: 1 | L14: 0 | M14: 0 | N14: 1
A15: Other Hazardous Violation | B15: 0 | C15: 0 | D15: 1 | E15: 1 | F15: 2 | G15: 0 | H15: 0 | I15: 1 | J15: 0 | K15: 0 | L15: 0 | M15: 0 | N15: 5
A16: Other Improper Driving | B16: 0 | C16: 0 | D16: 1 | E16: 0 | F16: 0 | G16: 0 | H16: 0 | I16: 0 | J16: 0 | K16: 0 | L16: 0 | M16: 1 | N16: 2
... A18: Total | B18: 3 | C18: 10 | D18: 53 | E18: 60 | F18: 56 | G18: 48 | H18: 40 | I18: 41 | J18: 50 | K18: 26 | L18: 26 | M18: 29 | N18: 442
A20: *May be under reported for non-CHP agencies due to a traffic crash report form revision July 2003. (See Preface for details.)

Sheet Table 7L
A1: =Parameters!$A$109 -> TABLE 7L MOTORCYCLE DRIVERS AT FAULT IN INJURY CRASHES BY AGE BY PRIMARY CRASH FACTOR - 2021
A4: Primary Crash Factor* | B4: 0-14 | C4: 15-19 | D4: 20-24 | E4: 25-29 | F4: 30-34 | G4: 35-39 | H4: 40-44 | I4: 45-49 | J4: 50-54 | K4: 55-59 | L4: 60-64 | M4: 65 and over | N4: Not stated | O4: Total
A5: Driving Or Bicycling Under Influence Of Alcohol Or Drug | B5: 0 | C5: 6 | D5: 46 | E5: 79 | F5: 88 | G5: 54 | H5: 46 | I5: 36 | J5: 53 | K5: 27 | L5: 16 | M5: 19 | N5: 0 | O5: 470
A6: Impeding Traffic | B6: 0 | C6: 0 | D6: 0 | E6: 0 | F6: 0 | G6: 0 | H6: 0 | I6: 0 | J6: 1 | K6: 0 | L6: 0 | M6: 0 | N6: 0 | O6: 1
A7: Unsafe Speed | B7: 21 | C7: 133 | D7: 460 | E7: 482 | F7: 397 | G7: 297 | H7: 251 | I7: 202 | J7: 184 | K7: 167 | L7: 131 | M7: 132 | N7: 25 | O7: 2882
A8: Following Too Closely | B8: 0 | C8: 3 | D8: 7 | E8: 10 | F8: 7 | G8: 5 | H8: 6 | I8: 2 | J8: 5 | K8: 1 | L8: 3 | M8: 3 | N8: 2 | O8: 54
A9: Wrong Side Of Road | B9: 4 | C9: 17 | D9: 21 | E9: 30 | F9: 22 | G9: 29 | H9: 15 | I9: 12 | J9: 17 | K9: 9 | L9: 14 | M9: 14 | N9: 6 | O9: 210
A10: Improper Passing | B10: 3 | C10: 14 | D10: 30 | E10: 35 | F10: 45 | G10: 34 | H10: 20 | I10: 11 | J10: 18 | K10: 15 | L10: 11 | M10: 7 | N10: 4 | O10: 247
A11: Unsafe Lane Change | B11: 0 | C11: 1 | D11: 31 | E11: 28 | F11: 28 | G11: 20 | H11: 11 | I11: 13 | J11: 15 | K11: 17 | L11: 13 | M11: 10 | N11: 1 | O11: 188
A12: Improper Turning | B12: 24 | C12: 81 | D12: 201 | E12: 255 | F12: 199 | G12: 171 | H12: 131 | I12: 126 | J12: 137 | K12: 107 | L12: 105 | M12: 102 | N12: 12 | O12: 1651
A13: Automobile Right-Of-Way | B13: 13 | C13: 27 | D13: 33 | E13: 38 | F13: 28 | G13: 20 | H13: 17 | I13: 12 | J13: 12 | K13: 17 | L13: 12 | M13: 10 | N13: 4 | O13: 243
A14: Pedestrian Right-Of-Way | B14: 0 | C14: 0 | D14: 2 | E14: 2 | F14: 1 | G14: 0 | H14: 0 | I14: 0 | J14: 1 | K14: 0 | L14: 0 | M14: 2 | N14: 3 | O14: 11
A15: Pedestrian Violation | B15: 1 | C15: 0 | D15: 0 | E15: 0 | F15: 0 | G15: 0 | H15: 0 | I15: 0 | J15: 0 | K15: 1 | L15: 0 | M15: 0 | N15: 0 | O15: 2
A16: Traffic Signals And Signs | B16: 13 | C16: 34 | D16: 45 | E16: 39 | F16: 34 | G16: 23 | H16: 24 | I16: 6 | J16: 9 | K16: 16 | L16: 5 | M16: 10 | N16: 6 | O16: 264
... A23: Total | B23: 87 | C23: 339 | D23: 915 | E23: 1037 | F23: 873 | G23: 688 | H23: 544 | I23: 431 | J23: 466 | K23: 388 | L23: 321 | M23: 316 | N23: 68 | O23: 6473
A25: *May be under reported for non-CHP agencies due to a traffic crash report form revision July 2003. (See Preface for details.)

Sheet Table 7M
A1: =Parameters!$A$112 -> TABLE 7M FATAL AND INJURY BICYCLE CRASHES BY MONTH 2017-2021
B4: 2017 | D4: 2018 | F4: 2019 | H4: 2020 | J4: 2021
A5: Month | B5: Fatal | C5: Injury | D5: Fatal | E5: Injury | F5: Fatal | G5: Injury | H5: Fatal | I5: Injury | J5: Fatal | K5: Injury
A6: January | B6: 10 | C6: 666 | D6: 8 | E6: 747 | F6: 16 | G6: 682 | H6: 13 | I6: 725 | J6: 11 | K6: 520
A7: February | B7: 10 | C7: 629 | D7: 18 | E7: 840 | F7: 8 | G7: 561 | H7: 3 | I7: 769 | J7: 8 | K7: 476
A8: March | B8: 13 | C8: 983 | D8: 9 | E8: 780 | F8: 12 | G8: 738 | H8: 12 | I8: 580 | J8: 13 | K8: 590
A9: April | B9: 15 | C9: 953 | D9: 13 | E9: 857 | F9: 10 | G9: 829 | H9: 11 | I9: 454 | J9: 14 | K9: 619
A10: May | B10: 14 | C10: 1076 | D10: 10 | E10: 999 | F10: 12 | G10: 887 | H10: 16 | I10: 689 | J10: 12 | K10: 702
A11: June | B11: 10 | C11: 952 | D11: 12 | E11: 909 | F11: 13 | G11: 868 | H11: 11 | I11: 723 | J11: 11 | K11: 650
A12: July | B12: 12 | C12: 1019 | D12: 21 | E12: 905 | F12: 18 | G12: 937 | H12: 17 | I12: 724 | J12: 11 | K12: 667
A13: August | B13: 14 | C13: 1047 | D13: 22 | E13: 1010 | F13: 9 | G13: 984 | H13: 14 | I13: 716 | J13: 15 | K13: 663
A14: September | B14: 20 | C14: 1001 | D14: 19 | E14: 1078 | F14: 15 | G14: 1071 | H14: 13 | I14: 671 | J14: 12 | K14: 831
A15: October | B15: 17 | C15: 1104 | D15: 17 | E15: 1169 | F15: 16 | G15: 1073 | H15: 18 | I15: 747 | J15: 11 | K15: 749
A16: November | B16: 12 | C16: 919 | D16: 18 | E16: 904 | F16: 15 | G16: 837 | H16: 16 | I16: 576 | J16: 12 | K16: 638
A17: December | B17: 16 | C17: 789 | D17: 11 | E17: 714 | F17: 18 | G17: 625 | H17: 10 | I17: 538 | J17: 10 | K17: 489
A18: Total | B18: 163 | C18: 11138 | D18: 178 | E18: 10912 | F18: 162 | G18: 10092 | H18: 154 | I18: 7912 | J18: 140 | K18: 7594

Sheet Table 7N
A1: =Parameters!$A$115 -> TABLE 7N BICYCLISTS KILLED AND INJURED BY AGE 2017-2021
B4: 2017 | D4: 2018 | F4: 2019 | H4: 2020 | J4: 2021
A5: Age | B5: Killed | C5: Injured | D5: Killed | E5: Injured | F5: Killed | G5: Injured | H5: Killed | I5: Injured | J5: Killed | K5: Injured
A6: 0-4 | B6: 0 | C6: 18 | D6: 0 | E6: 19 | F6: 0 | G6: 17 | H6: 1 | I6: 25 | J6: 0 | K6: 25
A7: 5-14 | B7: 2 | C7: 1078 | D7: 2 | E7: 1024 | F7: 1 | G7: 932 | H7: 6 | I7: 620 | J7: 5 | K7: 789
A8: 15-24 | B8: 16 | C8: 2441 | D8: 14 | E8: 2164 | F8: 11 | G8: 1990 | H8: 11 | I8: 1318 | J8: 13 | K8: 1295
A9: 25-34 | B9: 14 | C9: 2142 | D9: 22 | E9: 2112 | F9: 17 | G9: 2004 | H9: 15 | I9: 1540 | J9: 13 | K9: 1294
A10: 35-44 | B10: 21 | C10: 1507 | D10: 28 | E10: 1504 | F10: 26 | G10: 1465 | H10: 23 | I10: 1182 | J10: 21 | K10: 1082
A11: 45-54 | B11: 39 | C11: 1794 | D11: 31 | E11: 1683 | F11: 28 | G11: 1541 | H11: 23 | I11: 1242 | J11: 27 | K11: 1093
A12: 55-64 | B12: 37 | C12: 1409 | D12: 38 | E12: 1558 | F12: 38 | G12: 1377 | H12: 46 | I12: 1193 | J12: 27 | K12: 1201
A13: 65-74 | B13: 20 | C13: 531 | D13: 25 | E13: 585 | F13: 28 | G13: 528 | H13: 18 | I13: 612 | J13: 21 | K13: 583
A14: 75-84 | B14: 10 | C14: 134 | D14: 12 | E14: 156 | F14: 8 | G14: 166 | H14: 9 | I14: 153 | J14: 10 | K14: 193
A15: 85 and over | B15: 2 | C15: 24 | D15: 2 | E15: 29 | F15: 4 | G15: 27 | H15: 1 | I15: 22 | J15: 1 | K15: 19
A16: Not stated | B16: 1 | C16: 70 | D16: 3 | E16: 66 | F16: 0 | G16: 56 | H16: 0 | I16: 34 | J16: 2 | K16: 51
A17: Total | B17: 162 | C17: 11148 | D17: 177 | E17: 10900 | F17: 161 | G17: 10103 | H17: 153 | I17: 7941 | J17: 140 | K17: 7625

Sheet Table 7O
A1: =Parameters!$A$118 -> TABLE 7O PERSONS KILLED AND INJURED DURING HOLIDAY PERIODS 2017-2021
A3: Holidays | B3: Start Date* | C3: End Date | D3: Days | E3: Killed | F3: Injured
A4: New Year
A5: 2017 | B5: 42734 | C5: 42737 | D5: 3.25 | E5: 36 | F5: 1862
A6: 2018 | B6: 43098 | C6: 43101 | D6: 3.25 | E6: 44 | F6: 1796
A7: 2019 | B7: 43462 | C7: 43466 | D7: 4.25 | E7: 55 | F7: 2303
A8: 2020 | B8: 43830 | C8: 43831 | D8: 1.25 | E8: 4 | F8: 674
A9: 2021 | B9: 44196 | C9: 44199 | D9: 3.25 | E9: 56 | F9: 1404
A10: Memorial Day
A11: 2017 | B11: 42881 | C11: 42884 | D11: 3.25 | E11: 45 | F11: 2240
A12: 2018 | B12: 43245 | C12: 43248 | D12: 3.25 | E12: 41 | F12: 2188
A13: 2019 | B13: 43609 | C13: 43612 | D13: 3.25 | E13: 37 | F13: 2053
A14: 2020 | B14: 43973 | C14: 43976 | D14: 3.25 | E14: 35 | F14: 1478
A15: 2021 | B15: 44344 | C15: 44347 | D15: 3.25 | E15: 42 | F15: 2157
A16: Fourth of July
A17: 2017 | B17: 42916 | C17: 42920 | D17: 4.25 | E17: 55 | F17: 3044
A18: 2018 | B18: 43284 | C18: 43285 | D18: 1.25 | E18: 19 | F18: 804
A19: 2019 | B19: 43649 | C19: 43653 | D19: 4.25 | E19: 59 | F19: 2781
A20: 2020 | B20: 44015 | C20: 44017 | D20: 2.25 | E20: 36 | F20: 1257
A21: 2021 | B21: 44379 | C21: 44382 | D21: 3.25 | E21: 52 | F21: 2218
A22: Labor Day
A23: 2017 | B23: 42979 | C23: 42982 | D23: 3.25 | E23: 35 | F23: 2232
A24: 2018 | B24: 43343 | C24: 43346 | D24: 3.25 | E24: 39 | F24: 2131
A25: 2019 | B25: 43707 | C25: 43710 | D25: 3.25 | E25: 48 | F25: 2344
A26: 2020 | B26: 44078 | C26: 44081 | D26: 3.25 | E26: 54 | F26: 2050
A27: 2021 | B27: 44442 | C27: 44445 | D27: 3.25 | E27: 43 | F27: 2213
A28: Thanksgiving
A29: 2017 | B29: 43061 | C29: 43065 | D29: 4.25 | E29: 78 | F29: 2741
A30: 2018 | B30: 43425 | C30: 43429 | D30: 4.25 | E30: 61 | F30: 2896
A31: 2019 | B31: 43796 | C31: 43800 | D31: 4.25 | E31: 46 | F31: 2701
A32: 2020 | B32: 44160 | C32: 44164 | D32: 4.25 | E32: 55 | F32: 2147
A33: 2021 | B33: 44524 | C33: 44528 | D33: 4.25 | E33: 61 | F33: 2372
A34: Christmas
A35: 2017 | B35: 43091 | C35: 43094 | D35: 3.25 | E35: 40 | F35: 1807
A36: 2018 | B36: 43455 | C36: 43459 | D36: 4.25 | E36: 57 | F36: 2742
A37: 2019 | B37: 43823 | C37: 43824 | D37: 1.25 | E37: 11 | F37: 537
A38: 2020 | B38: 44189 | C38: 44192 | D38: 3.25 | E38: 44 | F38: 1398
A39: 2021 | B39: 44554 | C39: 44556 | D39: 2.25 | E39: 24 | F39: 1104
A41: *The first day of each holiday time period starts at 1801 hours.

Sheet Table 7P
A1: =Parameters!$A$122 -> TABLE 7P PERSONS KILLED AND INJURED IN ALCOHOL INVOLVED CRASHES DURING HOLIDAY PERIODS 2017-2021
A3: Holidays | B3: Start Date* | C3: End Date | D3: Days | E3: Killed | F3: Injured
A4: New Year
A5: 2017 | B5: 42734 | C5: 42737 | D5: 3.25 | E5: 19 | F5: 310
A6: 2018 | B6: 43098 | C6: 43101 | D6: 3.25 | E6: 17 | F6: 328
A7: 2019 | B7: 43462 | C7: 43466 | D7: 4.25 | E7: 30 | F7: 372
A8: 2020 | B8: 43830 | C8: 43831 | D8: 1.25 | E8: 1 | F8: 159
A9: 2021 | B9: 44196 | C9: 44199 | D9: 3.25 | E9: 27 | F9: 290
A10: Memorial Day
A11: 2017 | B11: 42881 | C11: 42884 | D11: 3.25 | E11: 15 | F11: 322
A12: 2018 | B12: 43245 | C12: 43248 | D12: 3.25 | E12: 16 | F12: 343
A13: 2019 | B13: 43609 | C13: 43612 | D13: 3.25 | E13: 15 | F13: 319
A14: 2020 | B14: 43973 | C14: 43976 | D14: 3.25 | E14: 20 | F14: 254
A15: 2021 | B15: 44344 | C15: 44347 | D15: 3.25 | E15: 19 | F15: 427
A16: Fourth of July
A17: 2017 | B17: 42916 | C17: 42920 | D17: 4.25 | E17: 26 | F17: 438
A18: 2018 | B18: 43284 | C18: 43285 | D18: 1.25 | E18: 10 | F18: 130
A19: 2019 | B19: 43649 | C19: 43653 | D19: 4.25 | E19: 27 | F19: 409
A20: 2020 | B20: 44015 | C20: 44017 | D20: 2.25 | E20: 16 | F20: 238
A21: 2021 | B21: 44379 | C21: 44382 | D21: 3.25 | E21: 19 | F21: 453
A22: Labor Day
A23: 2017 | B23: 42979 | C23: 42982 | D23: 3.25 | E23: 11 | F23: 388
A24: 2018 | B24: 43343 | C24: 43346 | D24: 3.25 | E24: 17 | F24: 393
A25: 2019 | B25: 43707 | C25: 43710 | D25: 3.25 | E25: 15 | F25: 373
A26: 2020 | B26: 44078 | C26: 44081 | D26: 3.25 | E26: 16 | F26: 330
A27: 2021 | B27: 44442 | C27: 44445 | D27: 3.25 | E27: 22 | F27: 421
A28: Thanksgiving
A29: 2017 | B29: 43061 | C29: 43065 | D29: 4.25 | E29: 34 | F29: 453
A30: 2018 | B30: 43425 | C30: 43429 | D30: 4.25 | E30: 23 | F30: 423
A31: 2019 | B31: 43796 | C31: 43800 | D31: 4.25 | E31: 15 | F31: 392
A32: 2020 | B32: 44160 | C32: 44164 | D32: 4.25 | E32: 29 | F32: 348
A33: 2021 | B33: 44524 | C33: 44528 | D33: 4.25 | E33: 24 | F33: 427
A34: Christmas
A35: 2017 | B35: 43091 | C35: 43094 | D35: 3.25 | E35: 23 | F35: 335
A36: 2018 | B36: 43455 | C36: 43459 | D36: 4.25 | E36: 19 | F36: 458
A37: 2019 | B37: 43823 | C37: 43824 | D37: 1.25 | E37: 4 | F37: 95
A38: 2020 | B38: 44189 | C38: 44192 | D38: 3.25 | E38: 12 | F38: 219
A39: 2021 | B39: 44554 | C39: 44556 | D39: 2.25 | E39: 5 | F39: 233
A41: *The first day of each holiday time period starts at 1801 hours.

Sheet Table 7Q
A1: =Parameters!$A$126 -> TABLE 7Q CRASHES, VICTIMS, VEHICLE MILES OF TRAVEL, MOTOR VEHICLE REGISTRATION, POPULATION,
A2: =Parameters!$A$127 -> AND MILEAGE DEATH RATE 1933 - 2021
C4: Crashes | E4: Victims | G4: Vehicle Miles of Travel2/ | H4: Motor Vehicle Registration | I4: Population | J4: Mileage Death Rate1/
A5: Year | C5: Fatal | D5: Injury | E5: Killed | F5: Injured
A6: 19333/ | C6: 2230 | D6: 29677 | E6: 2403 | F6: 43856 | G6: 15895463368 | H6: 1966931 | I6: 5963000 | J6: 15.1
A7: 19343/ | C7: 2576 | D7: 30163 | E7: 2805 | F7: 45153 | G7: 15987226805 | H7: 2001410 | I7: 6060000 | J7: 17.5
A8: 19353/ | C8: 2607 | D8: 31122 | E8: 2806 | F8: 47078 | G8: 17870987044 | H8: 2159601 | I8: 6175000 | J8: 15.7
A9: 19363/ | C9: 2838 | D9: 33478 | E9: 3132 | F9: 49326 | G9: 19470191553 | H9: 2336845 | I9: 6341000 | J9: 16.1
A10: 19373/ | C10: 2850 | D10: 35118 | E10: 3139 | F10: 52351 | G10: 20644669804 | H10: 2494713 | I10: 6528000 | J10: 15.2
A11: 19383/ | C11: 2550 | D11: 34093 | E11: 2775 | F11: 51150 | G11: 20597907614 | H11: 2521476 | I11: 6656000 | J11: 13.5
A12: 19393/ | C12: 2613 | D12: 35629 | E12: 2870 | F12: 53878 | G12: 22077096194 | H12: 2618394 | I12: 6785000 | J12: 13
A13: 19403/ | C13: 2760 | D13: 38530 | E13: 3034 | F13: 57922 | G13: 23051915667 | H13: 2788035 | I13: 6950000 | J13: 13.1
A14: 1941 | C14: 3130 | D14: 45374 | E14: 3487 | F14: 69358 | G14: 25939020082 | H14: 2979298 | I14: 7237000 | J14: 13.5
A15: 1942 | C15: 2317 | D15: 33612 | E15: 2551 | F15: 49139 | G15: 22538208982 | H15: 2854721 | I15: 7735000 | J15: 11.3
A16: 1943 | C16: 2355 | D16: 31503 | E16: 2602 | F16: 46359 | G16: 18791213413 | H16: 2768315 | I16: 8506000 | J16: 13.8
A17: 1944 | C17: 2283 | D17: 31514 | E17: 2534 | F17: 47620 | G17: 19244240843 | H17: 2801552 | I17: 8945000 | J17: 13.2
A18: 1945 | C18: 3133 | D18: 41094 | E18: 3542 | F18: 64375 | G18: 23879494037 | H18: 2880350 | I18: 9344000 | J18: 14.8
A19: 1946 | C19: 3292 | D19: 48831 | E19: 3664 | F19: 74693 | G19: 32136521935 | H19: 3134235 | I19: 9559000 | J19: 11.4
A20: 1947 | C20: 2975 | D20: 49924 | E20: 3351 | F20: 75358 | G20: 36144483769 | H20: 3529788 | I20: 9832000 | J20: 9.3
A21: 1948 | C21: 2646 | D21: 53012 | E21: 2932 | F21: 79002 | G21: 37404270430 | H21: 3814637 | I21: 10064000 | J21: 7.8
A22: 1949 | C22: 2623 | D22: 57417 | E22: 3003 | F22: 85738 | G22: 39186696819 | H22: 4158666 | I22: 10337000 | J22: 7.7
A23: 1950 | C23: 2706 | D23: 62800 | E23: 3054 | F23: 95096 | G23: 41568161762 | H23: 4613241 | I23: 10609000 | J23: 7.3
A24: 1951 | C24: 3048 | D24: 66591 | E24: 3466 | F24: 102563 | G24: 45165768095 | H24: 4913891 | I24: 11058000 | J24: 7.7
A25: 1952 | C25: 3061 | D25: 71311 | E25: 3562 | F25: 110874 | G25: 48347307772 | H25: 5135893 | I25: 11743000 | J25: 7.4
... A94: 2021 | C94: 4161 | D94: 157875 | E94: 4477 | F94: 225109 | G94: 310821000000 | H94: 32690168 | I94: 39239554 | J94: 1.44
A96: 1/Number of persons killed per 100 million miles of travel.
A97: 2/The 2021 vehicle miles of travel is an estimate. Source: California Department of Transportation.
A98: 3/Accident and victim data for 1933 through 1940 include private property.

Sheet Parameters
A1: Start_year | B1: End_year
A2: 2017 | B2: 2021
A4: Start_year2 | B4: End_year2
A5: 2020 | B5: 2021
A7: Crash_year
A8: 2021
A10: Start_year3 | B10: End_year3
A11: 2019 | B11: 2021
A14: Title 7A
A15: ="TABLE 7A FATAL AND INJURY CRASHES BY PRIMARY CRASH FACTOR "&A2&"-"&B2 -> TABLE 7A FATAL AND INJURY CRASHES BY PRIMARY CRASH FACTOR 2017-2021
A17: Title 7B
A18: ="TABLE 7B PERSONS KILLED AND INJURED BY PRIMARY CRASH FACTOR "&A2&"-"&B2 -> TABLE 7B PERSONS KILLED AND INJURED BY PRIMARY CRASH FACTOR 2017-2021
A20: Title 7C
A21: TABLE 7C ESTIMATED COST PER PERSON AND PER CRASH BY VICTIM SEVERITY AND
A22: ="PROPERTY DAMAGE ONLY CRASHES "&A5&"-"&B5 -> PROPERTY DAMAGE ONLY CRASHES 2020-2021
A24: Victim Severity Counts autoload into Table 7C Calculations tab
B25: Crash Year
A26: Victim Severity | B26: 2020 | C26: 2021
A27: Killed | B27: 3982 | C27: 4477
A28: Serious Injury | B28: 15392 | C28: 18084
A29: Minor Injury | B29: 60099 | C29: 71215
A30: Possible Injury | B30: 128397 | C30: 135810
A32: PDO Crashes count autoloads into Table 7C Calculations tab
B33: Crash Severity
A34: Crash Year | B34: PDO
A35: 2020 | B35: 220620
A36: 2021 | B36: 248535
A38: Title 7D
A39: ="TABLE 7D HIT AND RUN CRASHES AND VICTIMS BY TYPE OF CRASH - "&A8&"" -> TABLE 7D HIT AND RUN CRASHES AND VICTIMS BY TYPE OF CRASH - 2021
A41: Table 7D Chart - Hit & Run Fatal
A42: Crash Type | B42: Fatal Crashes | C42: Killed Victims
A43: Head-On | B43: 21 | C43: 22
A44: Sideswipe | B44: 25 | C44: 26
A45: Rear End | B45: 55 | C45: 61
A46: Broadside | B46: 49 | C46: 52
A47: Hit Object | B47: 19 | C47: 19
A48: Overturned | B48: 6 | C48: 7
A49: Auto/ Pedestrian | B49: 325 | C49: 330
A50: Other | B50: 19 | C50: 20
A51: Not Stated | B51: 3 | C51: 3
...

Sheet Table 7C Calculations
A1: Annual Report Table 7C Data Calculations
A2: 1. GDP Calculation (change values only in yellow highlighted cells): Refer to Bureau of Economic Analysis Table 1.1.9 Implicit Price Deflators for Gross Domestic Product)
A3: The GDP may have changed for Previous Year therefore the data for Previous Year can change between Annual Reports
A4: https://apps.bea.gov/iTable/iTable.cfm?reqid=19&step=2#reqid=19&step=2&isuri=1&1921=survey
A6: 2. Update Parameters tab with previous year and annual report year
A8: 3. Cost per and Total Cost (rounded) figures autoload into Table 7C | I8: 4. Include step to update year in formula bar (Victim counts need to be manually linked to corresponding pivot tables on parameters tab)
A10: Previous Year | B10: =Table3[Start_year2] -> 2020 | D10: 1994
B11: 113.78 | C11: ÷ | D11: 70.347 | E11: = | F11: =B11/D11 -> 1.6174108
B13: Set Value (LEAVE AS IS) | D13: GDP Value | F13: "Cost per" Value | H13: "Cost per" (rounded)
B14: 2600000 | C14: X | D14: =F11 -> 1.6174108 | E14: = | F14: =B14*D14 -> 4205268.2 | H14: =ROUND(F14,-3) -> 4205000
B15: 180000 | C15: X | D15: =F11 -> 1.6174108 | E15: = | F15: =B15*D15 -> 291133.95 | H15: =ROUND(F15,-3) -> 291000
B16: 36000 | C16: X | D16: =F11 -> 1.6174108 | E16: = | F16: =B16*D16 -> 58226.79 | H16: =ROUND(F16,-3) -> 58000
B17: 19000 | C17: X | D17: =F11 -> 1.6174108 | E17: = | F17: =B17*D17 -> 30730.806 | H17: =ROUND(F17,-3) -> 31000
B18: 2000 | C18: X | D18: =F11 -> 1.6174108 | E18: = | F18: =B18*D18 -> 3234.8217 | H18: =ROUND(F18,-3) -> 3000
A20: Victim Severity | B20: Counts | D20: Cost per | F20: Total Cost | H20: Total Cost (rounded)
A21: Killed | B21: =GETPIVOTDATA("Count",Parameters!$A$25,"Collision_Year",2020,"Victim_Severity","Killed") -> 3982 | C21: X | D21: =H14 -> 4205000 | E21: = | F21: =B21*D21 -> 16744310000 | H21: =ROUND(F21,-6) -> 16744000000
A22: Serious Injury | B22: =GETPIVOTDATA("Count",Parameters!$A$25,"Collision_Year",2020,"Victim_Severity","Serious Injury") -> 15392 | C22: X | D22: =H15 -> 291000 | E22: = | F22: =B22*D22 -> 4479072000 | H22: =ROUND(F22,-6) -> 4479000000
A23: Minor Injury | B23: =GETPIVOTDATA("Count",Parameters!$A$25,"Collision_Year",2020,"Victim_Severity","Minor Injury") -> 60099 | C23: X | D23: =H16 -> 58000 | E23: = | F23: =B23*D23 -> 3485742000 | H23: =ROUND(F23,-6) -> 3486000000
A24: Possible Injury | B24: =GETPIVOTDATA("Count",Parameters!$A$25,"Collision_Year",2020,"Victim_Severity","Possible Injury") -> 128397 | C24: X | D24: =H17 -> 31000 | E24: = | F24: =B24*D24 -> 3980307000 | H24: =ROUND(F24,-6) -> 3980000000
A25: PDO | B25: =GETPIVOTDATA("Count",Parameters!$A$33,"Collision_Year",2020,"Severity_Group_1","PDO") -> 220620 | C25: X | D25: =H18 -> 3000 | E25: = | F25: =B25*D25 -> 661860000 | H25: =ROUND(F25,-6) -> 662000000
H27: =SUM(H21:H26) -> 29351000000
A30: Annual Report Year | B30: =Table4[End_year2] -> 2021 | D30: 1994
B31: 118.9 | C31: ÷ | D31: 70.347 | E31: = | F31: =B31/D31 -> 1.6901929
B33: Set Value (LEAVE AS IS) | D33: GDP Value | F33: "Cost per" Value | H33: "Cost per" (rounded)
B34: 2600000 | C34: X | D34: =F31 -> 1.6901929 | E34: = | F34: =B34*D34 -> 4394501.5 | H34: =ROUND(F34,-3) -> 4395000
B35: 180000 | C35: X | D35: =F31 -> 1.6901929 | E35: = | F35: =B35*D35 -> 304234.72 | H35: =ROUND(F35,-3) -> 304000
B36: 36000 | C36: X | D36: =F31 -> 1.6901929 | E36: = | F36: =B36*D36 -> 60846.944 | H36: =ROUND(F36,-3) -> 61000
B37: 19000 | C37: X | D37: =F31 -> 1.6901929 | E37: = | F37: =B37*D37 -> 32113.665 | H37: =ROUND(F37,-3) -> 32000
B38: 2000 | C38: X | D38: =F31 -> 1.6901929 | E38: = | F38: =B38*D38 -> 3380.3858 | H38: =ROUND(F38,-3) -> 3000
A40: Victim Severity | B40: Counts | D40: Cost per | F40: Total Cost | H40: Total Cost (rounded)
A41: Killed | B41: =GETPIVOTDATA("Count",Parameters!$A$25,"Collision_Year",2021,"Victim_Severity","Killed") -> 4477 | C41: X | D41: =H34 -> 4395000 | E41: = | F41: =B41*D41 -> 19676415000 | H41: =ROUND(F41,-6) -> 19676000000
A42: Serious Injury | B42: =GETPIVOTDATA("Count",Parameters!$A$25,"Collision_Year",2021,"Victim_Severity","Serious Injury") -> 18084 | C42: X | D42: =H35 -> 304000 | E42: = | F42: =B42*D42 -> 5497536000 | H42: =ROUND(F42,-6) -> 5498000000
A43: Minor Injury | B43: =GETPIVOTDATA("Count",Parameters!$A$25,"Collision_Year",2021,"Victim_Severity","Minor Injury") -> 71215 | C43: X | D43: =H36 -> 61000 | E43: = | F43: =B43*D43 -> 4344115000 | H43: =ROUND(F43,-6) -> 4344000000
A44: Possible Injury | B44: =GETPIVOTDATA("Count",Parameters!$A$25,"Collision_Year",2021,"Victim_Severity","Possible Injury") -> 135810 | C44: X | D44: =H37 -> 32000 | E44: = | F44: =B44*D44 -> 4345920000 | H44: =ROUND(F44,-6) -> 4346000000
A45: PDO | B45: =GETPIVOTDATA("Count",Parameters!$A$33,"Collision_Year",2021,"Severity_Group_1","PDO") -> 248535 | C45: X | D45: =H38 -> 3000 | E45: = | F45: =B45*D45 -> 745605000 | H45: =ROUND(F45,-6) -> 746000000
H47: =SUM(H41:H46) -> 34610000000
