Workbook

Sheet Table 8A - Crashes
A1: =Parameters!$A$12 -> TABLE 8A CRASHES BY COUNTY, CITY, AND ROAD CLASSIFICATION - 2021
A3: County | B3: City | C3: Road Classification | D3: Fatal Crashes | E3: Injury Crashes | F3: Property Damage Only Crashes | G3: Alcohol Involved Fatal | H3: Alcohol Involved Injury | I3: Pedestrian Involved Fatal | J3: Pedestrian Involved Injury | K3: Bicyclist Involved Fatal | L3: Bicyclist Involved Injury | M3: Motorcycle Involved Fatal* | N3: Motorcycle Involved Injury*
A4: Alameda | D4: 99 | E4: 6386 | F4: 12269 | G4: 33 | H4: 621 | I4: 33 | J4: 478 | K4: 4 | L4: 382 | M4: 13 | N4: 403
B5: Alameda | D5: 1 | E5: 139 | F5: 343 | G5: 1 | H5: 15 | I5: 0 | J5: 23 | K5: 0 | L5: 14 | M5: 0 | N5: 6
B6: Albany | D6: 0 | E6: 69 | F6: 142 | G6: 0 | H6: 10 | I6: 0 | J6: 13 | K6: 0 | L6: 10 | M6: 0 | N6: 3
B7: Berkeley | D7: 8 | E7: 404 | F7: 647 | G7: 2 | H7: 32 | I7: 5 | J7: 46 | K7: 0 | L7: 78 | M7: 0 | N7: 30
B8: CSU Hayward | D8: 0 | E8: 0 | F8: 1 | G8: 0 | H8: 0 | I8: 0 | J8: 0 | K8: 0 | L8: 0 | M8: 0 | N8: 0
B9: Dublin | D9: 2 | E9: 106 | F9: 236 | G9: 0 | H9: 7 | I9: 1 | J9: 6 | K9: 0 | L9: 12 | M9: 0 | N9: 1
B10: Emeryville | D10: 1 | E10: 75 | F10: 309 | G10: 0 | H10: 7 | I10: 0 | J10: 7 | K10: 0 | L10: 2 | M10: 1 | N10: 6
B11: Fremont | D11: 18 | E11: 764 | F11: 932 | G11: 6 | H11: 70 | I11: 4 | J11: 32 | K11: 2 | L11: 50 | M11: 7 | N11: 41
B12: Hayward | D12: 8 | E12: 572 | F12: 1006 | G12: 4 | H12: 65 | I12: 7 | J12: 44 | K12: 0 | L12: 16 | M12: 1 | N12: 34
B13: Livermore | D13: 4 | E13: 320 | F13: 690 | G13: 1 | H13: 41 | I13: 0 | J13: 10 | K13: 0 | L13: 23 | M13: 1 | N13: 18
B14: Newark | D14: 1 | E14: 116 | F14: 177 | G14: 1 | H14: 8 | I14: 0 | J14: 1 | K14: 0 | L14: 8 | M14: 0 | N14: 9
B15: Oakland | D15: 28 | E15: 1992 | F15: 4147 | G15: 8 | H15: 171 | I15: 10 | J15: 205 | K15: 2 | L15: 88 | M15: 0 | N15: 149
B16: Piedmont | D16: 0 | E16: 11 | F16: 62 | G16: 0 | H16: 2 | I16: 0 | J16: 4 | K16: 0 | L16: 1 | M16: 0 | N16: 0
... B20: Unincorporated | D20: 17 | E20: 1048 | F20: 2267 | G20: 4 | H20: 108 | I20: 2 | J20: 37 | K20: 0 | L20: 41 | M20: 2 | N20: 75
C21: County Roadways | D21: 6 | E21: 443 | F21: 1014 | G21: 1 | H21: 58 | I21: 0 | J21: 31 | K21: 0 | L21: 34 | M21: 2 | N21: 33
C22: Uninc. State Highways | D22: 11 | E22: 605 | F22: 1253 | G22: 3 | H22: 50 | I22: 2 | J22: 6 | K22: 0 | L22: 7 | M22: 0 | N22: 42
A23: Alpine | D23: 0 | E23: 23 | F23: 42 | G23: 0 | H23: 3 | I23: 0 | J23: 0 | K23: 0 | L23: 3 | M23: 0 | N23: 4
B24: Unincorporated | D24: 0 | E24: 23 | F24: 42 | G24: 0 | H24: 3 | I24: 0 | J24: 0 | K24: 0 | L24: 3 | M24: 0 | N24: 4
C25: County Roadways | D25: 0 | E25: 6 | F25: 3 | G25: 0 | H25: 1 | I25: 0 | J25: 0 | K25: 0 | L25: 0 | M25: 0 | N25: 0
C26: Uninc. State Highways | D26: 0 | E26: 17 | F26: 39 | G26: 0 | H26: 2 | I26: 0 | J26: 0 | K26: 0 | L26: 3 | M26: 0 | N26: 4
A27: Amador | D27: 12 | E27: 202 | F27: 306 | G27: 8 | H27: 42 | I27: 2 | J27: 2 | K27: 0 | L27: 3 | M27: 1 | N27: 23
B28: Amador City | D28: 0 | E28: 1 | F28: 3 | G28: 0 | H28: 0 | I28: 0 | J28: 0 | K28: 0 | L28: 0 | M28: 0 | N28: 0
B29: Ione | D29: 0 | E29: 5 | F29: 6 | G29: 0 | H29: 0 | I29: 0 | J29: 0 | K29: 0 | L29: 1 | M29: 0 | N29: 0
B30: Jackson | D30: 2 | E30: 11 | F30: 30 | G30: 1 | H30: 2 | I30: 2 | J30: 1 | K30: 0 | L30: 1 | M30: 0 | N30: 1
B31: Plymouth | D31: 0 | E31: 1 | F31: 4 | G31: 0 | H31: 0 | I31: 0 | J31: 0 | K31: 0 | L31: 0 | M31: 0 | N31: 0
B32: Sutter Creek | D32: 1 | E32: 3 | F32: 21 | G32: 0 | H32: 0 | I32: 0 | J32: 0 | K32: 0 | L32: 0 | M32: 0 | N32: 1
B33: Unincorporated | D33: 9 | E33: 181 | F33: 242 | G33: 7 | H33: 40 | I33: 0 | J33: 1 | K33: 0 | L33: 1 | M33: 1 | N33: 21
C34: County Roadways | D34: 1 | E34: 91 | F34: 114 | G34: 0 | H34: 23 | I34: 0 | J34: 1 | K34: 0 | L34: 1 | M34: 0 | N34: 13
C35: Uninc. State Highways | D35: 8 | E35: 90 | F35: 128 | G35: 7 | H35: 17 | I35: 0 | J35: 0 | K35: 0 | L35: 0 | M35: 1 | N35: 8
A36: Butte | D36: 48 | E36: 779 | F36: 1140 | G36: 13 | H36: 138 | I36: 7 | J36: 39 | K36: 0 | L36: 43 | M36: 10 | N36: 61
B37: Biggs | D37: 0 | E37: 0 | F37: 2 | G37: 0 | H37: 0 | I37: 0 | J37: 0 | K37: 0 | L37: 0 | M37: 0 | N37: 0
B38: Chico | D38: 7 | E38: 255 | F38: 208 | G38: 0 | H38: 47 | I38: 1 | J38: 20 | K38: 0 | L38: 32 | M38: 2 | N38: 15
B39: Gridley | D39: 1 | E39: 22 | F39: 40 | G39: 0 | H39: 3 | I39: 1 | J39: 1 | K39: 0 | L39: 1 | M39: 0 | N39: 1
B40: Oroville | D40: 8 | E40: 94 | F40: 161 | G40: 3 | H40: 10 | I40: 3 | J40: 8 | K40: 0 | L40: 5 | M40: 2 | N40: 9
B41: Paradise | D41: 0 | E41: 28 | F41: 24 | G41: 0 | H41: 5 | I41: 0 | J41: 0 | K41: 0 | L41: 0 | M41: 0 | N41: 2
B42: Unincorporated | D42: 32 | E42: 380 | F42: 705 | G42: 10 | H42: 73 | I42: 2 | J42: 10 | K42: 0 | L42: 5 | M42: 6 | N42: 34
C43: County Roadways | D43: 21 | E43: 237 | F43: 443 | G43: 7 | H43: 57 | I43: 0 | J43: 7 | K43: 0 | L43: 4 | M43: 5 | N43: 25
C44: Uninc. State Highways | D44: 11 | E44: 143 | F44: 262 | G44: 3 | H44: 16 | I44: 2 | J44: 3 | K44: 0 | L44: 1 | M44: 1 | N44: 9
A45: Calaveras | D45: 14 | E45: 215 | F45: 389 | G45: 5 | H45: 44 | I45: 0 | J45: 5 | K45: 0 | L45: 2 | M45: 6 | N45: 39
B46: Angels Camp | D46: 0 | E46: 10 | F46: 34 | G46: 0 | H46: 2 | I46: 0 | J46: 0 | K46: 0 | L46: 0 | M46: 0 | N46: 3
B47: Unincorporated | D47: 14 | E47: 205 | F47: 355 | G47: 5 | H47: 42 | I47: 0 | J47: 5 | K47: 0 | L47: 2 | M47: 6 | N47: 36
C48: County Roadways | D48: 7 | E48: 72 | F48: 144 | G48: 4 | H48: 16 | I48: 0 | J48: 2 | K48: 0 | L48: 2 | M48: 4 | N48: 16
C49: Uninc. State Highways | D49: 7 | E49: 133 | F49: 211 | G49: 1 | H49: 26 | I49: 0 | J49: 3 | K49: 0 | L49: 0 | M49: 2 | N49: 20
A50: Colusa | D50: 5 | E50: 138 | F50: 259 | G50: 4 | H50: 33 | I50: 1 | J50: 1 | K50: 0 | L50: 0 | M50: 0 | N50: 15
B51: Colusa | D51: 0 | E51: 8 | F51: 7 | G51: 0 | H51: 1 | I51: 0 | J51: 0 | K51: 0 | L51: 0 | M51: 0 | N51: 0
B52: Williams | D52: 0 | E52: 1 | F52: 4 | G52: 0 | H52: 0 | I52: 0 | J52: 0 | K52: 0 | L52: 0 | M52: 0 | N52: 0
B53: Unincorporated | D53: 5 | E53: 129 | F53: 248 | G53: 4 | H53: 32 | I53: 1 | J53: 1 | K53: 0 | L53: 0 | M53: 0 | N53: 15
C54: County Roadways | D54: 1 | E54: 57 | F54: 91 | G54: 1 | H54: 15 | I54: 0 | J54: 0 | K54: 0 | L54: 0 | M54: 0 | N54: 10
C55: Uninc. State Highways | D55: 4 | E55: 72 | F55: 157 | G55: 3 | H55: 17 | I55: 1 | J55: 1 | K55: 0 | L55: 0 | M55: 0 | N55: 5
A56: Contra Costa | D56: 89 | E56: 3180 | F56: 6650 | G56: 29 | H56: 409 | I56: 19 | J56: 171 | K56: 5 | L56: 153 | M56: 9 | N56: 227
B57: Antioch | D57: 7 | E57: 214 | F57: 330 | G57: 3 | H57: 26 | I57: 1 | J57: 11 | K57: 0 | L57: 5 | M57: 1 | N57: 18
B58: Brentwood | D58: 4 | E58: 137 | F58: 220 | G58: 1 | H58: 20 | I58: 0 | J58: 8 | K58: 0 | L58: 5 | M58: 0 | N58: 8
B59: Clayton | D59: 0 | E59: 10 | F59: 20 | G59: 0 | H59: 2 | I59: 0 | J59: 0 | K59: 0 | L59: 0 | M59: 0 | N59: 1
B60: Concord | D60: 5 | E60: 459 | F60: 944 | G60: 3 | H60: 59 | I60: 3 | J60: 32 | K60: 0 | L60: 20 | M60: 1 | N60: 36
B61: Danville | D61: 0 | E61: 68 | F61: 98 | G61: 0 | H61: 6 | I61: 0 | J61: 5 | K61: 0 | L61: 7 | M61: 0 | N61: 2
B62: El Cerrito | D62: 0 | E62: 34 | F62: 152 | G62: 0 | H62: 2 | I62: 0 | J62: 6 | K62: 0 | L62: 6 | M62: 0 | N62: 2
B63: Hercules | D63: 3 | E63: 62 | F63: 80 | G63: 1 | H63: 6 | I63: 0 | J63: 2 | K63: 0 | L63: 1 | M63: 0 | N63: 2
B64: Kensington | D64: 0 | E64: 3 | F64: 24 | G64: 0 | H64: 0 | I64: 0 | J64: 0 | K64: 0 | L64: 1 | M64: 0 | N64: 0
B65: Lafayette | D65: 5 | E65: 73 | F65: 124 | G65: 2 | H65: 7 | I65: 1 | J65: 3 | K65: 1 | L65: 3 | M65: 0 | N65: 4
B66: Martinez | D66: 6 | E66: 103 | F66: 221 | G66: 1 | H66: 12 | I66: 0 | J66: 8 | K66: 1 | L66: 6 | M66: 1 | N66: 7
B67: Moraga | D67: 1 | E67: 9 | F67: 15 | G67: 0 | H67: 1 | I67: 0 | J67: 0 | K67: 1 | L67: 2 | M67: 0 | N67: 0
B68: Oakley | D68: 3 | E68: 43 | F68: 158 | G68: 0 | H68: 4 | I68: 0 | J68: 2 | K68: 0 | L68: 1 | M68: 0 | N68: 8
... B77: Unincorporated | D77: 25 | E77: 765 | F77: 1532 | G77: 7 | H77: 104 | I77: 6 | J77: 17 | K77: 0 | L77: 35 | M77: 3 | N77: 56
C78: County Roadways | D78: 16 | E78: 371 | F78: 765 | G78: 2 | H78: 56 | I78: 5 | J78: 16 | K78: 0 | L78: 33 | M78: 2 | N78: 32
C79: Uninc. State Highways | D79: 9 | E79: 394 | F79: 767 | G79: 5 | H79: 48 | I79: 1 | J79: 1 | K79: 0 | L79: 2 | M79: 1 | N79: 24
A80: Del Norte | D80: 3 | E80: 128 | F80: 172 | G80: 0 | H80: 21 | I80: 0 | J80: 3 | K80: 0 | L80: 5 | M80: 0 | N80: 10
B81: Crescent City | D81: 0 | E81: 2 | F81: 2 | G81: 0 | H81: 1 | I81: 0 | J81: 0 | K81: 0 | L81: 0 | M81: 0 | N81: 0
B82: Unincorporated | D82: 3 | E82: 126 | F82: 170 | G82: 0 | H82: 20 | I82: 0 | J82: 3 | K82: 0 | L82: 5 | M82: 0 | N82: 10
C83: County Roadways | D83: 0 | E83: 37 | F83: 71 | G83: 0 | H83: 8 | I83: 0 | J83: 2 | K83: 0 | L83: 4 | M83: 0 | N83: 3
C84: Uninc. State Highways | D84: 3 | E84: 89 | F84: 99 | G84: 0 | H84: 12 | I84: 0 | J84: 1 | K84: 0 | L84: 1 | M84: 0 | N84: 7
A85: El Dorado | D85: 24 | E85: 551 | F85: 1134 | G85: 13 | H85: 114 | I85: 2 | J85: 14 | K85: 0 | L85: 14 | M85: 4 | N85: 84
B86: Placerville | D86: 2 | E86: 24 | F86: 45 | G86: 1 | H86: 4 | I86: 1 | J86: 1 | K86: 0 | L86: 1 | M86: 0 | N86: 3
B87: South Lake Tahoe | D87: 0 | E87: 42 | F87: 204 | G87: 0 | H87: 9 | I87: 0 | J87: 3 | K87: 0 | L87: 4 | M87: 0 | N87: 5
B88: Unincorporated | D88: 22 | E88: 485 | F88: 885 | G88: 12 | H88: 101 | I88: 1 | J88: 10 | K88: 0 | L88: 9 | M88: 4 | N88: 76
C89: County Roadways | D89: 10 | E89: 308 | F89: 563 | G89: 7 | H89: 68 | I89: 1 | J89: 6 | K89: 0 | L89: 9 | M89: 3 | N89: 58
C90: Uninc. State Highways | D90: 12 | E90: 177 | F90: 322 | G90: 5 | H90: 33 | I90: 0 | J90: 4 | K90: 0 | L90: 0 | M90: 1 | N90: 18
A91: Fresno | D91: 168 | E91: 3438 | F91: 6698 | G91: 51 | H91: 481 | I91: 48 | J91: 173 | K91: 5 | L91: 86 | M91: 21 | N91: 206
B92: Clovis | D92: 5 | E92: 253 | F92: 437 | G92: 2 | H92: 27 | I92: 3 | J92: 10 | K92: 0 | L92: 19 | M92: 2 | N92: 22
B93: Coalinga | D93: 0 | E93: 5 | F93: 9 | G93: 0 | H93: 1 | I93: 0 | J93: 0 | K93: 0 | L93: 0 | M93: 0 | N93: 0
B94: Firebaugh | D94: 0 | E94: 1 | F94: 5 | G94: 0 | H94: 0 | I94: 0 | J94: 0 | K94: 0 | L94: 0 | M94: 0 | N94: 0
B95: Fowler | D95: 1 | E95: 9 | F95: 36 | G95: 0 | H95: 1 | I95: 1 | J95: 0 | K95: 0 | L95: 0 | M95: 0 | N95: 0
B96: Fresno | D96: 71 | E96: 1427 | F96: 3167 | G96: 30 | H96: 211 | I96: 29 | J96: 124 | K96: 3 | L96: 51 | M96: 14 | N96: 79
B97: Kerman | D97: 0 | E97: 0 | F97: 3 | G97: 0 | H97: 0 | I97: 0 | J97: 0 | K97: 0 | L97: 0 | M97: 0 | N97: 0
B98: Kingsburg | D98: 0 | E98: 36 | F98: 65 | G98: 0 | H98: 5 | I98: 0 | J98: 1 | K98: 0 | L98: 0 | M98: 0 | N98: 0
B99: Mendota | D99: 1 | E99: 10 | F99: 72 | G99: 1 | H99: 1 | I99: 1 | J99: 2 | K99: 0 | L99: 0 | M99: 0 | N99: 0
B100: Parlier | D100: 2 | E100: 12 | F100: 38 | G100: 0 | H100: 0 | I100: 1 | J100: 0 | K100: 0 | L100: 0 | M100: 0 | N100: 0
B101: Reedley | D101: 0 | E101: 30 | F101: 156 | G101: 0 | H101: 7 | I101: 0 | J101: 3 | K101: 0 | L101: 2 | M101: 0 | N101: 0
B102: Sanger | D102: 1 | E102: 28 | F102: 79 | G102: 1 | H102: 6 | I102: 1 | J102: 5 | K102: 0 | L102: 3 | M102: 0 | N102: 1
B103: Selma | D103: 2 | E103: 63 | F103: 117 | G103: 1 | H103: 7 | I103: 0 | J103: 8 | K103: 0 | L103: 1 | M103: 0 | N103: 2
B104: Unincorporated | D104: 85 | E104: 1564 | F104: 2514 | G104: 16 | H104: 215 | I104: 12 | J104: 20 | K104: 2 | L104: 10 | M104: 5 | N104: 102
C105: County Roadways | D105: 48 | E105: 995 | F105: 1561 | G105: 5 | H105: 140 | I105: 7 | J105: 15 | K105: 1 | L105: 9 | M105: 4 | N105: 73
C106: Uninc. State Highways | D106: 37 | E106: 569 | F106: 953 | G106: 11 | H106: 75 | I106: 5 | J106: 5 | K106: 1 | L106: 1 | M106: 1 | N106: 29
A107: Glenn | D107: 5 | E107: 123 | F107: 204 | G107: 1 | H107: 23 | I107: 0 | J107: 4 | K107: 0 | L107: 2 | M107: 1 | N107: 3
B108: Orland | D108: 1 | E108: 15 | F108: 25 | G108: 0 | H108: 3 | I108: 0 | J108: 4 | K108: 0 | L108: 2 | M108: 0 | N108: 1
B109: Willows | D109: 0 | E109: 1 | F109: 0 | G109: 0 | H109: 0 | I109: 0 | J109: 0 | K109: 0 | L109: 0 | M109: 0 | N109: 0
B110: Unincorporated | D110: 4 | E110: 107 | F110: 179 | G110: 1 | H110: 20 | I110: 0 | J110: 0 | K110: 0 | L110: 0 | M110: 1 | N110: 2
C111: County Roadways | D111: 1 | E111: 52 | F111: 89 | G111: 1 | H111: 12 | I111: 0 | J111: 0 | K111: 0 | L111: 0 | M111: 1 | N111: 1
C112: Uninc. State Highways | D112: 3 | E112: 55 | F112: 90 | G112: 0 | H112: 8 | I112: 0 | J112: 0 | K112: 0 | L112: 0 | M112: 0 | N112: 1
...

Sheet Table 8A - Victims
A1: =Parameters!$A$14 -> TABLE 8A PERSONS KILLED AND INJURED BY COUNTY, CITY, AND ROAD CLASSIFICATION - 2021
A3: County | B3: City | C3: Road Classification | D3: Driver Killed | E3: Driver Injured | F3: Passenger Killed | G3: Passenger Injured | H3: Pedestrian Killed | I3: Pedestrian Injured | J3: Bicyclist Killed | K3: Bicyclist Injured | L3: Motorcyclist Killed* | M3: Motorcyclist Injured* | N3: Other Killed | O3: Other Injured | P3: Operator Killed | Q3: Operator Injured | R3: Total Killed | S3: Total Injured
A4: Alameda | D4: 51 | E4: 5666 | F4: 14 | G4: 2033 | H4: 34 | I4: 507 | J4: 4 | K4: 384 | L4: 13 | M4: 398 | N4: 1 | O4: 59 | P4: 0 | Q4: 0 | R4: 104 | S4: 8649
B5: Alameda | D5: 1 | E5: 104 | F5: 0 | G5: 33 | H5: 0 | I5: 24 | J5: 0 | K5: 14 | L5: 0 | M5: 6 | N5: 0 | O5: 2 | P5: 0 | Q5: 0 | R5: 1 | S5: 177
B6: Albany | D6: 0 | E6: 44 | F6: 0 | G6: 14 | H6: 0 | I6: 14 | J6: 0 | K6: 10 | L6: 0 | M6: 3 | N6: 0 | O6: 0 | P6: 0 | Q6: 0 | R6: 0 | S6: 82
B7: Berkeley | D7: 3 | E7: 289 | F7: 1 | G7: 111 | H7: 6 | I7: 52 | J7: 0 | K7: 78 | L7: 0 | M7: 30 | N7: 0 | O7: 7 | P7: 0 | Q7: 0 | R7: 10 | S7: 537
B8: Dublin | D8: 1 | E8: 84 | F8: 0 | G8: 30 | H8: 1 | I8: 6 | J8: 0 | K8: 11 | L8: 0 | M8: 1 | N8: 0 | O8: 0 | P8: 0 | Q8: 0 | R8: 2 | S8: 131
B9: Emeryville | D9: 1 | E9: 66 | F9: 0 | G9: 24 | H9: 0 | I9: 8 | J9: 0 | K9: 2 | L9: 1 | M9: 6 | N9: 0 | O9: 0 | P9: 0 | Q9: 0 | R9: 1 | S9: 100
B10: Fremont | D10: 11 | E10: 779 | F10: 1 | G10: 216 | H10: 4 | I10: 37 | J10: 2 | K10: 51 | L10: 7 | M10: 41 | N10: 0 | O10: 0 | P10: 0 | Q10: 0 | R10: 18 | S10: 1083
B11: Hayward | D11: 2 | E11: 537 | F11: 0 | G11: 201 | H11: 7 | I11: 45 | J11: 0 | K11: 16 | L11: 1 | M11: 34 | N11: 0 | O11: 1 | P11: 0 | Q11: 0 | R11: 9 | S11: 800
B12: Livermore | D12: 4 | E12: 297 | F12: 0 | G12: 95 | H12: 0 | I12: 10 | J12: 0 | K12: 23 | L12: 1 | M12: 18 | N12: 0 | O12: 2 | P12: 0 | Q12: 0 | R12: 4 | S12: 427
B13: Newark | D13: 1 | E13: 120 | F13: 0 | G13: 28 | H13: 0 | I13: 1 | J13: 0 | K13: 7 | L13: 0 | M13: 9 | N13: 0 | O13: 0 | P13: 0 | Q13: 0 | R13: 1 | S13: 156
B14: Oakland | D14: 14 | E14: 1622 | F14: 2 | G14: 692 | H14: 10 | I14: 214 | J14: 2 | K14: 87 | L14: 0 | M14: 145 | N14: 0 | O14: 36 | P14: 0 | Q14: 0 | R14: 28 | S14: 2651
B15: Piedmont | D15: 0 | E15: 6 | F15: 0 | G15: 0 | H15: 0 | I15: 4 | J15: 0 | K15: 1 | L15: 0 | M15: 0 | N15: 0 | O15: 0 | P15: 0 | Q15: 0 | R15: 0 | S15: 11
B16: Pleasanton | D16: 1 | E16: 274 | F16: 1 | G16: 94 | H16: 2 | I16: 9 | J16: 0 | K16: 22 | L16: 0 | M16: 18 | N16: 1 | O16: 2 | P16: 0 | Q16: 0 | R16: 5 | S16: 401
... B19: Unincorporated | D19: 11 | E19: 1018 | F19: 6 | G19: 345 | H19: 2 | I19: 38 | J19: 0 | K19: 41 | L19: 2 | M19: 75 | N19: 0 | O19: 3 | P19: 0 | Q19: 0 | R19: 19 | S19: 1445
C20: County Roadways | D20: 5 | E20: 395 | F20: 1 | G20: 108 | H20: 0 | I20: 32 | J20: 0 | K20: 34 | L20: 2 | M20: 33 | N20: 0 | O20: 2 | P20: 0 | Q20: 0 | R20: 6 | S20: 571
C21: Uninc. State Highways | D21: 6 | E21: 623 | F21: 5 | G21: 237 | H21: 2 | I21: 6 | J21: 0 | K21: 7 | L21: 0 | M21: 42 | N21: 0 | O21: 1 | P21: 0 | Q21: 0 | R21: 13 | S21: 874
A22: Alpine | D22: 0 | E22: 18 | F22: 0 | G22: 5 | H22: 0 | I22: 0 | J22: 0 | K22: 3 | L22: 0 | M22: 4 | N22: 0 | O22: 0 | P22: 0 | Q22: 0 | R22: 0 | S22: 26
B23: Unincorporated | D23: 0 | E23: 18 | F23: 0 | G23: 5 | H23: 0 | I23: 0 | J23: 0 | K23: 3 | L23: 0 | M23: 4 | N23: 0 | O23: 0 | P23: 0 | Q23: 0 | R23: 0 | S23: 26
C24: County Roadways | D24: 0 | E24: 5 | F24: 0 | G24: 3 | H24: 0 | I24: 0 | J24: 0 | K24: 0 | L24: 0 | M24: 0 | N24: 0 | O24: 0 | P24: 0 | Q24: 0 | R24: 0 | S24: 8
C25: Uninc. State Highways | D25: 0 | E25: 13 | F25: 0 | G25: 2 | H25: 0 | I25: 0 | J25: 0 | K25: 3 | L25: 0 | M25: 4 | N25: 0 | O25: 0 | P25: 0 | Q25: 0 | R25: 0 | S25: 18
A26: Amador | D26: 11 | E26: 201 | F26: 1 | G26: 82 | H26: 2 | I26: 2 | J26: 0 | K26: 3 | L26: 1 | M26: 25 | N26: 0 | O26: 0 | P26: 0 | Q26: 0 | R26: 14 | S26: 288
B27: Amador City | D27: 0 | E27: 1 | F27: 0 | G27: 0 | H27: 0 | I27: 0 | J27: 0 | K27: 0 | L27: 0 | M27: 0 | N27: 0 | O27: 0 | P27: 0 | Q27: 0 | R27: 0 | S27: 1
B28: Ione | D28: 0 | E28: 4 | F28: 0 | G28: 1 | H28: 0 | I28: 0 | J28: 0 | K28: 1 | L28: 0 | M28: 0 | N28: 0 | O28: 0 | P28: 0 | Q28: 0 | R28: 0 | S28: 6
B29: Jackson | D29: 0 | E29: 11 | F29: 0 | G29: 5 | H29: 2 | I29: 1 | J29: 0 | K29: 1 | L29: 0 | M29: 1 | N29: 0 | O29: 0 | P29: 0 | Q29: 0 | R29: 2 | S29: 18
B30: Plymouth | D30: 0 | E30: 1 | F30: 0 | G30: 0 | H30: 0 | I30: 0 | J30: 0 | K30: 0 | L30: 0 | M30: 0 | N30: 0 | O30: 0 | P30: 0 | Q30: 0 | R30: 0 | S30: 1
B31: Sutter Creek | D31: 1 | E31: 4 | F31: 0 | G31: 2 | H31: 0 | I31: 0 | J31: 0 | K31: 0 | L31: 0 | M31: 1 | N31: 0 | O31: 0 | P31: 0 | Q31: 0 | R31: 1 | S31: 6
B32: Unincorporated | D32: 10 | E32: 180 | F32: 1 | G32: 74 | H32: 0 | I32: 1 | J32: 0 | K32: 1 | L32: 1 | M32: 23 | N32: 0 | O32: 0 | P32: 0 | Q32: 0 | R32: 11 | S32: 256
C33: County Roadways | D33: 1 | E33: 87 | F33: 0 | G33: 40 | H33: 0 | I33: 1 | J33: 0 | K33: 1 | L33: 0 | M33: 14 | N33: 0 | O33: 0 | P33: 0 | Q33: 0 | R33: 1 | S33: 129
C34: Uninc. State Highways | D34: 9 | E34: 93 | F34: 1 | G34: 34 | H34: 0 | I34: 0 | J34: 0 | K34: 0 | L34: 1 | M34: 9 | N34: 0 | O34: 0 | P34: 0 | Q34: 0 | R34: 10 | S34: 127
A35: Butte | D35: 38 | E35: 740 | F35: 10 | G35: 256 | H35: 7 | I35: 38 | J35: 0 | K35: 43 | L35: 10 | M35: 65 | N35: 0 | O35: 11 | P35: 0 | Q35: 0 | R35: 55 | S35: 1088
B36: Chico | D36: 6 | E36: 206 | F36: 0 | G36: 61 | H36: 1 | I36: 21 | J36: 0 | K36: 32 | L36: 2 | M36: 13 | N36: 0 | O36: 7 | P36: 0 | Q36: 0 | R36: 7 | S36: 327
B37: Gridley | D37: 0 | E37: 19 | F37: 0 | G37: 15 | H37: 1 | I37: 1 | J37: 0 | K37: 1 | L37: 0 | M37: 2 | N37: 0 | O37: 0 | P37: 0 | Q37: 0 | R37: 1 | S37: 36
B38: Oroville | D38: 5 | E38: 82 | F38: 2 | G38: 33 | H38: 3 | I38: 6 | J38: 0 | K38: 5 | L38: 2 | M38: 10 | N38: 0 | O38: 3 | P38: 0 | Q38: 0 | R38: 10 | S38: 129
B39: Paradise | D39: 0 | E39: 34 | F39: 0 | G39: 9 | H39: 0 | I39: 0 | J39: 0 | K39: 0 | L39: 0 | M39: 2 | N39: 0 | O39: 0 | P39: 0 | Q39: 0 | R39: 0 | S39: 43
B40: Unincorporated | D40: 27 | E40: 399 | F40: 8 | G40: 138 | H40: 2 | I40: 10 | J40: 0 | K40: 5 | L40: 6 | M40: 38 | N40: 0 | O40: 1 | P40: 0 | Q40: 0 | R40: 37 | S40: 553
C41: County Roadways | D41: 18 | E41: 235 | F41: 5 | G41: 75 | H41: 0 | I41: 7 | J41: 0 | K41: 4 | L41: 5 | M41: 29 | N41: 0 | O41: 1 | P41: 0 | Q41: 0 | R41: 23 | S41: 322
C42: Uninc. State Highways | D42: 9 | E42: 164 | F42: 3 | G42: 63 | H42: 2 | I42: 3 | J42: 0 | K42: 1 | L42: 1 | M42: 9 | N42: 0 | O42: 0 | P42: 0 | Q42: 0 | R42: 14 | S42: 231
A43: Calaveras | D43: 13 | E43: 219 | F43: 1 | G43: 66 | H43: 0 | I43: 5 | J43: 0 | K43: 2 | L43: 6 | M43: 45 | N43: 0 | O43: 0 | P43: 0 | Q43: 0 | R43: 14 | S43: 292
B44: Angels Camp | D44: 0 | E44: 11 | F44: 0 | G44: 3 | H44: 0 | I44: 0 | J44: 0 | K44: 0 | L44: 0 | M44: 3 | N44: 0 | O44: 0 | P44: 0 | Q44: 0 | R44: 0 | S44: 14
B45: Unincorporated | D45: 13 | E45: 208 | F45: 1 | G45: 63 | H45: 0 | I45: 5 | J45: 0 | K45: 2 | L45: 6 | M45: 42 | N45: 0 | O45: 0 | P45: 0 | Q45: 0 | R45: 14 | S45: 278
C46: County Roadways | D46: 6 | E46: 69 | F46: 1 | G46: 27 | H46: 0 | I46: 2 | J46: 0 | K46: 2 | L46: 4 | M46: 18 | N46: 0 | O46: 0 | P46: 0 | Q46: 0 | R46: 7 | S46: 100
C47: Uninc. State Highways | D47: 7 | E47: 139 | F47: 0 | G47: 36 | H47: 0 | I47: 3 | J47: 0 | K47: 0 | L47: 2 | M47: 24 | N47: 0 | O47: 0 | P47: 0 | Q47: 0 | R47: 7 | S47: 178
A48: Colusa | D48: 2 | E48: 134 | F48: 2 | G48: 60 | H48: 1 | I48: 1 | J48: 0 | K48: 0 | L48: 0 | M48: 17 | N48: 0 | O48: 2 | P48: 0 | Q48: 0 | R48: 5 | S48: 197
B49: Colusa | D49: 0 | E49: 6 | F49: 0 | G49: 7 | H49: 0 | I49: 0 | J49: 0 | K49: 0 | L49: 0 | M49: 0 | N49: 0 | O49: 0 | P49: 0 | Q49: 0 | R49: 0 | S49: 13
B50: Williams | D50: 0 | E50: 1 | F50: 0 | G50: 0 | H50: 0 | I50: 0 | J50: 0 | K50: 0 | L50: 0 | M50: 0 | N50: 0 | O50: 0 | P50: 0 | Q50: 0 | R50: 0 | S50: 1
B51: Unincorporated | D51: 2 | E51: 127 | F51: 2 | G51: 53 | H51: 1 | I51: 1 | J51: 0 | K51: 0 | L51: 0 | M51: 17 | N51: 0 | O51: 2 | P51: 0 | Q51: 0 | R51: 5 | S51: 183
C52: County Roadways | D52: 1 | E52: 55 | F52: 0 | G52: 14 | H52: 0 | I52: 0 | J52: 0 | K52: 0 | L52: 0 | M52: 12 | N52: 0 | O52: 2 | P52: 0 | Q52: 0 | R52: 1 | S52: 71
C53: Uninc. State Highways | D53: 1 | E53: 72 | F53: 2 | G53: 39 | H53: 1 | I53: 1 | J53: 0 | K53: 0 | L53: 0 | M53: 5 | N53: 0 | O53: 0 | P53: 0 | Q53: 0 | R53: 4 | S53: 112
A54: Contra Costa | D54: 52 | E54: 3007 | F54: 17 | G54: 1001 | H54: 20 | I54: 182 | J54: 5 | K54: 153 | L54: 9 | M54: 229 | N54: 0 | O54: 17 | P54: 0 | Q54: 0 | R54: 94 | S54: 4360
B55: Antioch | D55: 5 | E55: 211 | F55: 1 | G55: 102 | H55: 1 | I55: 11 | J55: 0 | K55: 5 | L55: 1 | M55: 19 | N55: 0 | O55: 0 | P55: 0 | Q55: 0 | R55: 7 | S55: 329
B56: Brentwood | D56: 3 | E56: 139 | F56: 1 | G56: 32 | H56: 0 | I56: 8 | J56: 0 | K56: 5 | L56: 0 | M56: 8 | N56: 0 | O56: 1 | P56: 0 | Q56: 0 | R56: 4 | S56: 185
B57: Clayton | D57: 0 | E57: 12 | F57: 0 | G57: 0 | H57: 0 | I57: 0 | J57: 0 | K57: 0 | L57: 0 | M57: 1 | N57: 0 | O57: 0 | P57: 0 | Q57: 0 | R57: 0 | S57: 12
B58: Concord | D58: 2 | E58: 414 | F58: 1 | G58: 146 | H58: 3 | I58: 33 | J58: 0 | K58: 20 | L58: 1 | M58: 35 | N58: 0 | O58: 1 | P58: 0 | Q58: 0 | R58: 6 | S58: 614
B59: Danville | D59: 0 | E59: 56 | F59: 0 | G59: 19 | H59: 0 | I59: 6 | J59: 0 | K59: 6 | L59: 0 | M59: 2 | N59: 0 | O59: 0 | P59: 0 | Q59: 0 | R59: 0 | S59: 87
B60: El Cerrito | D60: 0 | E60: 19 | F60: 0 | G60: 6 | H60: 0 | I60: 7 | J60: 0 | K60: 6 | L60: 0 | M60: 2 | N60: 0 | O60: 1 | P60: 0 | Q60: 0 | R60: 0 | S60: 39
B61: Hercules | D61: 3 | E61: 69 | F61: 0 | G61: 29 | H61: 0 | I61: 2 | J61: 0 | K61: 1 | L61: 0 | M61: 2 | N61: 0 | O61: 0 | P61: 0 | Q61: 0 | R61: 3 | S61: 101
B62: Kensington | D62: 0 | E62: 2 | F62: 0 | G62: 0 | H62: 0 | I62: 0 | J62: 0 | K62: 1 | L62: 0 | M62: 0 | N62: 0 | O62: 0 | P62: 0 | Q62: 0 | R62: 0 | S62: 3
B63: Lafayette | D63: 3 | E63: 71 | F63: 0 | G63: 19 | H63: 1 | I63: 4 | J63: 1 | K63: 3 | L63: 0 | M63: 4 | N63: 0 | O63: 0 | P63: 0 | Q63: 0 | R63: 5 | S63: 97
B64: Martinez | D64: 4 | E64: 88 | F64: 2 | G64: 22 | H64: 0 | I64: 8 | J64: 1 | K64: 6 | L64: 1 | M64: 7 | N64: 0 | O64: 1 | P64: 0 | Q64: 0 | R64: 7 | S64: 125
B65: Moraga | D65: 0 | E65: 7 | F65: 0 | G65: 2 | H65: 0 | I65: 0 | J65: 1 | K65: 2 | L65: 0 | M65: 0 | N65: 0 | O65: 0 | P65: 0 | Q65: 0 | R65: 1 | S65: 11
B66: Oakley | D66: 2 | E66: 33 | F66: 1 | G66: 13 | H66: 0 | I66: 2 | J66: 0 | K66: 1 | L66: 0 | M66: 8 | N66: 0 | O66: 3 | P66: 0 | Q66: 0 | R66: 3 | S66: 52
... B75: Unincorporated | D75: 16 | E75: 778 | F75: 4 | G75: 218 | H75: 7 | I75: 17 | J75: 0 | K75: 35 | L75: 3 | M75: 56 | N75: 0 | O75: 3 | P75: 0 | Q75: 0 | R75: 27 | S75: 1051
C76: County Roadways | D76: 9 | E76: 347 | F76: 2 | G76: 102 | H76: 6 | I76: 16 | J76: 0 | K76: 33 | L76: 2 | M76: 32 | N76: 0 | O76: 3 | P76: 0 | Q76: 0 | R76: 17 | S76: 501
C77: Uninc. State Highways | D77: 7 | E77: 431 | F77: 2 | G77: 116 | H77: 1 | I77: 1 | J77: 0 | K77: 2 | L77: 1 | M77: 24 | N77: 0 | O77: 0 | P77: 0 | Q77: 0 | R77: 10 | S77: 550
A78: Del Norte | D78: 3 | E78: 126 | F78: 1 | G78: 58 | H78: 0 | I78: 3 | J78: 0 | K78: 5 | L78: 0 | M78: 10 | N78: 0 | O78: 0 | P78: 0 | Q78: 0 | R78: 4 | S78: 192
B79: Crescent City | D79: 0 | E79: 3 | F79: 0 | G79: 0 | H79: 0 | I79: 0 | J79: 0 | K79: 0 | L79: 0 | M79: 0 | N79: 0 | O79: 0 | P79: 0 | Q79: 0 | R79: 0 | S79: 3
B80: Unincorporated | D80: 3 | E80: 123 | F80: 1 | G80: 58 | H80: 0 | I80: 3 | J80: 0 | K80: 5 | L80: 0 | M80: 10 | N80: 0 | O80: 0 | P80: 0 | Q80: 0 | R80: 4 | S80: 189
C81: County Roadways | D81: 0 | E81: 32 | F81: 0 | G81: 6 | H81: 0 | I81: 2 | J81: 0 | K81: 4 | L81: 0 | M81: 3 | N81: 0 | O81: 0 | P81: 0 | Q81: 0 | R81: 0 | S81: 44
C82: Uninc. State Highways | D82: 3 | E82: 91 | F82: 1 | G82: 52 | H82: 0 | I82: 1 | J82: 0 | K82: 1 | L82: 0 | M82: 7 | N82: 0 | O82: 0 | P82: 0 | Q82: 0 | R82: 4 | S82: 145
A83: El Dorado | D83: 21 | E83: 546 | F83: 3 | G83: 168 | H83: 2 | I83: 14 | J83: 0 | K83: 14 | L83: 4 | M83: 89 | N83: 0 | O83: 5 | P83: 0 | Q83: 0 | R83: 26 | S83: 747
B84: Placerville | D84: 1 | E84: 21 | F84: 1 | G84: 9 | H84: 1 | I84: 1 | J84: 0 | K84: 1 | L84: 0 | M84: 3 | N84: 0 | O84: 0 | P84: 0 | Q84: 0 | R84: 3 | S84: 32
B85: South Lake Tahoe | D85: 0 | E85: 30 | F85: 0 | G85: 18 | H85: 0 | I85: 3 | J85: 0 | K85: 4 | L85: 0 | M85: 5 | N85: 0 | O85: 2 | P85: 0 | Q85: 0 | R85: 0 | S85: 57
B86: Unincorporated | D86: 20 | E86: 495 | F86: 2 | G86: 141 | H86: 1 | I86: 10 | J86: 0 | K86: 9 | L86: 4 | M86: 81 | N86: 0 | O86: 3 | P86: 0 | Q86: 0 | R86: 23 | S86: 658
C87: County Roadways | D87: 8 | E87: 308 | F87: 1 | G87: 77 | H87: 1 | I87: 6 | J87: 0 | K87: 9 | L87: 3 | M87: 60 | N87: 0 | O87: 2 | P87: 0 | Q87: 0 | R87: 10 | S87: 402
C88: Uninc. State Highways | D88: 12 | E88: 187 | F88: 1 | G88: 64 | H88: 0 | I88: 4 | J88: 0 | K88: 0 | L88: 1 | M88: 21 | N88: 0 | O88: 1 | P88: 0 | Q88: 0 | R88: 13 | S88: 256
A89: Fresno | D89: 111 | E89: 3322 | F89: 33 | G89: 1451 | H89: 47 | I89: 178 | J89: 5 | K89: 86 | L89: 21 | M89: 212 | N89: 0 | O89: 10 | P89: 0 | Q89: 0 | R89: 196 | S89: 5047
B90: Clovis | D90: 2 | E90: 240 | F90: 0 | G90: 93 | H90: 3 | I90: 11 | J90: 0 | K90: 19 | L90: 2 | M90: 20 | N90: 0 | O90: 3 | P90: 0 | Q90: 0 | R90: 5 | S90: 366
B91: Coalinga | D91: 0 | E91: 4 | F91: 0 | G91: 1 | H91: 0 | I91: 0 | J91: 0 | K91: 0 | L91: 0 | M91: 0 | N91: 0 | O91: 0 | P91: 0 | Q91: 0 | R91: 0 | S91: 5
B92: Firebaugh | D92: 0 | E92: 1 | F92: 0 | G92: 0 | H92: 0 | I92: 0 | J92: 0 | K92: 0 | L92: 0 | M92: 0 | N92: 0 | O92: 0 | P92: 0 | Q92: 0 | R92: 0 | S92: 1
B93: Fowler | D93: 0 | E93: 11 | F93: 0 | G93: 5 | H93: 1 | I93: 0 | J93: 0 | K93: 0 | L93: 0 | M93: 0 | N93: 0 | O93: 0 | P93: 0 | Q93: 0 | R93: 1 | S93: 16
B94: Fresno | D94: 36 | E94: 1213 | F94: 8 | G94: 538 | H94: 29 | I94: 126 | J94: 3 | K94: 51 | L94: 14 | M94: 80 | N94: 0 | O94: 3 | P94: 0 | Q94: 0 | R94: 76 | S94: 1931
B95: Kingsburg | D95: 0 | E95: 42 | F95: 0 | G95: 26 | H95: 0 | I95: 1 | J95: 0 | K95: 0 | L95: 0 | M95: 0 | N95: 0 | O95: 0 | P95: 0 | Q95: 0 | R95: 0 | S95: 69
B96: Mendota | D96: 0 | E96: 3 | F96: 0 | G96: 4 | H96: 1 | I96: 2 | J96: 0 | K96: 0 | L96: 0 | M96: 0 | N96: 0 | O96: 1 | P96: 0 | Q96: 0 | R96: 1 | S96: 10
B97: Parlier | D97: 1 | E97: 13 | F97: 0 | G97: 4 | H97: 1 | I97: 0 | J97: 0 | K97: 0 | L97: 0 | M97: 0 | N97: 0 | O97: 0 | P97: 0 | Q97: 0 | R97: 2 | S97: 17
B98: Reedley | D98: 0 | E98: 23 | F98: 0 | G98: 13 | H98: 0 | I98: 3 | J98: 0 | K98: 2 | L98: 0 | M98: 0 | N98: 0 | O98: 1 | P98: 0 | Q98: 0 | R98: 0 | S98: 42
B99: Sanger | D99: 0 | E99: 16 | F99: 0 | G99: 7 | H99: 1 | I99: 5 | J99: 0 | K99: 3 | L99: 0 | M99: 1 | N99: 0 | O99: 0 | P99: 0 | Q99: 0 | R99: 1 | S99: 31
B100: Selma | D100: 0 | E100: 52 | F100: 2 | G100: 21 | H100: 0 | I100: 8 | J100: 0 | K100: 1 | L100: 0 | M100: 2 | N100: 0 | O100: 0 | P100: 0 | Q100: 0 | R100: 2 | S100: 82
B101: Unincorporated | D101: 72 | E101: 1704 | F101: 23 | G101: 739 | H101: 11 | I101: 22 | J101: 2 | K101: 10 | L101: 5 | M101: 109 | N101: 0 | O101: 2 | P101: 0 | Q101: 0 | R101: 108 | S101: 2477
C102: County Roadways | D102: 39 | E102: 1107 | F102: 5 | G102: 431 | H102: 7 | I102: 16 | J102: 1 | K102: 9 | L102: 4 | M102: 78 | N102: 0 | O102: 1 | P102: 0 | Q102: 0 | R102: 52 | S102: 1564
C103: Uninc. State Highways | D103: 33 | E103: 597 | F103: 18 | G103: 308 | H103: 4 | I103: 6 | J103: 1 | K103: 1 | L103: 1 | M103: 31 | N103: 0 | O103: 1 | P103: 0 | Q103: 0 | R103: 56 | S103: 913
A104: Glenn | D104: 6 | E104: 116 | F104: 1 | G104: 44 | H104: 0 | I104: 4 | J104: 0 | K104: 2 | L104: 1 | M104: 4 | N104: 0 | O104: 0 | P104: 0 | Q104: 0 | R104: 7 | S104: 166
B105: Orland | D105: 1 | E105: 9 | F105: 0 | G105: 2 | H105: 0 | I105: 4 | J105: 0 | K105: 2 | L105: 0 | M105: 1 | N105: 0 | O105: 0 | P105: 0 | Q105: 0 | R105: 1 | S105: 17
B106: Willows | D106: 0 | E106: 1 | F106: 0 | G106: 0 | H106: 0 | I106: 0 | J106: 0 | K106: 0 | L106: 0 | M106: 0 | N106: 0 | O106: 0 | P106: 0 | Q106: 0 | R106: 0 | S106: 1
B107: Unincorporated | D107: 5 | E107: 106 | F107: 1 | G107: 42 | H107: 0 | I107: 0 | J107: 0 | K107: 0 | L107: 1 | M107: 3 | N107: 0 | O107: 0 | P107: 0 | Q107: 0 | R107: 6 | S107: 148
C108: County Roadways | D108: 1 | E108: 57 | F108: 0 | G108: 15 | H108: 0 | I108: 0 | J108: 0 | K108: 0 | L108: 1 | M108: 2 | N108: 0 | O108: 0 | P108: 0 | Q108: 0 | R108: 1 | S108: 72
C109: Uninc. State Highways | D109: 4 | E109: 49 | F109: 1 | G109: 27 | H109: 0 | I109: 0 | J109: 0 | K109: 0 | L109: 0 | M109: 1 | N109: 0 | O109: 0 | P109: 0 | Q109: 0 | R109: 5 | S109: 76
A110: Humboldt | D110: 11 | E110: 451 | F110: 1 | G110: 140 | H110: 2 | I110: 34 | J110: 1 | K110: 20 | L110: 1 | M110: 45 | N110: 0 | O110: 1 | P110: 0 | Q110: 0 | R110: 15 | S110: 646
B111: Arcata | D111: 0 | E111: 14 | F111: 0 | G111: 4 | H111: 0 | I111: 4 | J111: 0 | K111: 4 | L111: 0 | M111: 5 | N111: 0 | O111: 0 | P111: 0 | Q111: 0 | R111: 0 | S111: 26
...

Sheet Table 8B
A1: =Parameters!$A$17 -> TABLE 8B MOTOR VEHICLE REGISTRATION, MOTORCYCLE REGISTRATION, LICENSED DRIVERS, POPULATION,
A2: =Parameters!$A$18 -> AND ROADWAY MILES BY COUNTY - 2021
H4: Roadway Miles3/
A5: County | B5: Motor Vehicle Registration1/ | C5: Motorcycle Registration2/ | D5: Licensed Drivers5/ | E5: Population5/ | F5: Total | G5: City4/ Roadways | H5: State Highways | I5: County Roadways
A6: Alameda | B6: ='Table 8B Calculations'!E5 -> 1265447 | C6: ='Table 8B Calculations'!D5 -> 31042 | D6: ='Table 8B Calculations'!G5 -> 1150671 | E6: ='Table 8B Calculations'!I5 -> 1654938 | F6: =SUM(G6:I6) -> 3834.96 | G6: ='Table 8B Calculations'!K5 -> 3138.99 | H6: ='Table 8B Calculations'!M5 -> 194.26 | I6: ='Table 8B Calculations'!L5 -> 501.71
A7: Alpine | B7: ='Table 8B Calculations'!E6 -> 2391 | C7: ='Table 8B Calculations'!D6 -> 70 | D7: ='Table 8B Calculations'!G6 -> 1255 | E7: ='Table 8B Calculations'!I6 -> 1181 | F7: =SUM(G7:I7) -> 235.62 | G7: ='Table 8B Calculations'!K6 | H7: ='Table 8B Calculations'!M6 -> 84 | I7: ='Table 8B Calculations'!L6 -> 151.62
A8: Amador | B8: ='Table 8B Calculations'!E7 -> 49771 | C8: ='Table 8B Calculations'!D7 -> 2424 | D8: ='Table 8B Calculations'!G7 -> 30753 | E8: ='Table 8B Calculations'!I7 -> 40222 | F8: =SUM(G8:I8) -> 654.59 | G8: ='Table 8B Calculations'!K7 -> 69.57 | H8: ='Table 8B Calculations'!M7 -> 119.31 | I8: ='Table 8B Calculations'!L7 -> 465.71
A9: Butte | B9: ='Table 8B Calculations'!E8 -> 178553 | C9: ='Table 8B Calculations'!D8 -> 6811 | D9: ='Table 8B Calculations'!G8 -> 151153 | E9: ='Table 8B Calculations'!I8 -> 206694 | F9: =SUM(G9:I9) -> 1997 | G9: ='Table 8B Calculations'!K8 -> 508.34 | H9: ='Table 8B Calculations'!M8 -> 183.53 | I9: ='Table 8B Calculations'!L8 -> 1305.13
A10: Calaveras | B10: ='Table 8B Calculations'!E9 -> 64289 | C10: ='Table 8B Calculations'!D9 -> 3304 | D10: ='Table 8B Calculations'!G9 -> 38716 | E10: ='Table 8B Calculations'!I9 -> 45013 | F10: =SUM(G10:I10) -> 1136.2 | G10: ='Table 8B Calculations'!K9 -> 28.53 | H10: ='Table 8B Calculations'!M9 -> 149.72 | I10: ='Table 8B Calculations'!L9 -> 957.95
A11: Colusa | B11: ='Table 8B Calculations'!E10 -> 22651 | C11: ='Table 8B Calculations'!D10 -> 538 | D11: ='Table 8B Calculations'!G10 -> 15462 | E11: ='Table 8B Calculations'!I10 -> 21867 | F11: =SUM(G11:I11) -> 920.69 | G11: ='Table 8B Calculations'!K10 -> 63.3 | H11: ='Table 8B Calculations'!M10 -> 114.66 | I11: ='Table 8B Calculations'!L10 -> 742.73
A12: Contra Costa | B12: ='Table 8B Calculations'!E11 -> 1014481 | C12: ='Table 8B Calculations'!D11 -> 27488 | D12: ='Table 8B Calculations'!G11 -> 844100 | E12: ='Table 8B Calculations'!I11 -> 1160418 | F12: =SUM(G12:I12) -> 3641.12 | G12: ='Table 8B Calculations'!K11 -> 2813.76 | H12: ='Table 8B Calculations'!M11 -> 111.37 | I12: ='Table 8B Calculations'!L11 -> 715.99
A13: Del Norte | B13: ='Table 8B Calculations'!E12 -> 23353 | C13: ='Table 8B Calculations'!D12 -> 853 | D13: ='Table 8B Calculations'!G12 -> 18331 | E13: ='Table 8B Calculations'!I12 -> 27365 | F13: =SUM(G13:I13) -> 421.76 | G13: ='Table 8B Calculations'!K12 -> 24.08 | H13: ='Table 8B Calculations'!M12 -> 91.88 | I13: ='Table 8B Calculations'!L12 -> 305.8
A14: El Dorado | B14: ='Table 8B Calculations'!E13 -> 197596 | C14: ='Table 8B Calculations'!D13 -> 8797 | D14: ='Table 8B Calculations'!G13 -> 157176 | E14: ='Table 8B Calculations'!I13 -> 191309 | F14: =SUM(G14:I14) -> 1587.25 | G14: ='Table 8B Calculations'!K13 -> 189.07 | H14: ='Table 8B Calculations'!M13 -> 178 | I14: ='Table 8B Calculations'!L13 -> 1220.18
A15: Fresno | B15: ='Table 8B Calculations'!E14 -> 792471 | C15: ='Table 8B Calculations'!D14 -> 18513 | D15: ='Table 8B Calculations'!G14 -> 619182 | E15: ='Table 8B Calculations'!I14 -> 1010453 | F15: =SUM(G15:I15) -> 7065.18 | G15: ='Table 8B Calculations'!K14 -> 2534.64 | H15: ='Table 8B Calculations'!M14 -> 517.77 | I15: ='Table 8B Calculations'!L14 -> 4012.77
A16: Glenn | B16: ='Table 8B Calculations'!E15 -> 29511 | C16: ='Table 8B Calculations'!D15 -> 969 | D16: ='Table 8B Calculations'!G15 -> 20816 | E16: ='Table 8B Calculations'!I15 -> 28734 | F16: =SUM(G16:I16) -> 1046.42 | G16: ='Table 8B Calculations'!K15 -> 69.09 | H16: ='Table 8B Calculations'!M15 -> 110.36 | I16: ='Table 8B Calculations'!L15 -> 866.97
A17: Humboldt | B17: ='Table 8B Calculations'!E16 -> 127581 | C17: ='Table 8B Calculations'!D16 -> 4669 | D17: ='Table 8B Calculations'!G16 -> 97969 | E17: ='Table 8B Calculations'!I16 -> 134639 | F17: =SUM(G17:I17) -> 2018.14 | G17: ='Table 8B Calculations'!K16 -> 278.37 | H17: ='Table 8B Calculations'!M16 -> 336.9 | I17: ='Table 8B Calculations'!L16 -> 1402.87
... A63: Yuba | B63: ='Table 8B Calculations'!E62 -> 64161 | C63: ='Table 8B Calculations'!D62 -> 2485 | D63: ='Table 8B Calculations'!G62 -> 52606 | E63: ='Table 8B Calculations'!I62 -> 82211 | F63: =SUM(G63:I63) -> 871.84 | G63: ='Table 8B Calculations'!K62 -> 74.48 | H63: ='Table 8B Calculations'!M62 -> 64.48 | I63: ='Table 8B Calculations'!L62 -> 732.88
A64: Interstate | B64: ='Table 8B Calculations'!E63 -> 161068 | C64: ='Table 8B Calculations'!D63 -> 4975 | D64: ='Table 8B Calculations'!G63 -> 140108
A65: Statewide Total | B65: =SUM(B6:B64) -> 32690168 | C65: =SUM(C6:C64) -> 853368 | D65: =SUM(D6:D64) -> 27462109 | E65: =SUM(E6:E64) -> 39239554 | F65: =SUM(G65:I65) -> 168436.17 | G65: =SUM(G6:G64) -> 79890.56 | H65: =SUM(H6:H64) -> 15027.45 | I65: =SUM(I6:I64) -> 73518.16
A67: 1/Based on estimates made by California Department of Motor Vehicles.
A68: 2/Motorcycle Registration is also included in Motor Vehicle Registration.
A69: 3/Roadway miles as of 9/22/23. Totals may not add due to rounding.
A70: 4/Excludes freeways.
A71: 5/Totals may not add due to rounding from source agencies.

Sheet Table 8C
A1: =Parameters!$A$21 -> TABLE 8C PERSONS KILLED AND INJURED BY EXTENT OF INJURY BY COUNTY - 2021
A4: County | B4: Total Killed and Injured | C4: Total Killed | D4: Total Injured | E4: Severe Injury | F4: Other Visible Injury | G4: Complaint of Pain | H4: Suspected Serious Injury* | I4: Suspected Minor Injury* | J4: Possible Injury*
A5: Alameda | B5: 8753 | C5: 104 | D5: 8649 | E5: 196 | F5: 700 | G5: 2364 | H5: 364 | I5: 1751 | J5: 3274
A6: Alpine | B6: 26 | C6: 0 | D6: 26 | E6: 0 | F6: 0 | G6: 0 | H6: 9 | I6: 10 | J6: 7
A7: Amador | B7: 302 | C7: 14 | D7: 288 | E7: 2 | F7: 0 | G7: 1 | H7: 33 | I7: 135 | J7: 117
A8: Butte | B8: 1143 | C8: 55 | D8: 1088 | E8: 19 | F8: 93 | G8: 129 | H8: 136 | I8: 352 | J8: 359
A9: Calaveras | B9: 306 | C9: 14 | D9: 292 | E9: 2 | F9: 3 | G9: 9 | H9: 57 | I9: 128 | J9: 93
A10: Colusa | B10: 202 | C10: 5 | D10: 197 | E10: 0 | F10: 0 | G10: 0 | H10: 43 | I10: 102 | J10: 52
A11: Contra Costa | B11: 4454 | C11: 94 | D11: 4360 | E11: 85 | F11: 236 | G11: 647 | H11: 317 | I11: 1123 | J11: 1952
A12: Del Norte | B12: 196 | C12: 4 | D12: 192 | E12: 0 | F12: 0 | G12: 0 | H12: 30 | I12: 89 | J12: 73
A13: El Dorado | B13: 773 | C13: 26 | D13: 747 | E13: 1 | F13: 12 | G13: 19 | H13: 128 | I13: 322 | J13: 265
A14: Fresno | B14: 5243 | C14: 196 | D14: 5047 | E14: 29 | F14: 141 | G14: 394 | H14: 484 | I14: 1329 | J14: 2670
A15: Glenn | B15: 173 | C15: 7 | D15: 166 | E15: 0 | F15: 2 | G15: 1 | H15: 39 | I15: 63 | J15: 61
A16: Humboldt | B16: 661 | C16: 15 | D16: 646 | E16: 5 | F16: 24 | G16: 17 | H16: 93 | I16: 332 | J16: 175
... A63: Total | B63: 229586 | C63: 4477 | D63: 225109 | E63: 4675 | F63: 19993 | G63: 49658 | H63: 13409 | I63: 51222 | J63: 86152
A65: *Severity implemented in 2016 pursuant to MMUCC guideline. (See Glossary for definition.)

Sheet Table 8D
A1: =Parameters!$A$24 -> TABLE 8D FATAL CRASHES BY COUNTY 2012-2021
A4: County | B4: 2012 | C4: 2013 | D4: 2014 | E4: 2015 | F4: 2016 | G4: 2017 | H4: 2018 | I4: 2019 | J4: 2020 | K4: 2021
A5: Alameda | B5: 72 | C5: 82 | D5: 83 | E5: 87 | F5: 78 | G5: 97 | H5: 78 | I5: 90 | J5: 100 | K5: 99
A6: Alpine | B6: 1 | C6: 1 | D6: 1 | E6: 2 | F6: 4 | G6: 4 | H6: 2 | I6: 2 | J6: 1 | K6: 0
A7: Amador | B7: 6 | C7: 5 | D7: 7 | E7: 7 | F7: 12 | G7: 11 | H7: 9 | I7: 13 | J7: 10 | K7: 12
A8: Butte | B8: 23 | C8: 19 | D8: 22 | E8: 31 | F8: 32 | G8: 33 | H8: 36 | I8: 33 | J8: 41 | K8: 48
A9: Calaveras | B9: 9 | C9: 7 | D9: 8 | E9: 11 | F9: 8 | G9: 19 | H9: 12 | I9: 10 | J9: 8 | K9: 14
A10: Colusa | B10: 4 | C10: 8 | D10: 3 | E10: 5 | F10: 5 | G10: 11 | H10: 10 | I10: 9 | J10: 6 | K10: 5
A11: Contra Costa | B11: 57 | C11: 48 | D11: 43 | E11: 72 | F11: 78 | G11: 62 | H11: 73 | I11: 69 | J11: 93 | K11: 89
A12: Del Norte | B12: 7 | C12: 8 | D12: 9 | E12: 14 | F12: 8 | G12: 6 | H12: 9 | I12: 8 | J12: 4 | K12: 3
A13: El Dorado | B13: 19 | C13: 23 | D13: 19 | E13: 24 | F13: 20 | G13: 24 | H13: 30 | I13: 27 | J13: 17 | K13: 24
A14: Fresno | B14: 106 | C14: 101 | D14: 118 | E14: 89 | F14: 135 | G14: 137 | H14: 108 | I14: 122 | J14: 159 | K14: 168
A15: Glenn | B15: 4 | C15: 4 | D15: 3 | E15: 6 | F15: 8 | G15: 8 | H15: 7 | I15: 5 | J15: 5 | K15: 5
... A63: Total | B63: 2758 | C63: 2853 | D63: 2882 | E63: 3168 | F63: 3552 | G63: 3582 | H63: 3478 | I63: 3438 | J63: 3672 | K63: 4161

Sheet Table 8E
A1: =Parameters!$A$27 -> TABLE 8E PERSONS KILLED BY COUNTY 2012-2021
A4: County | B4: 2012 | C4: 2013 | D4: 2014 | E4: 2015 | F4: 2016 | G4: 2017 | H4: 2018 | I4: 2019 | J4: 2020 | K4: 2021
A5: Alameda | B5: 77 | C5: 85 | D5: 85 | E5: 93 | F5: 82 | G5: 101 | H5: 85 | I5: 96 | J5: 105 | K5: 104
A6: Alpine | B6: 1 | C6: 1 | D6: 1 | E6: 2 | F6: 5 | G6: 4 | H6: 2 | I6: 2 | J6: 1 | K6: 0
A7: Amador | B7: 6 | C7: 5 | D7: 7 | E7: 8 | F7: 14 | G7: 12 | H7: 12 | I7: 16 | J7: 17 | K7: 14
A8: Butte | B8: 24 | C8: 21 | D8: 25 | E8: 33 | F8: 35 | G8: 40 | H8: 36 | I8: 34 | J8: 47 | K8: 55
A9: Calaveras | B9: 10 | C9: 7 | D9: 8 | E9: 11 | F9: 9 | G9: 20 | H9: 14 | I9: 11 | J9: 9 | K9: 14
A10: Colusa | B10: 5 | C10: 9 | D10: 3 | E10: 5 | F10: 6 | G10: 11 | H10: 13 | I10: 12 | J10: 8 | K10: 5
A11: Contra Costa | B11: 61 | C11: 50 | D11: 44 | E11: 76 | F11: 81 | G11: 66 | H11: 80 | I11: 77 | J11: 102 | K11: 94
A12: Del Norte | B12: 9 | C12: 9 | D12: 9 | E12: 15 | F12: 8 | G12: 6 | H12: 10 | I12: 11 | J12: 4 | K12: 4
A13: El Dorado | B13: 23 | C13: 25 | D13: 23 | E13: 27 | F13: 20 | G13: 27 | H13: 33 | I13: 29 | J13: 17 | K13: 26
A14: Fresno | B14: 118 | C14: 119 | D14: 137 | E14: 102 | F14: 150 | G14: 160 | H14: 120 | I14: 135 | J14: 182 | K14: 196
A15: Glenn | B15: 4 | C15: 5 | D15: 12 | E15: 6 | F15: 11 | G15: 9 | H15: 9 | I15: 7 | J15: 5 | K15: 7
... A63: Total | B63: 2995 | C63: 3104 | D63: 3126 | E63: 3435 | F63: 3854 | G63: 3904 | H63: 3804 | I63: 3737 | J63: 3982 | K63: 4477

Sheet Table 8F
A1: =Parameters!$A$30 -> TABLE 8F INJURY CRASHES BY COUNTY 2012-2021
A4: County | B4: 2012 | C4: 2013 | D4: 2014 | E4: 2015 | F4: 2016 | G4: 2017 | H4: 2018 | I4: 2019 | J4: 2020 | K4: 2021
A5: Alameda | B5: 6554 | C5: 6500 | D5: 6753 | E5: 7370 | F5: 8094 | G5: 8301 | H5: 8348 | I5: 7905 | J5: 5792 | K5: 6386
A6: Alpine | B6: 24 | C6: 29 | D6: 24 | E6: 24 | F6: 34 | G6: 40 | H6: 25 | I6: 33 | J6: 31 | K6: 23
A7: Amador | B7: 208 | C7: 167 | D7: 177 | E7: 167 | F7: 206 | G7: 215 | H7: 205 | I7: 196 | J7: 188 | K7: 202
A8: Butte | B8: 865 | C8: 853 | D8: 856 | E8: 847 | F8: 997 | G8: 989 | H8: 974 | I8: 920 | J8: 750 | K8: 779
A9: Calaveras | B9: 229 | C9: 181 | D9: 209 | E9: 221 | F9: 224 | G9: 291 | H9: 214 | I9: 226 | J9: 192 | K9: 215
A10: Colusa | B10: 111 | C10: 99 | D10: 109 | E10: 125 | F10: 132 | G10: 115 | H10: 111 | I10: 142 | J10: 118 | K10: 138
A11: Contra Costa | B11: 3159 | C11: 3144 | D11: 3191 | E11: 3695 | F11: 3919 | G11: 4045 | H11: 4248 | I11: 4353 | J11: 2925 | K11: 3180
A12: Del Norte | B12: 123 | C12: 137 | D12: 121 | E12: 126 | F12: 129 | G12: 127 | H12: 122 | I12: 139 | J12: 129 | K12: 128
A13: El Dorado | B13: 607 | C13: 597 | D13: 588 | E13: 593 | F13: 673 | G13: 669 | H13: 685 | I13: 615 | J13: 590 | K13: 551
A14: Fresno | B14: 2407 | C14: 2089 | D14: 2906 | E14: 3205 | F14: 2717 | G14: 2510 | H14: 2570 | I14: 2669 | J14: 2862 | K14: 3438
A15: Glenn | B15: 108 | C15: 96 | D15: 99 | E15: 104 | F15: 121 | G15: 127 | H15: 111 | I15: 105 | J15: 116 | K15: 123
... A63: Total | B63: 159696 | C63: 156909 | D63: 162742 | E63: 178669 | F63: 195347 | G63: 193564 | H63: 191971 | I63: 187211 | J63: 143476 | K63: 157875

Sheet Table 8G
A1: =Parameters!$A$33 -> TABLE 8G PERSONS INJURED BY COUNTY 2012-2021
A4: County | B4: 2012 | C4: 2013 | D4: 2014 | E4: 2015 | F4: 2016 | G4: 2017 | H4: 2018 | I4: 2019 | J4: 2020 | K4: 2021
A5: Alameda | B5: 8743 | C5: 8714 | D5: 8954 | E5: 9776 | F5: 10727 | G5: 11023 | H5: 11124 | I5: 10441 | J5: 7751 | K5: 8649
A6: Alpine | B6: 37 | C6: 37 | D6: 28 | E6: 27 | F6: 46 | G6: 57 | H6: 36 | I6: 66 | J6: 36 | K6: 26
A7: Amador | B7: 269 | C7: 231 | D7: 242 | E7: 231 | F7: 306 | G7: 313 | H7: 287 | I7: 276 | J7: 258 | K7: 288
A8: Butte | B8: 1236 | C8: 1151 | D8: 1181 | E8: 1147 | F8: 1393 | G8: 1413 | H8: 1339 | I8: 1262 | J8: 1043 | K8: 1088
A9: Calaveras | B9: 301 | C9: 251 | D9: 296 | E9: 319 | F9: 328 | G9: 413 | H9: 286 | I9: 305 | J9: 270 | K9: 292
A10: Colusa | B10: 152 | C10: 149 | D10: 167 | E10: 184 | F10: 176 | G10: 172 | H10: 158 | I10: 205 | J10: 162 | K10: 197
A11: Contra Costa | B11: 4299 | C11: 4310 | D11: 4346 | E11: 4984 | F11: 5537 | G11: 5602 | H11: 5863 | I11: 5982 | J11: 3921 | K11: 4360
A12: Del Norte | B12: 187 | C12: 198 | D12: 185 | E12: 192 | F12: 182 | G12: 162 | H12: 169 | I12: 217 | J12: 180 | K12: 192
A13: El Dorado | B13: 829 | C13: 816 | D13: 840 | E13: 805 | F13: 934 | G13: 912 | H13: 951 | I13: 861 | J13: 731 | K13: 747
A14: Fresno | B14: 3765 | C14: 3332 | D14: 4404 | E14: 4773 | F14: 4305 | G14: 3872 | H14: 4056 | I14: 4247 | J14: 4277 | K14: 5047
A15: Glenn | B15: 143 | C15: 148 | D15: 177 | E15: 147 | F15: 172 | G15: 192 | H15: 155 | I15: 158 | J15: 172 | K15: 166
... A63: Total | B63: 226544 | C63: 223128 | D63: 230904 | E63: 254561 | F63: 280020 | G63: 277160 | H63: 274854 | I63: 269031 | J63: 203888 | K63: 225109

Sheet Table 8H
A1: =Parameters!$A$36 -> TABLE 8H FATAL CRASHES BY COUNTY BY MONTH - 2021
A4: County | B4: Jan | C4: Feb | D4: Mar | E4: Apr | F4: May | G4: Jun | H4: Jul | I4: Aug | J4: Sep | K4: Oct | L4: Nov | M4: Dec | N4: Total
A5: Alameda | B5: 4 | C5: 11 | D5: 8 | E5: 11 | F5: 9 | G5: 7 | H5: 9 | I5: 8 | J5: 8 | K5: 5 | L5: 10 | M5: 9 | N5: 99
A6: Amador | B6: 1 | C6: 1 | D6: 2 | E6: 0 | F6: 0 | G6: 1 | H6: 1 | I6: 0 | J6: 1 | K6: 1 | L6: 4 | M6: 0 | N6: 12
A7: Butte | B7: 6 | C7: 6 | D7: 4 | E7: 5 | F7: 4 | G7: 3 | H7: 6 | I7: 3 | J7: 5 | K7: 3 | L7: 2 | M7: 1 | N7: 48
A8: Calaveras | B8: 0 | C8: 2 | D8: 0 | E8: 4 | F8: 0 | G8: 4 | H8: 1 | I8: 1 | J8: 0 | K8: 0 | L8: 0 | M8: 2 | N8: 14
A9: Colusa | B9: 0 | C9: 0 | D9: 0 | E9: 1 | F9: 0 | G9: 0 | H9: 1 | I9: 2 | J9: 0 | K9: 0 | L9: 0 | M9: 1 | N9: 5
A10: Contra Costa | B10: 13 | C10: 6 | D10: 5 | E10: 6 | F10: 7 | G10: 9 | H10: 4 | I10: 5 | J10: 9 | K10: 10 | L10: 9 | M10: 6 | N10: 89
A11: Del Norte | B11: 0 | C11: 0 | D11: 1 | E11: 0 | F11: 0 | G11: 0 | H11: 0 | I11: 1 | J11: 0 | K11: 1 | L11: 0 | M11: 0 | N11: 3
A12: El Dorado | B12: 3 | C12: 2 | D12: 1 | E12: 3 | F12: 3 | G12: 3 | H12: 5 | I12: 2 | J12: 1 | K12: 1 | L12: 0 | M12: 0 | N12: 24
A13: Fresno | B13: 17 | C13: 15 | D13: 13 | E13: 13 | F13: 12 | G13: 14 | H13: 17 | I13: 20 | J13: 13 | K13: 16 | L13: 11 | M13: 7 | N13: 168
A14: Glenn | B14: 0 | C14: 1 | D14: 0 | E14: 0 | F14: 1 | G14: 0 | H14: 0 | I14: 3 | J14: 0 | K14: 0 | L14: 0 | M14: 0 | N14: 5
A15: Humboldt | B15: 2 | C15: 2 | D15: 0 | E15: 2 | F15: 3 | G15: 0 | H15: 0 | I15: 0 | J15: 1 | K15: 2 | L15: 2 | M15: 1 | N15: 15
A16: Imperial | B16: 6 | C16: 3 | D16: 4 | E16: 3 | F16: 3 | G16: 7 | H16: 3 | I16: 3 | J16: 2 | K16: 1 | L16: 3 | M16: 3 | N16: 41
... A61: Total | B61: 330 | C61: 276 | D61: 326 | E61: 368 | F61: 311 | G61: 353 | H61: 391 | I61: 360 | J61: 366 | K61: 379 | L61: 367 | M61: 334 | N61: 4161

Sheet Table 8I
A1: =Parameters!$A$39 -> TABLE 8I PERSONS KILLED BY COUNTY BY MONTH - 2021
A4: County | B4: Jan | C4: Feb | D4: Mar | E4: Apr | F4: May | G4: Jun | H4: Jul | I4: Aug | J4: Sep | K4: Oct | L4: Nov | M4: Dec | N4: Total
A5: Alameda | B5: 4 | C5: 11 | D5: 8 | E5: 11 | F5: 10 | G5: 7 | H5: 9 | I5: 8 | J5: 10 | K5: 5 | L5: 11 | M5: 10 | N5: 104
A6: Alpine | B6: 0 | C6: 0 | D6: 0 | E6: 0 | F6: 0 | G6: 0 | H6: 0 | I6: 0 | J6: 0 | K6: 0 | L6: 0 | M6: 0 | N6: 0
A7: Amador | B7: 1 | C7: 1 | D7: 2 | E7: 0 | F7: 0 | G7: 3 | H7: 1 | I7: 0 | J7: 1 | K7: 1 | L7: 4 | M7: 0 | N7: 14
A8: Butte | B8: 6 | C8: 9 | D8: 4 | E8: 8 | F8: 4 | G8: 3 | H8: 7 | I8: 3 | J8: 5 | K8: 3 | L8: 2 | M8: 1 | N8: 55
A9: Calaveras | B9: 0 | C9: 2 | D9: 0 | E9: 4 | F9: 0 | G9: 4 | H9: 1 | I9: 1 | J9: 0 | K9: 0 | L9: 0 | M9: 2 | N9: 14
A10: Colusa | B10: 0 | C10: 0 | D10: 0 | E10: 1 | F10: 0 | G10: 0 | H10: 1 | I10: 2 | J10: 0 | K10: 0 | L10: 0 | M10: 1 | N10: 5
A11: Contra Costa | B11: 14 | C11: 6 | D11: 5 | E11: 7 | F11: 7 | G11: 9 | H11: 4 | I11: 5 | J11: 10 | K11: 11 | L11: 10 | M11: 6 | N11: 94
A12: Del Norte | B12: 0 | C12: 0 | D12: 2 | E12: 0 | F12: 0 | G12: 0 | H12: 0 | I12: 1 | J12: 0 | K12: 1 | L12: 0 | M12: 0 | N12: 4
A13: El Dorado | B13: 3 | C13: 3 | D13: 1 | E13: 3 | F13: 3 | G13: 3 | H13: 6 | I13: 2 | J13: 1 | K13: 1 | L13: 0 | M13: 0 | N13: 26
A14: Fresno | B14: 30 | C14: 16 | D14: 17 | E14: 13 | F14: 13 | G14: 17 | H14: 20 | I14: 22 | J14: 13 | K14: 16 | L14: 11 | M14: 8 | N14: 196
A15: Glenn | B15: 0 | C15: 1 | D15: 0 | E15: 0 | F15: 1 | G15: 0 | H15: 0 | I15: 5 | J15: 0 | K15: 0 | L15: 0 | M15: 0 | N15: 7
A16: Humboldt | B16: 2 | C16: 2 | D16: 0 | E16: 2 | F16: 3 | G16: 0 | H16: 0 | I16: 0 | J16: 1 | K16: 2 | L16: 2 | M16: 1 | N16: 15
... A63: Total | B63: 357 | C63: 297 | D63: 371 | E63: 393 | F63: 339 | G63: 387 | H63: 420 | I63: 381 | J63: 384 | K63: 402 | L63: 391 | M63: 355 | N63: 4477

Sheet Table 8J
A1: =Parameters!$A$42 -> TABLE 8J INJURY CRASHES BY COUNTY BY MONTH - 2021
A4: County | B4: Jan | C4: Feb | D4: Mar | E4: Apr | F4: May | G4: Jun | H4: Jul | I4: Aug | J4: Sep | K4: Oct | L4: Nov | M4: Dec | N4: Total
A5: Alameda | B5: 427 | C5: 383 | D5: 480 | E5: 497 | F5: 535 | G5: 567 | H5: 562 | I5: 558 | J5: 624 | K5: 625 | L5: 596 | M5: 532 | N5: 6386
A6: Alpine | B6: 0 | C6: 3 | D6: 2 | E6: 2 | F6: 3 | G6: 3 | H6: 0 | I6: 4 | J6: 2 | K6: 2 | L6: 1 | M6: 1 | N6: 23
A7: Amador | B7: 16 | C7: 10 | D7: 19 | E7: 18 | F7: 23 | G7: 17 | H7: 17 | I7: 13 | J7: 24 | K7: 18 | L7: 8 | M7: 19 | N7: 202
A8: Butte | B8: 48 | C8: 34 | D8: 50 | E8: 72 | F8: 71 | G8: 68 | H8: 70 | I8: 94 | J8: 58 | K8: 67 | L8: 79 | M8: 68 | N8: 779
A9: Calaveras | B9: 18 | C9: 10 | D9: 18 | E9: 19 | F9: 14 | G9: 11 | H9: 26 | I9: 21 | J9: 20 | K9: 24 | L9: 16 | M9: 18 | N9: 215
A10: Colusa | B10: 8 | C10: 6 | D10: 14 | E10: 13 | F10: 13 | G10: 7 | H10: 19 | I10: 11 | J10: 11 | K10: 15 | L10: 10 | M10: 11 | N10: 138
A11: Contra Costa | B11: 220 | C11: 193 | D11: 256 | E11: 262 | F11: 268 | G11: 273 | H11: 282 | I11: 249 | J11: 313 | K11: 272 | L11: 303 | M11: 289 | N11: 3180
A12: Del Norte | B12: 12 | C12: 5 | D12: 12 | E12: 12 | F12: 10 | G12: 10 | H12: 15 | I12: 11 | J12: 9 | K12: 11 | L12: 14 | M12: 7 | N12: 128
A13: El Dorado | B13: 46 | C13: 25 | D13: 41 | E13: 51 | F13: 51 | G13: 64 | H13: 55 | I13: 53 | J13: 43 | K13: 45 | L13: 32 | M13: 45 | N13: 551
A14: Fresno | B14: 209 | C14: 208 | D14: 280 | E14: 272 | F14: 353 | G14: 315 | H14: 262 | I14: 336 | J14: 254 | K14: 349 | L14: 271 | M14: 329 | N14: 3438
A15: Glenn | B15: 7 | C15: 7 | D15: 9 | E15: 11 | F15: 12 | G15: 14 | H15: 15 | I15: 14 | J15: 8 | K15: 12 | L15: 11 | M15: 3 | N15: 123
A16: Humboldt | B16: 41 | C16: 35 | D16: 41 | E16: 40 | F16: 53 | G16: 45 | H16: 33 | I16: 37 | J16: 39 | K16: 52 | L16: 36 | M16: 47 | N16: 499
... A63: Total | B63: 10799 | C63: 10008 | D63: 12424 | E63: 12649 | F63: 13475 | G63: 13642 | H63: 14002 | I63: 13965 | J63: 14263 | K63: 15167 | L63: 13798 | M63: 13683 | N63: 157875

Sheet Table 8K
A1: =Parameters!$A$45 -> TABLE 8K PERSONS INJURED BY COUNTY BY MONTH - 2021
A4: County | B4: Jan | C4: Feb | D4: Mar | E4: Apr | F4: May | G4: Jun | H4: Jul | I4: Aug | J4: Sep | K4: Oct | L4: Nov | M4: Dec | N4: Total
A5: Alameda | B5: 581 | C5: 503 | D5: 625 | E5: 682 | F5: 741 | G5: 794 | H5: 796 | I5: 745 | J5: 843 | K5: 853 | L5: 778 | M5: 708 | N5: 8649
A6: Alpine | B6: 0 | C6: 3 | D6: 2 | E6: 2 | F6: 4 | G6: 4 | H6: 0 | I6: 4 | J6: 3 | K6: 2 | L6: 1 | M6: 1 | N6: 26
A7: Amador | B7: 19 | C7: 14 | D7: 27 | E7: 25 | F7: 30 | G7: 28 | H7: 23 | I7: 18 | J7: 31 | K7: 27 | L7: 15 | M7: 31 | N7: 288
A8: Butte | B8: 61 | C8: 56 | D8: 64 | E8: 108 | F8: 94 | G8: 101 | H8: 108 | I8: 122 | J8: 84 | K8: 86 | L8: 113 | M8: 91 | N8: 1088
A9: Calaveras | B9: 20 | C9: 16 | D9: 21 | E9: 30 | F9: 15 | G9: 18 | H9: 34 | I9: 30 | J9: 26 | K9: 37 | L9: 20 | M9: 25 | N9: 292
A10: Colusa | B10: 10 | C10: 9 | D10: 15 | E10: 18 | F10: 18 | G10: 12 | H10: 27 | I10: 23 | J10: 17 | K10: 19 | L10: 11 | M10: 18 | N10: 197
A11: Contra Costa | B11: 297 | C11: 268 | D11: 354 | E11: 363 | F11: 381 | G11: 394 | H11: 385 | I11: 333 | J11: 410 | K11: 358 | L11: 412 | M11: 405 | N11: 4360
A12: Del Norte | B12: 17 | C12: 5 | D12: 15 | E12: 26 | F12: 17 | G12: 12 | H12: 25 | I12: 20 | J12: 17 | K12: 12 | L12: 19 | M12: 7 | N12: 192
A13: El Dorado | B13: 58 | C13: 33 | D13: 51 | E13: 71 | F13: 72 | G13: 81 | H13: 85 | I13: 72 | J13: 54 | K13: 62 | L13: 38 | M13: 70 | N13: 747
A14: Fresno | B14: 291 | C14: 307 | D14: 421 | E14: 411 | F14: 537 | G14: 467 | H14: 374 | I14: 515 | J14: 354 | K14: 515 | L14: 398 | M14: 457 | N14: 5047
A15: Glenn | B15: 10 | C15: 9 | D15: 15 | E15: 13 | F15: 18 | G15: 24 | H15: 16 | I15: 20 | J15: 11 | K15: 15 | L15: 12 | M15: 3 | N15: 166
A16: Humboldt | B16: 49 | C16: 48 | D16: 56 | E16: 52 | F16: 74 | G16: 62 | H16: 46 | I16: 50 | J16: 49 | K16: 64 | L16: 40 | M16: 56 | N16: 646
... A63: Total | B63: 15082 | C63: 13979 | D63: 17512 | E63: 18239 | F63: 19454 | G63: 19773 | H63: 20368 | I63: 19944 | J63: 20160 | K63: 21540 | L63: 19619 | M63: 19439 | N63: 225109

Sheet Table 8L
A1: =Parameters!$A$48 -> TABLE 8L DUI/PCF FATAL AND INJURY CRASHES BY COUNTY 2017-2021
B4: 2017 | D4: 2018 | F4: 2019 | H4: 2020 | J4: 2021
A5: County | B5: Fatal | C5: Injury | D5: Fatal | E5: Injury | F5: Fatal | G5: Injury | H5: Fatal | I5: Injury | J5: Fatal | K5: Injury
A6: Alameda | B6: 28 | C6: 478 | D6: 17 | E6: 497 | F6: 12 | G6: 457 | H6: 25 | I6: 383 | J6: 24 | K6: 447
A7: Alpine | B7: 3 | C7: 7 | D7: 1 | E7: 4 | F7: 0 | G7: 1 | H7: 0 | I7: 1 | J7: 0 | K7: 2
A8: Amador | B8: 6 | C8: 31 | D8: 3 | E8: 25 | F8: 4 | G8: 25 | H8: 6 | I8: 27 | J8: 9 | K8: 39
A9: Butte | B9: 8 | C9: 98 | D9: 13 | E9: 116 | F9: 14 | G9: 116 | H9: 14 | I9: 115 | J9: 14 | K9: 128
A10: Calaveras | B10: 9 | C10: 40 | D10: 5 | E10: 31 | F10: 5 | G10: 39 | H10: 2 | I10: 36 | J10: 6 | K10: 40
A11: Colusa | B11: 2 | C11: 11 | D11: 1 | E11: 15 | F11: 2 | G11: 20 | H11: 3 | I11: 16 | J11: 3 | K11: 31
A12: Contra Costa | B12: 13 | C12: 320 | D12: 24 | E12: 351 | F12: 15 | G12: 368 | H12: 23 | I12: 272 | J12: 18 | K12: 273
A13: Del Norte | B13: 3 | C13: 14 | D13: 1 | E13: 18 | F13: 0 | G13: 20 | H13: 2 | I13: 21 | J13: 0 | K13: 16
A14: El Dorado | B14: 6 | C14: 112 | D14: 6 | E14: 145 | F14: 9 | G14: 87 | H14: 5 | I14: 110 | J14: 14 | K14: 104
A15: Fresno | B15: 26 | C15: 252 | D15: 21 | E15: 271 | F15: 27 | G15: 270 | H15: 36 | I15: 313 | J15: 31 | K15: 358
A16: Glenn | B16: 5 | C16: 18 | D16: 1 | E16: 16 | F16: 2 | G16: 13 | H16: 3 | I16: 21 | J16: 3 | K16: 25
A17: Humboldt | B17: 15 | C17: 96 | D17: 9 | E17: 88 | F17: 11 | G17: 81 | H17: 10 | I17: 83 | J17: 7 | K17: 76
... A64: Total | B64: 760 | C64: 13520 | D64: 700 | E64: 13994 | F64: 720 | G64: 13652 | H64: 849 | I64: 12607 | J64: 955 | K64: 15146

Sheet Table 8M
A1: =Parameters!$A$51 -> TABLE 8M PERSONS KILLED AND INJURED IN DUI/PCF CRASHES BY COUNTY 2017-2021
B4: 2017 | D4: 2018 | F4: 2019 | H4: 2020 | J4: 2021
A5: County | B5: Killed | C5: Injured | D5: Killed | E5: Injured | F5: Killed | G5: Injured | H5: Killed | I5: Injured | J5: Killed | K5: Injured
A6: Alameda | B6: 31 | C6: 703 | D6: 20 | E6: 705 | F6: 13 | G6: 642 | H6: 27 | I6: 519 | J6: 25 | K6: 637
A7: Alpine | B7: 3 | C7: 12 | D7: 1 | E7: 7 | F7: 0 | G7: 1 | H7: 0 | I7: 1 | J7: 0 | K7: 2
A8: Amador | B8: 7 | C8: 56 | D8: 5 | E8: 36 | F8: 4 | G8: 32 | H8: 9 | I8: 38 | J8: 11 | K8: 51
A9: Butte | B9: 10 | C9: 143 | D9: 13 | E9: 178 | F9: 14 | G9: 156 | H9: 16 | I9: 159 | J9: 18 | K9: 187
A10: Calaveras | B10: 9 | C10: 59 | D10: 6 | E10: 47 | F10: 6 | G10: 45 | H10: 2 | I10: 45 | J10: 6 | K10: 57
A11: Colusa | B11: 2 | C11: 18 | D11: 1 | E11: 24 | F11: 3 | G11: 28 | H11: 4 | I11: 17 | J11: 3 | K11: 48
A12: Contra Costa | B12: 16 | C12: 476 | D12: 26 | E12: 537 | F12: 18 | G12: 526 | H12: 25 | I12: 384 | J12: 22 | K12: 394
A13: Del Norte | B13: 3 | C13: 22 | D13: 1 | E13: 19 | F13: 0 | G13: 27 | H13: 2 | I13: 34 | J13: 0 | K13: 24
A14: El Dorado | B14: 7 | C14: 156 | D14: 7 | E14: 182 | F14: 9 | G14: 120 | H14: 5 | I14: 137 | J14: 15 | K14: 134
A15: Fresno | B15: 34 | C15: 360 | D15: 23 | E15: 419 | F15: 30 | G15: 461 | H15: 47 | I15: 439 | J15: 44 | K15: 552
A16: Glenn | B16: 6 | C16: 35 | D16: 2 | E16: 19 | F16: 4 | G16: 17 | H16: 3 | I16: 30 | J16: 5 | K16: 31
A17: Humboldt | B17: 18 | C17: 131 | D17: 10 | E17: 108 | F17: 14 | G17: 103 | H17: 11 | I17: 118 | J17: 7 | K17: 98
... A64: Total | B64: 869 | C64: 20185 | D64: 816 | E64: 20825 | F64: 818 | G64: 20481 | H64: 973 | I64: 18388 | J64: 1093 | K64: 22287

Sheet Table 8N
A1: =Parameters!$A$54 -> TABLE 8N PERSONS KILLED AND INJURED INDICATING SEAT BELT, HELMET, OR OTHER SAFETY EQUIPMENT USAGE BY COUNTY, CITY, AND ROAD CLASSIFICATION - 2021
D4: Total Vehicle Occupants** | F4: Vehicle Occupant Safety Equipment Used | H4: Vehicle Occupant Safety Equipment Not Used* | J4: Total Bicyclists | L4: Bicyclist Safety Equipment Used | N4: Bicyclist Safety Equipment Not Used* | P4: Total Motorcyclists*** | R4: Motorcyclist Safety Equipment Used | T4: Motorcyclist Safety Equipment Not Used*
A5: County | B5: City | C5: Road Classification | D5: Killed | E5: Injured | F5: Killed | G5: Injured | H5: Killed | I5: Injured | J5: Killed | K5: Injured | L5: Killed | M5: Injured | N5: Killed | O5: Injured | P5: Killed | Q5: Injured | R5: Killed | S5: Injured | T5: Killed | U5: Injured
A6: Alameda | D6: 52 | E6: 7051 | F6: 44 | G6: 6787 | H6: 8 | I6: 264 | J6: 4 | K6: 384 | L6: 1 | M6: 162 | N6: 3 | O6: 222 | P6: 13 | Q6: 398 | R6: 12 | S6: 310 | T6: 1 | U6: 88
B7: Alameda | D7: 1 | E7: 130 | F7: 0 | G7: 122 | H7: 1 | I7: 8 | J7: 0 | K7: 14 | L7: 0 | M7: 5 | N7: 0 | O7: 9 | P7: 0 | Q7: 6 | R7: 0 | S7: 4 | T7: 0 | U7: 2
B8: Albany | D8: 0 | E8: 55 | F8: 0 | G8: 52 | H8: 0 | I8: 3 | J8: 0 | K8: 10 | L8: 0 | M8: 8 | N8: 0 | O8: 2 | P8: 0 | Q8: 3 | R8: 0 | S8: 3 | T8: 0 | U8: 0
B9: Berkeley | D9: 4 | E9: 358 | F9: 2 | G9: 333 | H9: 2 | I9: 25 | J9: 0 | K9: 78 | L9: 0 | M9: 36 | N9: 0 | O9: 42 | P9: 0 | Q9: 30 | R9: 0 | S9: 24 | T9: 0 | U9: 6
B10: Dublin | D10: 1 | E10: 108 | F10: 1 | G10: 106 | H10: 0 | I10: 2 | J10: 0 | K10: 11 | L10: 0 | M10: 4 | N10: 0 | O10: 7 | P10: 0 | Q10: 1 | R10: 0 | S10: 1 | T10: 0 | U10: 0
B11: Emeryville | D11: 0 | E11: 81 | F11: 0 | G11: 80 | H11: 0 | I11: 1 | J11: 0 | K11: 2 | L11: 0 | M11: 1 | N11: 0 | O11: 1 | P11: 1 | Q11: 6 | R11: 1 | S11: 5 | T11: 0 | U11: 1
B12: Fremont | D12: 5 | E12: 945 | F12: 5 | G12: 918 | H12: 0 | I12: 27 | J12: 2 | K12: 51 | L12: 0 | M12: 11 | N12: 2 | O12: 40 | P12: 7 | Q12: 41 | R12: 6 | S12: 36 | T12: 1 | U12: 5
B13: Hayward | D13: 1 | E13: 685 | F13: 1 | G13: 648 | H13: 0 | I13: 37 | J13: 0 | K13: 16 | L13: 0 | M13: 0 | N13: 0 | O13: 16 | P13: 1 | Q13: 34 | R13: 1 | S13: 18 | T13: 0 | U13: 16
B14: Livermore | D14: 3 | E14: 370 | F14: 2 | G14: 363 | H14: 1 | I14: 7 | J14: 0 | K14: 23 | L14: 0 | M14: 13 | N14: 0 | O14: 10 | P14: 1 | Q14: 18 | R14: 1 | S14: 15 | T14: 0 | U14: 3
B15: Newark | D15: 1 | E15: 133 | F15: 1 | G15: 128 | H15: 0 | I15: 5 | J15: 0 | K15: 7 | L15: 0 | M15: 3 | N15: 0 | O15: 4 | P15: 0 | Q15: 9 | R15: 0 | S15: 5 | T15: 0 | U15: 4
B16: Oakland | D16: 16 | E16: 2138 | F16: 14 | G16: 2029 | H16: 2 | I16: 109 | J16: 2 | K16: 87 | L16: 1 | M16: 40 | N16: 1 | O16: 47 | P16: 0 | Q16: 145 | R16: 0 | S16: 102 | T16: 0 | U16: 43
B17: Piedmont | D17: 0 | E17: 4 | F17: 0 | G17: 4 | H17: 0 | I17: 0 | J17: 0 | K17: 1 | L17: 0 | M17: 0 | N17: 0 | O17: 1 | P17: 0 | Q17: 0 | R17: 0 | S17: 0 | T17: 0 | U17: 0
B18: Pleasanton | D18: 2 | E18: 344 | F18: 1 | G18: 337 | H18: 1 | I18: 7 | J18: 0 | K18: 22 | L18: 0 | M18: 17 | N18: 0 | O18: 5 | P18: 0 | Q18: 18 | R18: 0 | S18: 17 | T18: 0 | U18: 1
... B21: Unincorporated | D21: 15 | E21: 1283 | F21: 14 | G21: 1262 | H21: 1 | I21: 21 | J21: 0 | K21: 41 | L21: 0 | M21: 20 | N21: 0 | O21: 21 | P21: 2 | Q21: 75 | R21: 2 | S21: 72 | T21: 0 | U21: 3
C22: County Roadways | D22: 4 | E22: 464 | F22: 3 | G22: 454 | H22: 1 | I22: 10 | J22: 0 | K22: 34 | L22: 0 | M22: 14 | N22: 0 | O22: 20 | P22: 2 | Q22: 33 | R22: 2 | S22: 32 | T22: 0 | U22: 1
C23: Uninc. State Highways | D23: 11 | E23: 819 | F23: 11 | G23: 808 | H23: 0 | I23: 11 | J23: 0 | K23: 7 | L23: 0 | M23: 6 | N23: 0 | O23: 1 | P23: 0 | Q23: 42 | R23: 0 | S23: 40 | T23: 0 | U23: 2
A24: Alpine | D24: 0 | E24: 15 | F24: 0 | G24: 13 | H24: 0 | I24: 2 | J24: 0 | K24: 3 | L24: 0 | M24: 2 | N24: 0 | O24: 1 | P24: 0 | Q24: 4 | R24: 0 | S24: 3 | T24: 0 | U24: 1
B25: Unincorporated | D25: 0 | E25: 15 | F25: 0 | G25: 13 | H25: 0 | I25: 2 | J25: 0 | K25: 3 | L25: 0 | M25: 2 | N25: 0 | O25: 1 | P25: 0 | Q25: 4 | R25: 0 | S25: 3 | T25: 0 | U25: 1
C26: County Roadways | D26: 0 | E26: 5 | F26: 0 | G26: 4 | H26: 0 | I26: 1 | J26: 0 | K26: 0 | L26: 0 | M26: 0 | N26: 0 | O26: 0 | P26: 0 | Q26: 0 | R26: 0 | S26: 0 | T26: 0 | U26: 0
C27: Uninc. State Highways | D27: 0 | E27: 10 | F27: 0 | G27: 9 | H27: 0 | I27: 1 | J27: 0 | K27: 3 | L27: 0 | M27: 2 | N27: 0 | O27: 1 | P27: 0 | Q27: 4 | R27: 0 | S27: 3 | T27: 0 | U27: 1
A28: Amador | D28: 11 | E28: 255 | F28: 9 | G28: 248 | H28: 2 | I28: 7 | J28: 0 | K28: 3 | L28: 0 | M28: 2 | N28: 0 | O28: 1 | P28: 1 | Q28: 25 | R28: 1 | S28: 22 | T28: 0 | U28: 3
B29: Amador City | D29: 0 | E29: 1 | F29: 0 | G29: 1 | H29: 0 | I29: 0 | J29: 0 | K29: 0 | L29: 0 | M29: 0 | N29: 0 | O29: 0 | P29: 0 | Q29: 0 | R29: 0 | S29: 0 | T29: 0 | U29: 0
B30: Ione | D30: 0 | E30: 5 | F30: 0 | G30: 5 | H30: 0 | I30: 0 | J30: 0 | K30: 1 | L30: 0 | M30: 0 | N30: 0 | O30: 1 | P30: 0 | Q30: 0 | R30: 0 | S30: 0 | T30: 0 | U30: 0
B31: Jackson | D31: 0 | E31: 14 | F31: 0 | G31: 14 | H31: 0 | I31: 0 | J31: 0 | K31: 1 | L31: 0 | M31: 1 | N31: 0 | O31: 0 | P31: 0 | Q31: 1 | R31: 0 | S31: 0 | T31: 0 | U31: 1
B32: Plymouth | D32: 0 | E32: 1 | F32: 0 | G32: 1 | H32: 0 | I32: 0 | J32: 0 | K32: 0 | L32: 0 | M32: 0 | N32: 0 | O32: 0 | P32: 0 | Q32: 0 | R32: 0 | S32: 0 | T32: 0 | U32: 0
B33: Sutter Creek | D33: 1 | E33: 5 | F33: 0 | G33: 5 | H33: 1 | I33: 0 | J33: 0 | K33: 0 | L33: 0 | M33: 0 | N33: 0 | O33: 0 | P33: 0 | Q33: 1 | R33: 0 | S33: 1 | T33: 0 | U33: 0
B34: Unincorporated | D34: 10 | E34: 229 | F34: 9 | G34: 222 | H34: 1 | I34: 7 | J34: 0 | K34: 1 | L34: 0 | M34: 1 | N34: 0 | O34: 0 | P34: 1 | Q34: 23 | R34: 1 | S34: 21 | T34: 0 | U34: 2
C35: County Roadways | D35: 1 | E35: 112 | F35: 0 | G35: 106 | H35: 1 | I35: 6 | J35: 0 | K35: 1 | L35: 0 | M35: 1 | N35: 0 | O35: 0 | P35: 0 | Q35: 14 | R35: 0 | S35: 12 | T35: 0 | U35: 2
C36: Uninc. State Highways | D36: 9 | E36: 117 | F36: 9 | G36: 116 | H36: 0 | I36: 1 | J36: 0 | K36: 0 | L36: 0 | M36: 0 | N36: 0 | O36: 0 | P36: 1 | Q36: 9 | R36: 1 | S36: 9 | T36: 0 | U36: 0
A37: Butte | D37: 38 | E37: 856 | F37: 24 | G37: 797 | H37: 14 | I37: 59 | J37: 0 | K37: 43 | L37: 0 | M37: 6 | N37: 0 | O37: 37 | P37: 10 | Q37: 65 | R37: 9 | S37: 56 | T37: 1 | U37: 9
B38: Chico | D38: 4 | E38: 216 | F38: 3 | G38: 196 | H38: 1 | I38: 20 | J38: 0 | K38: 32 | L38: 0 | M38: 4 | N38: 0 | O38: 28 | P38: 2 | Q38: 13 | R38: 2 | S38: 8 | T38: 0 | U38: 5
B39: Gridley | D39: 0 | E39: 32 | F39: 0 | G39: 29 | H39: 0 | I39: 3 | J39: 0 | K39: 1 | L39: 0 | M39: 0 | N39: 0 | O39: 1 | P39: 0 | Q39: 2 | R39: 0 | S39: 2 | T39: 0 | U39: 0
B40: Oroville | D40: 5 | E40: 83 | F40: 3 | G40: 77 | H40: 2 | I40: 6 | J40: 0 | K40: 5 | L40: 0 | M40: 1 | N40: 0 | O40: 4 | P40: 2 | Q40: 10 | R40: 1 | S40: 8 | T40: 1 | U40: 2
B41: Paradise | D41: 0 | E41: 30 | F41: 0 | G41: 27 | H41: 0 | I41: 3 | J41: 0 | K41: 0 | L41: 0 | M41: 0 | N41: 0 | O41: 0 | P41: 0 | Q41: 2 | R41: 0 | S41: 0 | T41: 0 | U41: 2
B42: Unincorporated | D42: 29 | E42: 495 | F42: 18 | G42: 468 | H42: 11 | I42: 27 | J42: 0 | K42: 5 | L42: 0 | M42: 1 | N42: 0 | O42: 4 | P42: 6 | Q42: 38 | R42: 6 | S42: 38 | T42: 0 | U42: 0
C43: County Roadways | D43: 18 | E43: 278 | F43: 9 | G43: 259 | H43: 9 | I43: 19 | J43: 0 | K43: 4 | L43: 0 | M43: 0 | N43: 0 | O43: 4 | P43: 5 | Q43: 29 | R43: 5 | S43: 29 | T43: 0 | U43: 0
C44: Uninc. State Highways | D44: 11 | E44: 217 | F44: 9 | G44: 209 | H44: 2 | I44: 8 | J44: 0 | K44: 1 | L44: 0 | M44: 1 | N44: 0 | O44: 0 | P44: 1 | Q44: 9 | R44: 1 | S44: 9 | T44: 0 | U44: 0
A45: Calaveras | D45: 7 | E45: 230 | F45: 5 | G45: 224 | H45: 2 | I45: 6 | J45: 0 | K45: 2 | L45: 0 | M45: 1 | N45: 0 | O45: 1 | P45: 6 | Q45: 45 | R45: 6 | S45: 41 | T45: 0 | U45: 4
B46: Angels Camp | D46: 0 | E46: 11 | F46: 0 | G46: 11 | H46: 0 | I46: 0 | J46: 0 | K46: 0 | L46: 0 | M46: 0 | N46: 0 | O46: 0 | P46: 0 | Q46: 3 | R46: 0 | S46: 3 | T46: 0 | U46: 0
B47: Unincorporated | D47: 7 | E47: 219 | F47: 5 | G47: 213 | H47: 2 | I47: 6 | J47: 0 | K47: 2 | L47: 0 | M47: 1 | N47: 0 | O47: 1 | P47: 6 | Q47: 42 | R47: 6 | S47: 38 | T47: 0 | U47: 4
C48: County Roadways | D48: 2 | E48: 69 | F48: 2 | G48: 68 | H48: 0 | I48: 1 | J48: 0 | K48: 2 | L48: 0 | M48: 1 | N48: 0 | O48: 1 | P48: 4 | Q48: 18 | R48: 4 | S48: 14 | T48: 0 | U48: 4
C49: Uninc. State Highways | D49: 5 | E49: 150 | F49: 3 | G49: 145 | H49: 2 | I49: 5 | J49: 0 | K49: 0 | L49: 0 | M49: 0 | N49: 0 | O49: 0 | P49: 2 | Q49: 24 | R49: 2 | S49: 24 | T49: 0 | U49: 0
A50: Colusa | D50: 4 | E50: 178 | F50: 4 | G50: 172 | H50: 0 | I50: 6 | J50: 0 | K50: 0 | L50: 0 | M50: 0 | N50: 0 | O50: 0 | P50: 0 | Q50: 17 | R50: 0 | S50: 13 | T50: 0 | U50: 4
B51: Colusa | D51: 0 | E51: 13 | F51: 0 | G51: 12 | H51: 0 | I51: 1 | J51: 0 | K51: 0 | L51: 0 | M51: 0 | N51: 0 | O51: 0 | P51: 0 | Q51: 0 | R51: 0 | S51: 0 | T51: 0 | U51: 0
B52: Williams | D52: 0 | E52: 0 | F52: 0 | G52: 0 | H52: 0 | I52: 0 | J52: 0 | K52: 0 | L52: 0 | M52: 0 | N52: 0 | O52: 0 | P52: 0 | Q52: 0 | R52: 0 | S52: 0 | T52: 0 | U52: 0
B53: Unincorporated | D53: 4 | E53: 165 | F53: 4 | G53: 160 | H53: 0 | I53: 5 | J53: 0 | K53: 0 | L53: 0 | M53: 0 | N53: 0 | O53: 0 | P53: 0 | Q53: 17 | R53: 0 | S53: 13 | T53: 0 | U53: 4
C54: County Roadways | D54: 1 | E54: 59 | F54: 1 | G54: 58 | H54: 0 | I54: 1 | J54: 0 | K54: 0 | L54: 0 | M54: 0 | N54: 0 | O54: 0 | P54: 0 | Q54: 12 | R54: 0 | S54: 8 | T54: 0 | U54: 4
C55: Uninc. State Highways | D55: 3 | E55: 106 | F55: 3 | G55: 102 | H55: 0 | I55: 4 | J55: 0 | K55: 0 | L55: 0 | M55: 0 | N55: 0 | O55: 0 | P55: 0 | Q55: 5 | R55: 0 | S55: 5 | T55: 0 | U55: 0
A56: Contra Costa | D56: 60 | E56: 3678 | F56: 42 | G56: 3528 | H56: 18 | I56: 150 | J56: 5 | K56: 153 | L56: 3 | M56: 57 | N56: 2 | O56: 96 | P56: 9 | Q56: 229 | R56: 8 | S56: 169 | T56: 1 | U56: 60
B57: Antioch | D57: 5 | E57: 287 | F57: 3 | G57: 259 | H57: 2 | I57: 28 | J57: 0 | K57: 5 | L57: 0 | M57: 1 | N57: 0 | O57: 4 | P57: 1 | Q57: 19 | R57: 0 | S57: 8 | T57: 1 | U57: 11
B58: Brentwood | D58: 4 | E58: 160 | F58: 4 | G58: 156 | H58: 0 | I58: 4 | J58: 0 | K58: 5 | L58: 0 | M58: 1 | N58: 0 | O58: 4 | P58: 0 | Q58: 8 | R58: 0 | S58: 5 | T58: 0 | U58: 3
B59: Clayton | D59: 0 | E59: 11 | F59: 0 | G59: 10 | H59: 0 | I59: 1 | J59: 0 | K59: 0 | L59: 0 | M59: 0 | N59: 0 | O59: 0 | P59: 0 | Q59: 1 | R59: 0 | S59: 1 | T59: 0 | U59: 0
B60: Concord | D60: 2 | E60: 518 | F60: 2 | G60: 502 | H60: 0 | I60: 16 | J60: 0 | K60: 20 | L60: 0 | M60: 2 | N60: 0 | O60: 18 | P60: 1 | Q60: 35 | R60: 1 | S60: 28 | T60: 0 | U60: 7
B61: Danville | D61: 0 | E61: 73 | F61: 0 | G61: 71 | H61: 0 | I61: 2 | J61: 0 | K61: 6 | L61: 0 | M61: 4 | N61: 0 | O61: 2 | P61: 0 | Q61: 2 | R61: 0 | S61: 2 | T61: 0 | U61: 0
B62: El Cerrito | D62: 0 | E62: 23 | F62: 0 | G62: 23 | H62: 0 | I62: 0 | J62: 0 | K62: 6 | L62: 0 | M62: 2 | N62: 0 | O62: 4 | P62: 0 | Q62: 2 | R62: 0 | S62: 0 | T62: 0 | U62: 2
B63: Hercules | D63: 3 | E63: 95 | F63: 3 | G63: 93 | H63: 0 | I63: 2 | J63: 0 | K63: 1 | L63: 0 | M63: 1 | N63: 0 | O63: 0 | P63: 0 | Q63: 2 | R63: 0 | S63: 2 | T63: 0 | U63: 0
B64: Kensington | D64: 0 | E64: 1 | F64: 0 | G64: 1 | H64: 0 | I64: 0 | J64: 0 | K64: 1 | L64: 0 | M64: 1 | N64: 0 | O64: 0 | P64: 0 | Q64: 0 | R64: 0 | S64: 0 | T64: 0 | U64: 0
B65: Lafayette | D65: 3 | E65: 84 | F65: 3 | G65: 82 | H65: 0 | I65: 2 | J65: 1 | K65: 3 | L65: 0 | M65: 1 | N65: 1 | O65: 2 | P65: 0 | Q65: 4 | R65: 0 | S65: 4 | T65: 0 | U65: 0
B66: Martinez | D66: 5 | E66: 101 | F66: 2 | G66: 95 | H66: 3 | I66: 6 | J66: 1 | K66: 6 | L66: 1 | M66: 5 | N66: 0 | O66: 1 | P66: 1 | Q66: 7 | R66: 1 | S66: 5 | T66: 0 | U66: 2
B67: Moraga | D67: 0 | E67: 6 | F67: 0 | G67: 5 | H67: 0 | I67: 1 | J67: 1 | K67: 2 | L67: 1 | M67: 2 | N67: 0 | O67: 0 | P67: 0 | Q67: 0 | R67: 0 | S67: 0 | T67: 0 | U67: 0
B68: Oakley | D68: 3 | E68: 37 | F68: 3 | G68: 35 | H68: 0 | I68: 2 | J68: 0 | K68: 1 | L68: 0 | M68: 0 | N68: 0 | O68: 1 | P68: 0 | Q68: 8 | R68: 0 | S68: 6 | T68: 0 | U68: 2
... B77: Unincorporated | D77: 17 | E77: 931 | F77: 10 | G77: 903 | H77: 7 | I77: 28 | J77: 0 | K77: 35 | L77: 0 | M77: 16 | N77: 0 | O77: 19 | P77: 3 | Q77: 56 | R77: 3 | S77: 46 | T77: 0 | U77: 10
C78: County Roadways | D78: 9 | E78: 411 | F78: 7 | G78: 399 | H78: 2 | I78: 12 | J78: 0 | K78: 33 | L78: 0 | M78: 15 | N78: 0 | O78: 18 | P78: 2 | Q78: 32 | R78: 2 | S78: 27 | T78: 0 | U78: 5
C79: Uninc. State Highways | D79: 8 | E79: 520 | F79: 3 | G79: 504 | H79: 5 | I79: 16 | J79: 0 | K79: 2 | L79: 0 | M79: 1 | N79: 0 | O79: 1 | P79: 1 | Q79: 24 | R79: 1 | S79: 19 | T79: 0 | U79: 5
A80: Del Norte | D80: 4 | E80: 174 | F80: 4 | G80: 165 | H80: 0 | I80: 9 | J80: 0 | K80: 5 | L80: 0 | M80: 2 | N80: 0 | O80: 3 | P80: 0 | Q80: 10 | R80: 0 | S80: 10 | T80: 0 | U80: 0
B81: Crescent City | D81: 0 | E81: 3 | F81: 0 | G81: 3 | H81: 0 | I81: 0 | J81: 0 | K81: 0 | L81: 0 | M81: 0 | N81: 0 | O81: 0 | P81: 0 | Q81: 0 | R81: 0 | S81: 0 | T81: 0 | U81: 0
B82: Unincorporated | D82: 4 | E82: 171 | F82: 4 | G82: 162 | H82: 0 | I82: 9 | J82: 0 | K82: 5 | L82: 0 | M82: 2 | N82: 0 | O82: 3 | P82: 0 | Q82: 10 | R82: 0 | S82: 10 | T82: 0 | U82: 0
C83: County Roadways | D83: 0 | E83: 35 | F83: 0 | G83: 33 | H83: 0 | I83: 2 | J83: 0 | K83: 4 | L83: 0 | M83: 2 | N83: 0 | O83: 2 | P83: 0 | Q83: 3 | R83: 0 | S83: 3 | T83: 0 | U83: 0
C84: Uninc. State Highways | D84: 4 | E84: 136 | F84: 4 | G84: 129 | H84: 0 | I84: 7 | J84: 0 | K84: 1 | L84: 0 | M84: 0 | N84: 0 | O84: 1 | P84: 0 | Q84: 7 | R84: 0 | S84: 7 | T84: 0 | U84: 0
A85: El Dorado | D85: 20 | E85: 628 | F85: 14 | G85: 608 | H85: 6 | I85: 20 | J85: 0 | K85: 14 | L85: 0 | M85: 6 | N85: 0 | O85: 8 | P85: 4 | Q85: 89 | R85: 3 | S85: 78 | T85: 1 | U85: 11
B86: Placerville | D86: 2 | E86: 27 | F86: 1 | G86: 25 | H86: 1 | I86: 2 | J86: 0 | K86: 1 | L86: 0 | M86: 0 | N86: 0 | O86: 1 | P86: 0 | Q86: 3 | R86: 0 | S86: 1 | T86: 0 | U86: 2
B87: South Lake Tahoe | D87: 0 | E87: 44 | F87: 0 | G87: 42 | H87: 0 | I87: 2 | J87: 0 | K87: 4 | L87: 0 | M87: 0 | N87: 0 | O87: 4 | P87: 0 | Q87: 5 | R87: 0 | S87: 3 | T87: 0 | U87: 2
B88: Unincorporated | D88: 18 | E88: 557 | F88: 13 | G88: 541 | H88: 5 | I88: 16 | J88: 0 | K88: 9 | L88: 0 | M88: 6 | N88: 0 | O88: 3 | P88: 4 | Q88: 81 | R88: 3 | S88: 74 | T88: 1 | U88: 7
C89: County Roadways | D89: 6 | E89: 327 | F89: 5 | G89: 318 | H89: 1 | I89: 9 | J89: 0 | K89: 9 | L89: 0 | M89: 6 | N89: 0 | O89: 3 | P89: 3 | Q89: 60 | R89: 2 | S89: 54 | T89: 1 | U89: 6
C90: Uninc. State Highways | D90: 12 | E90: 230 | F90: 8 | G90: 223 | H90: 4 | I90: 7 | J90: 0 | K90: 0 | L90: 0 | M90: 0 | N90: 0 | O90: 0 | P90: 1 | Q90: 21 | R90: 1 | S90: 20 | T90: 0 | U90: 1
A91: Fresno | D91: 121 | E91: 4490 | F91: 91 | G91: 4341 | H91: 30 | I91: 149 | J91: 5 | K91: 86 | L91: 0 | M91: 11 | N91: 5 | O91: 75 | P91: 21 | Q91: 212 | R91: 18 | S91: 184 | T91: 3 | U91: 28
B92: Clovis | D92: 0 | E92: 312 | F92: 0 | G92: 306 | H92: 0 | I92: 6 | J92: 0 | K92: 19 | L92: 0 | M92: 5 | N92: 0 | O92: 14 | P92: 2 | Q92: 20 | R92: 2 | S92: 15 | T92: 0 | U92: 5
B93: Coalinga | D93: 0 | E93: 2 | F93: 0 | G93: 2 | H93: 0 | I93: 0 | J93: 0 | K93: 0 | L93: 0 | M93: 0 | N93: 0 | O93: 0 | P93: 0 | Q93: 0 | R93: 0 | S93: 0 | T93: 0 | U93: 0
B94: Firebaugh | D94: 0 | E94: 1 | F94: 0 | G94: 1 | H94: 0 | I94: 0 | J94: 0 | K94: 0 | L94: 0 | M94: 0 | N94: 0 | O94: 0 | P94: 0 | Q94: 0 | R94: 0 | S94: 0 | T94: 0 | U94: 0
B95: Fowler | D95: 0 | E95: 16 | F95: 0 | G95: 16 | H95: 0 | I95: 0 | J95: 0 | K95: 0 | L95: 0 | M95: 0 | N95: 0 | O95: 0 | P95: 0 | Q95: 0 | R95: 0 | S95: 0 | T95: 0 | U95: 0
B96: Fresno | D96: 29 | E96: 1639 | F96: 22 | G96: 1573 | H96: 7 | I96: 66 | J96: 3 | K96: 51 | L96: 0 | M96: 1 | N96: 3 | O96: 50 | P96: 14 | Q96: 80 | R96: 12 | S96: 65 | T96: 2 | U96: 15
B97: Kingsburg | D97: 0 | E97: 66 | F97: 0 | G97: 66 | H97: 0 | I97: 0 | J97: 0 | K97: 0 | L97: 0 | M97: 0 | N97: 0 | O97: 0 | P97: 0 | Q97: 0 | R97: 0 | S97: 0 | T97: 0 | U97: 0
B98: Mendota | D98: 0 | E98: 8 | F98: 0 | G98: 6 | H98: 0 | I98: 2 | J98: 0 | K98: 0 | L98: 0 | M98: 0 | N98: 0 | O98: 0 | P98: 0 | Q98: 0 | R98: 0 | S98: 0 | T98: 0 | U98: 0
B99: Parlier | D99: 1 | E99: 12 | F99: 1 | G99: 11 | H99: 0 | I99: 1 | J99: 0 | K99: 0 | L99: 0 | M99: 0 | N99: 0 | O99: 0 | P99: 0 | Q99: 0 | R99: 0 | S99: 0 | T99: 0 | U99: 0
B100: Reedley | D100: 0 | E100: 35 | F100: 0 | G100: 34 | H100: 0 | I100: 1 | J100: 0 | K100: 2 | L100: 0 | M100: 0 | N100: 0 | O100: 2 | P100: 0 | Q100: 0 | R100: 0 | S100: 0 | T100: 0 | U100: 0
B101: Sanger | D101: 0 | E101: 22 | F101: 0 | G101: 20 | H101: 0 | I101: 2 | J101: 0 | K101: 3 | L101: 0 | M101: 0 | N101: 0 | O101: 3 | P101: 0 | Q101: 1 | R101: 0 | S101: 1 | T101: 0 | U101: 0
B102: Selma | D102: 2 | E102: 70 | F102: 0 | G102: 68 | H102: 2 | I102: 2 | J102: 0 | K102: 1 | L102: 0 | M102: 0 | N102: 0 | O102: 1 | P102: 0 | Q102: 2 | R102: 0 | S102: 2 | T102: 0 | U102: 0
B103: Unincorporated | D103: 89 | E103: 2307 | F103: 68 | G103: 2238 | H103: 21 | I103: 69 | J103: 2 | K103: 10 | L103: 0 | M103: 5 | N103: 2 | O103: 5 | P103: 5 | Q103: 109 | R103: 4 | S103: 101 | T103: 1 | U103: 8
C104: County Roadways | D104: 40 | E104: 1441 | F104: 32 | G104: 1408 | H104: 8 | I104: 33 | J104: 1 | K104: 9 | L104: 0 | M104: 5 | N104: 1 | O104: 4 | P104: 4 | Q104: 78 | R104: 3 | S104: 70 | T104: 1 | U104: 8
C105: Uninc. State Highways | D105: 49 | E105: 866 | F105: 36 | G105: 830 | H105: 13 | I105: 36 | J105: 1 | K105: 1 | L105: 0 | M105: 0 | N105: 1 | O105: 1 | P105: 1 | Q105: 31 | R105: 1 | S105: 31 | T105: 0 | U105: 0
A106: Glenn | D106: 6 | E106: 156 | F106: 5 | G106: 144 | H106: 1 | I106: 12 | J106: 0 | K106: 2 | L106: 0 | M106: 1 | N106: 0 | O106: 1 | P106: 1 | Q106: 4 | R106: 1 | S106: 1 | T106: 0 | U106: 3
B107: Orland | D107: 1 | E107: 10 | F107: 1 | G107: 8 | H107: 0 | I107: 2 | J107: 0 | K107: 2 | L107: 0 | M107: 1 | N107: 0 | O107: 1 | P107: 0 | Q107: 1 | R107: 0 | S107: 0 | T107: 0 | U107: 1
B108: Willows | D108: 0 | E108: 1 | F108: 0 | G108: 1 | H108: 0 | I108: 0 | J108: 0 | K108: 0 | L108: 0 | M108: 0 | N108: 0 | O108: 0 | P108: 0 | Q108: 0 | R108: 0 | S108: 0 | T108: 0 | U108: 0
B109: Unincorporated | D109: 5 | E109: 145 | F109: 4 | G109: 135 | H109: 1 | I109: 10 | J109: 0 | K109: 0 | L109: 0 | M109: 0 | N109: 0 | O109: 0 | P109: 1 | Q109: 3 | R109: 1 | S109: 1 | T109: 0 | U109: 2
C110: County Roadways | D110: 0 | E110: 70 | F110: 0 | G110: 66 | H110: 0 | I110: 4 | J110: 0 | K110: 0 | L110: 0 | M110: 0 | N110: 0 | O110: 0 | P110: 1 | Q110: 2 | R110: 1 | S110: 0 | T110: 0 | U110: 2
C111: Uninc. State Highways | D111: 5 | E111: 75 | F111: 4 | G111: 69 | H111: 1 | I111: 6 | J111: 0 | K111: 0 | L111: 0 | M111: 0 | N111: 0 | O111: 0 | P111: 0 | Q111: 1 | R111: 0 | S111: 1 | T111: 0 | U111: 0
A112: Humboldt | D112: 11 | E112: 531 | F112: 7 | G112: 488 | H112: 4 | I112: 43 | J112: 1 | K112: 20 | L112: 0 | M112: 6 | N112: 1 | O112: 14 | P112: 1 | Q112: 45 | R112: 1 | S112: 33 | T112: 0 | U112: 12
...

Sheet Parameters
A1: Crash_year
A2: 2021
A4: Start_year | B4: End_year
A5: 2012 | B5: 2021
A7: Start_year2 | B7: End_year2
A8: 2017 | B8: 2021
A11: Title 8A
A12: ="TABLE 8A CRASHES BY COUNTY, CITY, AND ROAD CLASSIFICATION - "&A2&"" -> TABLE 8A CRASHES BY COUNTY, CITY, AND ROAD CLASSIFICATION - 2021
A14: ="TABLE 8A PERSONS KILLED AND INJURED BY COUNTY, CITY, AND ROAD CLASSIFICATION - "&A2&"" -> TABLE 8A PERSONS KILLED AND INJURED BY COUNTY, CITY, AND ROAD CLASSIFICATION - 2021
A16: Title 8B
A17: TABLE 8B MOTOR VEHICLE REGISTRATION, MOTORCYCLE REGISTRATION, LICENSED DRIVERS, POPULATION,
A18: ="AND ROADWAY MILES BY COUNTY - "&A2&"" -> AND ROADWAY MILES BY COUNTY - 2021
A20: Title 8C
A21: ="TABLE 8C PERSONS KILLED AND INJURED BY EXTENT OF INJURY BY COUNTY - "&A2 -> TABLE 8C PERSONS KILLED AND INJURED BY EXTENT OF INJURY BY COUNTY - 2021
A23: Title 8D
A24: ="TABLE 8D FATAL CRASHES BY COUNTY "&A5&"-"&B5 -> TABLE 8D FATAL CRASHES BY COUNTY 2012-2021
A26: Title 8E
A27: ="TABLE 8E PERSONS KILLED BY COUNTY "&A5&"-"&B5 -> TABLE 8E PERSONS KILLED BY COUNTY 2012-2021
A29: Title 8F
A30: ="TABLE 8F INJURY CRASHES BY COUNTY "&A5&"-"&B5 -> TABLE 8F INJURY CRASHES BY COUNTY 2012-2021
A32: Title 8G
A33: ="TABLE 8G PERSONS INJURED BY COUNTY "&A5&"-"&B5 -> TABLE 8G PERSONS INJURED BY COUNTY 2012-2021
A35: Title 8H
A36: ="TABLE 8H FATAL CRASHES BY COUNTY BY MONTH - "&A2 -> TABLE 8H FATAL CRASHES BY COUNTY BY MONTH - 2021
A38: Title 8I
A39: ="TABLE 8I PERSONS KILLED BY COUNTY BY MONTH - "&A2 -> TABLE 8I PERSONS KILLED BY COUNTY BY MONTH - 2021
A41: Title 8J
A42: ="TABLE 8J INJURY CRASHES BY COUNTY BY MONTH - "&A2 -> TABLE 8J INJURY CRASHES BY COUNTY BY MONTH - 2021
A44: Title 8K
A45: ="TABLE 8K PERSONS INJURED BY COUNTY BY MONTH - "&A2 -> TABLE 8K PERSONS INJURED BY COUNTY BY MONTH - 2021
A47: Title 8L
A48: ="TABLE 8L DUI/PCF FATAL AND INJURY CRASHES BY COUNTY "&A8&"-"&B8 -> TABLE 8L DUI/PCF FATAL AND INJURY CRASHES BY COUNTY 2017-2021
A50: Title 8M
A51: ="TABLE 8M PERSONS KILLED AND INJURED IN DUI/PCF CRASHES BY COUNTY "&A8&"-"&B8 -> TABLE 8M PERSONS KILLED AND INJURED IN DUI/PCF CRASHES BY COUNTY 2017-2021
A53: Title 8N
A54: ="TABLE 8N PERSONS KILLED AND INJURED INDICATING SEAT BELT, HELMET, OR OTHER SAFETY EQUIPMENT USAGE BY COUNTY, CITY, AND ROAD CLASSIFICATION - "&A2&"" -> TABLE 8N PERSONS KILLED AND INJURED INDICATING SEAT BELT, HELMET, OR OTHER SAFETY EQUIPMENT USAGE BY COUNTY, CITY, AND ROAD CLASSIFICATION - 2021

Sheet Table 8B Calculations
A1: Gray areas manually inputted however data will autoload into Table 8B
B3: Refer to DMV Estimated Vehicles Registered by County Report | G3: Refer to DMV Driver Licenses Outstanding by County | I3: Refer to E-2 Report from DOF | K3: Refer to Caltrans HPMS Public Road Data, Table 5: Mileage of Maintained Public Roads in Each County by Type of Jurisdiction
A4: COUNTIES | B4: AUTOS | C4: TRUCKS | D4: M/C | E4: TOTAL | G4: LICENSED DRIVERS | I4: POPULATION | K4: CITY ROADS | L4: COUNTY ROADS | M4: STATE HIGHWAY
A5: ALAMEDA | B5: 1055138 | C5: 179267 | D5: 31042 | E5: =SUM(B5:D5) -> 1265447 | G5: 1150671 | I5: 1654938 | K5: 3138.99 | L5: 501.71 | M5: 194.26
A6: ALPINE | B6: 1544 | C6: 777 | D6: 70 | E6: =SUM(B6:D6) -> 2391 | G6: 1255 | I6: 1181 | L6: 151.62 | M6: 84
A7: AMADOR | B7: 30741 | C7: 16606 | D7: 2424 | E7: =SUM(B7:D7) -> 49771 | G7: 30753 | I7: 40222 | K7: 69.57 | L7: 465.71 | M7: 119.31
A8: BUTTE | B8: 118456 | C8: 53286 | D8: 6811 | E8: =SUM(B8:D8) -> 178553 | G8: 151153 | I8: 206694 | K8: 508.34 | L8: 1305.13 | M8: 183.53
A9: CALAVERAS | B9: 38980 | C9: 22005 | D9: 3304 | E9: =SUM(B9:D9) -> 64289 | G9: 38716 | I9: 45013 | K9: 28.53 | L9: 957.95 | M9: 149.72
A10: COLUSA | B10: 13616 | C10: 8497 | D10: 538 | E10: =SUM(B10:D10) -> 22651 | G10: 15462 | I10: 21867 | K10: 63.3 | L10: 742.73 | M10: 114.66
A11: CONTRA COSTA | B11: 824951 | C11: 162042 | D11: 27488 | E11: =SUM(B11:D11) -> 1014481 | G11: 844100 | I11: 1160418 | K11: 2813.76 | L11: 715.99 | M11: 111.37
A12: DEL NORTE | B12: 14929 | C12: 7571 | D12: 853 | E12: =SUM(B12:D12) -> 23353 | G12: 18331 | I12: 27365 | K12: 24.08 | L12: 305.8 | M12: 91.88
A13: EL DORADO | B13: 137442 | C13: 51357 | D13: 8797 | E13: =SUM(B13:D13) -> 197596 | G13: 157176 | I13: 191309 | K13: 189.07 | L13: 1220.18 | M13: 178
A14: FRESNO | B14: 570474 | C14: 203484 | D14: 18513 | E14: =SUM(B14:D14) -> 792471 | G14: 619182 | I14: 1010453 | K14: 2534.64 | L14: 4012.77 | M14: 517.77
A15: GLENN | B15: 17635 | C15: 10907 | D15: 969 | E15: =SUM(B15:D15) -> 29511 | G15: 20816 | I15: 28734 | K15: 69.09 | L15: 866.97 | M15: 110.36
A16: HUMBOLDT | B16: 81381 | C16: 41531 | D16: 4669 | E16: =SUM(B16:D16) -> 127581 | G16: 97969 | I16: 134639 | K16: 278.37 | L16: 1402.87 | M16: 336.9
A17: IMPERIAL | B17: 140609 | C17: 53450 | D17: 3484 | E17: =SUM(B17:D17) -> 197543 | G17: 125813 | I17: 179340 | K17: 420.95 | L17: 2674.8 | M17: 409.61
A18: INYO | B18: 14504 | C18: 8440 | D18: 1002 | E18: =SUM(B18:D18) -> 23946 | G18: 14467 | I18: 18879 | K18: 16.69 | L18: 1611.56 | M18: 422.46
... A25: MARIN | B25: 190777 | C25: 32881 | D25: 6987 | E25: =SUM(B25:D25) -> 230645 | G25: 199020 | I25: 258385 | K25: 633.42 | L25: 446.25 | M25: 89.79
A26: MARIPOSA | B26: 13496 | C26: 8230 | D26: 1077 | E26: =SUM(B26:D26) -> 22803 | G26: 14176 | I26: 17016 | L26: 845.53 | M26: 116.44
A27: MENDOCINO | B27: 60036 | C27: 34832 | D27: 3681 | E27: =SUM(B27:D27) -> 98549 | G27: 66581 | I27: 90445 | K27: 110.88 | L27: 1180.5 | M27: 384.47
A28: MERCED | B28: 159351 | C28: 61458 | D28: 5037 | E28: =SUM(B28:D28) -> 225846 | G28: 170122 | I28: 281750 | K28: 578.93 | L28: 1917.98 | M28: 256.64
A29: MODOC | B29: 5270 | C29: 4501 | D29: 262 | E29: =SUM(B29:D29) -> 10033 | G29: 6751 | I29: 8579 | K29: 31.92 | L29: 1218.31 | M29: 177.7
A30: MONO | B30: 9144 | C30: 4702 | D30: 712 | E30: =SUM(B30:D30) -> 14558 | G30: 9605 | I30: 13258 | K30: 54.27 | L30: 716.35 | M30: 313.93
A31: MONTEREY | B31: 277361 | C31: 88363 | D31: 8445 | E31: =SUM(B31:D31) -> 374169 | G31: 281330 | I31: 437644 | K31: 780.57 | L31: 1337.9 | M31: 287.68
A32: NAPA | B32: 95008 | C32: 31410 | D32: 3953 | E32: =SUM(B32:D32) -> 130371 | G32: 102427 | I32: 137386 | K32: 325.19 | L32: 466.35 | M32: 110.73
A33: NEVADA | B33: 71380 | C33: 30117 | D33: 5435 | E33: =SUM(B33:D33) -> 106932 | G33: 85554 | I33: 102221 | K33: 253.73 | L33: 829.19 | M33: 129.07
A34: ORANGE | B34: 2271305 | C34: 423391 | D34: 60120 | E34: =SUM(B34:D34) -> 2754816 | G34: 2360632 | I34: 3163851 | K34: 5772.65 | L34: 364.71 | M34: 276.2
A35: PLACER | B35: 300491 | C35: 90530 | D35: 14049 | E35: =SUM(B35:D35) -> 405070 | G35: 318516 | I35: 409189 | K35: 937.4 | L35: 1580.19 | M35: 153.08
A36: PLUMAS | B36: 14840 | C36: 9883 | D36: 1031 | E36: =SUM(B36:D36) -> 25754 | G36: 16488 | I36: 19720 | K36: 22.99 | L36: 729.47 | M36: 181.47
A37: RIVERSIDE | B37: 1529684 | C37: 426284 | D37: 51917 | E37: =SUM(B37:D37) -> 2007885 | G37: 1677067 | I37: 2431238 | K37: 6058.47 | L37: 2558.59 | M37: 629.98
A38: SACRAMENTO | B38: 994521 | C38: 233194 | D38: 33415 | E38: =SUM(B38:D38) -> 1261130 | G38: 1087690 | I38: 1583084 | K38: 2644.41 | L38: 2235.59 | M38: 211.71
... A41: SAN DIEGO | B41: 2260632 | C41: 500471 | D41: 86269 | E41: =SUM(B41:D41) -> 2847372 | G41: 2417394 | I41: 3284368 | K41: 6028.33 | L41: 2104.66 | M41: 616.54
A42: SAN FRANCISCO | B42: 393078 | C42: 51765 | D42: 18154 | E42: =SUM(B42:D42) -> 462997 | G42: 574962 | I42: 838402 | K42: 895.07 | M42: 33.73
A43: SAN JOAQUIN | B43: 478115 | C43: 150528 | D43: 16846 | E43: =SUM(B43:D43) -> 645489 | G43: 510624 | I43: 782894 | K43: 1648.45 | L43: 1730.06 | M43: 263.54
A44: SAN LUIS OBISPO | B44: 188941 | C44: 68737 | D44: 10833 | E44: =SUM(B44:D44) -> 268511 | G44: 208350 | I44: 278600 | K44: 709.18 | L44: 1429.9 | M44: 357.01
A45: SAN MATEO | B45: 569797 | C45: 84894 | D45: 16087 | E45: =SUM(B45:D45) -> 670778 | G45: 552948 | I45: 747900 | K45: 1544.85 | L45: 328.92 | M45: 212.34
A46: SANTA BARBARA | B46: 282207 | C46: 85685 | D46: 12387 | E46: =SUM(B46:D46) -> 380279 | G46: 297842 | I46: 439322 | K46: 802.81 | L46: 876.14 | M46: 294.55
A47: SANTA CLARA | B47: 1332612 | C47: 197572 | D47: 36844 | E47: =SUM(B47:D47) -> 1567028 | G47: 1396888 | I47: 1899154 | K47: 3797.88 | L47: 661.89 | M47: 251.24
A48: SANTA CRUZ | B48: 176886 | C48: 53638 | D48: 10395 | E48: =SUM(B48:D48) -> 240919 | G48: 192191 | I48: 263445 | K48: 315.94 | L48: 633.07 | M48: 124.23
A49: SHASTA | B49: 110032 | C49: 52741 | D49: 7420 | E49: =SUM(B49:D49) -> 170193 | G49: 136027 | I49: 181871 | K49: 538.6 | L49: 1292.35 | M49: 312.44
A50: SIERRA | B50: 2634 | C50: 1833 | D50: 204 | E50: =SUM(B50:D50) -> 4671 | G50: 2392 | I50: 3213 | K50: 5.67 | L50: 591.52 | M50: 97.47
A51: SISKIYOU | B51: 30123 | C51: 18914 | D51: 2021 | E51: =SUM(B51:D51) -> 51058 | G51: 34894 | I51: 43616 | K51: 176.45 | L51: 1441.41 | M51: 349.14
A52: SOLANO | B52: 304868 | C52: 78208 | D52: 13308 | E52: =SUM(B52:D52) -> 396384 | G52: 320053 | I52: 448820 | K52: 1151.09 | L52: 595.92 | M52: 159.51
A53: SONOMA | B53: 342115 | C53: 119795 | D53: 17150 | E53: =SUM(B53:D53) -> 479060 | G53: 370184 | I53: 483341 | K53: 1011.68 | L53: 1425.74 | M53: 235.53
A54: STANISLAUS | B54: 332924 | C54: 122216 | D54: 12956 | E54: =SUM(B54:D54) -> 468096 | G54: 365587 | I54: 551845 | K54: 1277.27 | L54: 1629.73 | M54: 180.66
... A56: TEHAMA | B56: 35544 | C56: 20801 | D56: 2026 | E56: =SUM(B56:D56) -> 58371 | G56: 45414 | I56: 65204 | K56: 116.43 | L56: 1155.06 | M56: 206.16
A57: TRINITY | B57: 7998 | C57: 5852 | D57: 639 | E57: =SUM(B57:D57) -> 14489 | G57: 9236 | I57: 16011 | L57: 697.61 | M57: 200.18
A58: TULARE | B58: 255336 | C58: 110901 | D58: 9008 | E58: =SUM(B58:D58) -> 375245 | G58: 281635 | I58: 474800 | K58: 1147.61 | L58: 3438.35 | M58: 352.3
A59: TUOLUMNE | B59: 40557 | C59: 22158 | D59: 3076 | E59: =SUM(B59:D59) -> 65791 | G59: 42107 | I59: 54705 | K59: 33.34 | L59: 849.56 | M59: 150.29
A60: VENTURA | B60: 596553 | C60: 149531 | D60: 24345 | E60: =SUM(B60:D60) -> 770429 | G60: 625419 | I60: 838630 | K60: 1945.68 | L60: 581.9 | M60: 262.7
A61: YOLO | B61: 124118 | C61: 38217 | D61: 4308 | E61: =SUM(B61:D61) -> 166643 | G61: 143570 | I61: 215580 | K61: 541.09 | L61: 821.35 | M61: 169.92
A62: YUBA | B62: 44088 | C62: 17588 | D62: 2485 | E62: =SUM(B62:D62) -> 64161 | G62: 52606 | I62: 82211 | K62: 74.48 | L62: 732.88 | M62: 64.48
A63: OUT OF STATE | B63: 109678 | C63: 46415 | D63: 4975 | E63: =SUM(B63:D63) -> 161068 | G63: 140108
K64: =SUM(K5:K62) -> 79890.56 | L64: =SUM(L5:L62) -> 73518.16 | M64: =SUM(M5:M62) -> 15027.45
K65: plus .03 | L65: plus .02 | M65: same amt | N65: <--- difference between source totals per table 5. Will be slightly off due to rounding by source agencies-(see third footnote labeled 3 listed on Table 8B to explain this difference
