Workbook

Sheet Table 8A - Crashes
A1: =Parameters!$A$12 -> TABLE 8A CRASHES BY COUNTY, CITY, AND ROAD CLASSIFICATION - 2021
A3: County | B3: City | C3: Road Classification | D3: Fatal Crashes | E3: Injury Crashes | F3: Property Damage Only Crashes | G3: Alcohol Involved Fatal | H3: Alcohol Involved Injury | I3: Pedestrian Involved Fatal | J3: Pedestrian Involved Injury | K3: Bicyclist Involved Fatal | L3: Bicyclist Involved Injury | M3: Motorcycle Involved Fatal* | N3: Motorcycle Involved Injury*
A4: Alameda | D4: 99 | E4: 6386 | F4: 12269 | G4: 33 | H4: 621 | I4: 33 | J4: 478 | K4: 4 | L4: 382 | M4: 13 | N4: 403
B5: Alameda | D5: 1 | E5: 139 | F5: 343 | G5: 1 | H5: 15 | I5: 0 | J5: 23 | K5: 0 | L5: 14 | M5: 0 | N5: 6
B6: Albany | D6: 0 | E6: 69 | F6: 142 | G6: 0 | H6: 10 | I6: 0 | J6: 13 | K6: 0 | L6: 10 | M6: 0 | N6: 3
B7: Berkeley | D7: 8 | E7: 404 | F7: 647 | G7: 2 | H7: 32 | I7: 5 | J7: 46 | K7: 0 | L7: 78 | M7: 0 | N7: 30
B8: CSU Hayward | D8: 0 | E8: 0 | F8: 1 | G8: 0 | H8: 0 | I8: 0 | J8: 0 | K8: 0 | L8: 0 | M8: 0 | N8: 0
B9: Dublin | D9: 2 | E9: 106 | F9: 236 | G9: 0 | H9: 7 | I9: 1 | J9: 6 | K9: 0 | L9: 12 | M9: 0 | N9: 1
B10: Emeryville | D10: 1 | E10: 75 | F10: 309 | G10: 0 | H10: 7 | I10: 0 | J10: 7 | K10: 0 | L10: 2 | M10: 1 | N10: 6
B11: Fremont | D11: 18 | E11: 764 | F11: 932 | G11: 6 | H11: 70 | I11: 4 | J11: 32 | K11: 2 | L11: 50 | M11: 7 | N11: 41
B12: Hayward | D12: 8 | E12: 572 | F12: 1006 | G12: 4 | H12: 65 | I12: 7 | J12: 44 | K12: 0 | L12: 16 | M12: 1 | N12: 34
B13: Livermore | D13: 4 | E13: 320 | F13: 690 | G13: 1 | H13: 41 | I13: 0 | J13: 10 | K13: 0 | L13: 23 | M13: 1 | N13: 18
B14: Newark | D14: 1 | E14: 116 | F14: 177 | G14: 1 | H14: 8 | I14: 0 | J14: 1 | K14: 0 | L14: 8 | M14: 0 | N14: 9
B15: Oakland | D15: 28 | E15: 1992 | F15: 4147 | G15: 8 | H15: 171 | I15: 10 | J15: 205 | K15: 2 | L15: 88 | M15: 0 | N15: 149
B16: Piedmont | D16: 0 | E16: 11 | F16: 62 | G16: 0 | H16: 2 | I16: 0 | J16: 4 | K16: 0 | L16: 1 | M16: 0 | N16: 0
... B20: Unincorporated | D20: 17 | E20: 1048 | F20: 2267 | G20: 4 | H20: 108 | I20: 2 | J20: 37 | K20: 0 | L20: 41 | M20: 2 | N20: 75
C21: County Roadways | D21: 6 | E21: 443 | F21: 1014 | G21: 1 | H21: 58 | I21: 0 | J21: 31 | K21: 0 | L21: 34 | M21: 2 | N21: 33
C22: Uninc. State Highways | D22: 11 | E22: 605 | F22: 1253 | G22: 3 | H22: 50 | I22: 2 | J22: 6 | K22: 0 | L22: 7 | M22: 0 | N22: 42
A23: Alpine | D23: 0 | E23: 23 | F23: 42 | G23: 0 | H23: 3 | I23: 0 | J23: 0 | K23: 0 | L23: 3 | M23: 0 | N23: 4
B24: Unincorporated | D24: 0 | E24: 23 | F24: 42 | G24: 0 | H24: 3 | I24: 0 | J24: 0 | K24: 0 | L24: 3 | M24: 0 | N24: 4
C25: County Roadways | D25: 0 | E25: 6 | F25: 3 | G25: 0 | H25: 1 | I25: 0 | J25: 0 | K25: 0 | L25: 0 | M25: 0 | N25: 0
C26: Uninc. State Highways | D26: 0 | E26: 17 | F26: 39 | G26: 0 | H26: 2 | I26: 0 | J26: 0 | K26: 0 | L26: 3 | M26: 0 | N26: 4
A27: Amador | D27: 12 | E27: 202 | F27: 306 | G27: 8 | H27: 42 | I27: 2 | J27: 2 | K27: 0 | L27: 3 | M27: 1 | N27: 23
B28: Amador City | D28: 0 | E28: 1 | F28: 3 | G28: 0 | H28: 0 | I28: 0 | J28: 0 | K28: 0 | L28: 0 | M28: 0 | N28: 0
B29: Ione | D29: 0 | E29: 5 | F29: 6 | G29: 0 | H29: 0 | I29: 0 | J29: 0 | K29: 0 | L29: 1 | M29: 0 | N29: 0
B30: Jackson | D30: 2 | E30: 11 | F30: 30 | G30: 1 | H30: 2 | I30: 2 | J30: 1 | K30: 0 | L30: 1 | M30: 0 | N30: 1
B31: Plymouth | D31: 0 | E31: 1 | F31: 4 | G31: 0 | H31: 0 | I31: 0 | J31: 0 | K31: 0 | L31: 0 | M31: 0 | N31: 0
B32: Sutter Creek | D32: 1 | E32: 3 | F32: 21 | G32: 0 | H32: 0 | I32: 0 | J32: 0 | K32: 0 | L32: 0 | M32: 0 | N32: 1
B33: Unincorporated | D33: 9 | E33: 181 | F33: 242 | G33: 7 | H33: 40 | I33: 0 | J33: 1 | K33: 0 | L33: 1 | M33: 1 | N33: 21
C34: County Roadways | D34: 1 | E34: 91 | F34: 114 | G34: 0 | H34: 23 | I34: 0 | J34: 1 | K34: 0 | L34: 1 | M34: 0 | N34: 13
C35: Uninc. State Highways | D35: 8 | E35: 90 | F35: 128 | G35: 7 | H35: 17 | I35: 0 | J35: 0 | K35: 0 | L35: 0 | M35: 1 | N35: 8
A36: Butte | D36: 48 | E36: 779 | F36: 1140 | G36: 13 | H36: 138 | I36: 7 | J36: 39 | K36: 0 | L36: 43 | M36: 10 | N36: 61
B37: Biggs | D37: 0 | E37: 0 | F37: 2 | G37: 0 | H37: 0 | I37: 0 | J37: 0 | K37: 0 | L37: 0 | M37: 0 | N37: 0
B38: Chico | D38: 7 | E38: 255 | F38: 208 | G38: 0 | H38: 47 | I38: 1 | J38: 20 | K38: 0 | L38: 32 | M38: 2 | N38: 15
B39: Gridley | D39: 1 | E39: 22 | F39: 40 | G39: 0 | H39: 3 | I39: 1 | J39: 1 | K39: 0 | L39: 1 | M39: 0 | N39: 1
B40: Oroville | D40: 8 | E40: 94 | F40: 161 | G40: 3 | H40: 10 | I40: 3 | J40: 8 | K40: 0 | L40: 5 | M40: 2 | N40: 9
B41: Paradise | D41: 0 | E41: 28 | F41: 24 | G41: 0 | H41: 5 | I41: 0 | J41: 0 | K41: 0 | L41: 0 | M41: 0 | N41: 2
B42: Unincorporated | D42: 32 | E42: 380 | F42: 705 | G42: 10 | H42: 73 | I42: 2 | J42: 10 | K42: 0 | L42: 5 | M42: 6 | N42: 34
C43: County Roadways | D43: 21 | E43: 237 | F43: 443 | G43: 7 | H43: 57 | I43: 0 | J43: 7 | K43: 0 | L43: 4 | M43: 5 | N43: 25
C44: Uninc. State Highways | D44: 11 | E44: 143 | F44: 262 | G44: 3 | H44: 16 | I44: 2 | J44: 3 | K44: 0 | L44: 1 | M44: 1 | N44: 9
...

Sheet Table 8A - Victims
A1: =Parameters!$A$14 -> TABLE 8A PERSONS KILLED AND INJURED BY COUNTY, CITY, AND ROAD CLASSIFICATION - 2021
A3: County | B3: City | C3: Road Classification | D3: Driver Killed | E3: Driver Injured | F3: Passenger Killed | G3: Passenger Injured | H3: Pedestrian Killed | I3: Pedestrian Injured | J3: Bicyclist Killed | K3: Bicyclist Injured | L3: Motorcyclist Killed* | M3: Motorcyclist Injured* | N3: Other Killed | O3: Other Injured | P3: Operator Killed | Q3: Operator Injured | R3: Total Killed | S3: Total Injured
A4: Alameda | D4: 51 | E4: 5666 | F4: 14 | G4: 2033 | H4: 34 | I4: 507 | J4: 4 | K4: 384 | L4: 13 | M4: 398 | N4: 1 | O4: 59 | P4: 0 | Q4: 0 | R4: 104 | S4: 8649
B5: Alameda | D5: 1 | E5: 104 | F5: 0 | G5: 33 | H5: 0 | I5: 24 | J5: 0 | K5: 14 | L5: 0 | M5: 6 | N5: 0 | O5: 2 | P5: 0 | Q5: 0 | R5: 1 | S5: 177
B6: Albany | D6: 0 | E6: 44 | F6: 0 | G6: 14 | H6: 0 | I6: 14 | J6: 0 | K6: 10 | L6: 0 | M6: 3 | N6: 0 | O6: 0 | P6: 0 | Q6: 0 | R6: 0 | S6: 82
B7: Berkeley | D7: 3 | E7: 289 | F7: 1 | G7: 111 | H7: 6 | I7: 52 | J7: 0 | K7: 78 | L7: 0 | M7: 30 | N7: 0 | O7: 7 | P7: 0 | Q7: 0 | R7: 10 | S7: 537
B8: Dublin | D8: 1 | E8: 84 | F8: 0 | G8: 30 | H8: 1 | I8: 6 | J8: 0 | K8: 11 | L8: 0 | M8: 1 | N8: 0 | O8: 0 | P8: 0 | Q8: 0 | R8: 2 | S8: 131
B9: Emeryville | D9: 1 | E9: 66 | F9: 0 | G9: 24 | H9: 0 | I9: 8 | J9: 0 | K9: 2 | L9: 1 | M9: 6 | N9: 0 | O9: 0 | P9: 0 | Q9: 0 | R9: 1 | S9: 100
B10: Fremont | D10: 11 | E10: 779 | F10: 1 | G10: 216 | H10: 4 | I10: 37 | J10: 2 | K10: 51 | L10: 7 | M10: 41 | N10: 0 | O10: 0 | P10: 0 | Q10: 0 | R10: 18 | S10: 1083
B11: Hayward | D11: 2 | E11: 537 | F11: 0 | G11: 201 | H11: 7 | I11: 45 | J11: 0 | K11: 16 | L11: 1 | M11: 34 | N11: 0 | O11: 1 | P11: 0 | Q11: 0 | R11: 9 | S11: 800
B12: Livermore | D12: 4 | E12: 297 | F12: 0 | G12: 95 | H12: 0 | I12: 10 | J12: 0 | K12: 23 | L12: 1 | M12: 18 | N12: 0 | O12: 2 | P12: 0 | Q12: 0 | R12: 4 | S12: 427
B13: Newark | D13: 1 | E13: 120 | F13: 0 | G13: 28 | H13: 0 | I13: 1 | J13: 0 | K13: 7 | L13: 0 | M13: 9 | N13: 0 | O13: 0 | P13: 0 | Q13: 0 | R13: 1 | S13: 156
B14: Oakland | D14: 14 | E14: 1622 | F14: 2 | G14: 692 | H14: 10 | I14: 214 | J14: 2 | K14: 87 | L14: 0 | M14: 145 | N14: 0 | O14: 36 | P14: 0 | Q14: 0 | R14: 28 | S14: 2651
B15: Piedmont | D15: 0 | E15: 6 | F15: 0 | G15: 0 | H15: 0 | I15: 4 | J15: 0 | K15: 1 | L15: 0 | M15: 0 | N15: 0 | O15: 0 | P15: 0 | Q15: 0 | R15: 0 | S15: 11
B16: Pleasanton | D16: 1 | E16: 274 | F16: 1 | G16: 94 | H16: 2 | I16: 9 | J16: 0 | K16: 22 | L16: 0 | M16: 18 | N16: 1 | O16: 2 | P16: 0 | Q16: 0 | R16: 5 | S16: 401
... B19: Unincorporated | D19: 11 | E19: 1018 | F19: 6 | G19: 345 | H19: 2 | I19: 38 | J19: 0 | K19: 41 | L19: 2 | M19: 75 | N19: 0 | O19: 3 | P19: 0 | Q19: 0 | R19: 19 | S19: 1445
C20: County Roadways | D20: 5 | E20: 395 | F20: 1 | G20: 108 | H20: 0 | I20: 32 | J20: 0 | K20: 34 | L20: 2 | M20: 33 | N20: 0 | O20: 2 | P20: 0 | Q20: 0 | R20: 6 | S20: 571
C21: Uninc. State Highways | D21: 6 | E21: 623 | F21: 5 | G21: 237 | H21: 2 | I21: 6 | J21: 0 | K21: 7 | L21: 0 | M21: 42 | N21: 0 | O21: 1 | P21: 0 | Q21: 0 | R21: 13 | S21: 874
A22: Alpine | D22: 0 | E22: 18 | F22: 0 | G22: 5 | H22: 0 | I22: 0 | J22: 0 | K22: 3 | L22: 0 | M22: 4 | N22: 0 | O22: 0 | P22: 0 | Q22: 0 | R22: 0 | S22: 26
B23: Unincorporated | D23: 0 | E23: 18 | F23: 0 | G23: 5 | H23: 0 | I23: 0 | J23: 0 | K23: 3 | L23: 0 | M23: 4 | N23: 0 | O23: 0 | P23: 0 | Q23: 0 | R23: 0 | S23: 26
C24: County Roadways | D24: 0 | E24: 5 | F24: 0 | G24: 3 | H24: 0 | I24: 0 | J24: 0 | K24: 0 | L24: 0 | M24: 0 | N24: 0 | O24: 0 | P24: 0 | Q24: 0 | R24: 0 | S24: 8
C25: Uninc. State Highways | D25: 0 | E25: 13 | F25: 0 | G25: 2 | H25: 0 | I25: 0 | J25: 0 | K25: 3 | L25: 0 | M25: 4 | N25: 0 | O25: 0 | P25: 0 | Q25: 0 | R25: 0 | S25: 18
A26: Amador | D26: 11 | E26: 201 | F26: 1 | G26: 82 | H26: 2 | I26: 2 | J26: 0 | K26: 3 | L26: 1 | M26: 25 | N26: 0 | O26: 0 | P26: 0 | Q26: 0 | R26: 14 | S26: 288
B27: Amador City | D27: 0 | E27: 1 | F27: 0 | G27: 0 | H27: 0 | I27: 0 | J27: 0 | K27: 0 | L27: 0 | M27: 0 | N27: 0 | O27: 0 | P27: 0 | Q27: 0 | R27: 0 | S27: 1
B28: Ione | D28: 0 | E28: 4 | F28: 0 | G28: 1 | H28: 0 | I28: 0 | J28: 0 | K28: 1 | L28: 0 | M28: 0 | N28: 0 | O28: 0 | P28: 0 | Q28: 0 | R28: 0 | S28: 6
B29: Jackson | D29: 0 | E29: 11 | F29: 0 | G29: 5 | H29: 2 | I29: 1 | J29: 0 | K29: 1 | L29: 0 | M29: 1 | N29: 0 | O29: 0 | P29: 0 | Q29: 0 | R29: 2 | S29: 18
B30: Plymouth | D30: 0 | E30: 1 | F30: 0 | G30: 0 | H30: 0 | I30: 0 | J30: 0 | K30: 0 | L30: 0 | M30: 0 | N30: 0 | O30: 0 | P30: 0 | Q30: 0 | R30: 0 | S30: 1
B31: Sutter Creek | D31: 1 | E31: 4 | F31: 0 | G31: 2 | H31: 0 | I31: 0 | J31: 0 | K31: 0 | L31: 0 | M31: 1 | N31: 0 | O31: 0 | P31: 0 | Q31: 0 | R31: 1 | S31: 6
B32: Unincorporated | D32: 10 | E32: 180 | F32: 1 | G32: 74 | H32: 0 | I32: 1 | J32: 0 | K32: 1 | L32: 1 | M32: 23 | N32: 0 | O32: 0 | P32: 0 | Q32: 0 | R32: 11 | S32: 256
C33: County Roadways | D33: 1 | E33: 87 | F33: 0 | G33: 40 | H33: 0 | I33: 1 | J33: 0 | K33: 1 | L33: 0 | M33: 14 | N33: 0 | O33: 0 | P33: 0 | Q33: 0 | R33: 1 | S33: 129
C34: Uninc. State Highways | D34: 9 | E34: 93 | F34: 1 | G34: 34 | H34: 0 | I34: 0 | J34: 0 | K34: 0 | L34: 1 | M34: 9 | N34: 0 | O34: 0 | P34: 0 | Q34: 0 | R34: 10 | S34: 127
A35: Butte | D35: 38 | E35: 740 | F35: 10 | G35: 256 | H35: 7 | I35: 38 | J35: 0 | K35: 43 | L35: 10 | M35: 65 | N35: 0 | O35: 11 | P35: 0 | Q35: 0 | R35: 55 | S35: 1088
B36: Chico | D36: 6 | E36: 206 | F36: 0 | G36: 61 | H36: 1 | I36: 21 | J36: 0 | K36: 32 | L36: 2 | M36: 13 | N36: 0 | O36: 7 | P36: 0 | Q36: 0 | R36: 7 | S36: 327
B37: Gridley | D37: 0 | E37: 19 | F37: 0 | G37: 15 | H37: 1 | I37: 1 | J37: 0 | K37: 1 | L37: 0 | M37: 2 | N37: 0 | O37: 0 | P37: 0 | Q37: 0 | R37: 1 | S37: 36
B38: Oroville | D38: 5 | E38: 82 | F38: 2 | G38: 33 | H38: 3 | I38: 6 | J38: 0 | K38: 5 | L38: 2 | M38: 10 | N38: 0 | O38: 3 | P38: 0 | Q38: 0 | R38: 10 | S38: 129
B39: Paradise | D39: 0 | E39: 34 | F39: 0 | G39: 9 | H39: 0 | I39: 0 | J39: 0 | K39: 0 | L39: 0 | M39: 2 | N39: 0 | O39: 0 | P39: 0 | Q39: 0 | R39: 0 | S39: 43
B40: Unincorporated | D40: 27 | E40: 399 | F40: 8 | G40: 138 | H40: 2 | I40: 10 | J40: 0 | K40: 5 | L40: 6 | M40: 38 | N40: 0 | O40: 1 | P40: 0 | Q40: 0 | R40: 37 | S40: 553
C41: County Roadways | D41: 18 | E41: 235 | F41: 5 | G41: 75 | H41: 0 | I41: 7 | J41: 0 | K41: 4 | L41: 5 | M41: 29 | N41: 0 | O41: 1 | P41: 0 | Q41: 0 | R41: 23 | S41: 322
C42: Uninc. State Highways | D42: 9 | E42: 164 | F42: 3 | G42: 63 | H42: 2 | I42: 3 | J42: 0 | K42: 1 | L42: 1 | M42: 9 | N42: 0 | O42: 0 | P42: 0 | Q42: 0 | R42: 14 | S42: 231
A43: Calaveras | D43: 13 | E43: 219 | F43: 1 | G43: 66 | H43: 0 | I43: 5 | J43: 0 | K43: 2 | L43: 6 | M43: 45 | N43: 0 | O43: 0 | P43: 0 | Q43: 0 | R43: 14 | S43: 292
...

Sheet Table 8B
A1: =Parameters!$A$17 -> TABLE 8B MOTOR VEHICLE REGISTRATION, MOTORCYCLE REGISTRATION, LICENSED DRIVERS, POPULATION,
A2: =Parameters!$A$18 -> AND ROADWAY MILES BY COUNTY - 2021
H4: Roadway Miles3/
A5: County | B5: Motor Vehicle Registration1/ | C5: Motorcycle Registration2/ | D5: Licensed Drivers5/ | E5: Population5/ | F5: Total | G5: City4/ Roadways | H5: State Highways | I5: County Roadways
A6: Alameda | B6: ='Table 8B Calculations'!E5 -> 1265447 | C6: ='Table 8B Calculations'!D5 -> 31042 | D6: ='Table 8B Calculations'!G5 -> 1150671 | E6: ='Table 8B Calculations'!I5 -> 1654938 | F6: =SUM(G6:I6) -> 3834.96 | G6: ='Table 8B Calculations'!K5 -> 3138.99 | H6: ='Table 8B Calculations'!M5 -> 194.26 | I6: ='Table 8B Calculations'!L5 -> 501.71
A7: Alpine | B7: ='Table 8B Calculations'!E6 -> 2391 | C7: ='Table 8B Calculations'!D6 -> 70 | D7: ='Table 8B Calculations'!G6 -> 1255 | E7: ='Table 8B Calculations'!I6 -> 1181 | F7: =SUM(G7:I7) -> 235.62 | G7: ='Table 8B Calculations'!K6 | H7: ='Table 8B Calculations'!M6 -> 84 | I7: ='Table 8B Calculations'!L6 -> 151.62
A8: Amador | B8: ='Table 8B Calculations'!E7 -> 49771 | C8: ='Table 8B Calculations'!D7 -> 2424 | D8: ='Table 8B Calculations'!G7 -> 30753 | E8: ='Table 8B Calculations'!I7 -> 40222 | F8: =SUM(G8:I8) -> 654.59 | G8: ='Table 8B Calculations'!K7 -> 69.57 | H8: ='Table 8B Calculations'!M7 -> 119.31 | I8: ='Table 8B Calculations'!L7 -> 465.71
A9: Butte | B9: ='Table 8B Calculations'!E8 -> 178553 | C9: ='Table 8B Calculations'!D8 -> 6811 | D9: ='Table 8B Calculations'!G8 -> 151153 | E9: ='Table 8B Calculations'!I8 -> 206694 | F9: =SUM(G9:I9) -> 1997 | G9: ='Table 8B Calculations'!K8 -> 508.34 | H9: ='Table 8B Calculations'!M8 -> 183.53 | I9: ='Table 8B Calculations'!L8 -> 1305.13
A10: Calaveras | B10: ='Table 8B Calculations'!E9 -> 64289 | C10: ='Table 8B Calculations'!D9 -> 3304 | D10: ='Table 8B Calculations'!G9 -> 38716 | E10: ='Table 8B Calculations'!I9 -> 45013 | F10: =SUM(G10:I10) -> 1136.2 | G10: ='Table 8B Calculations'!K9 -> 28.53 | H10: ='Table 8B Calculations'!M9 -> 149.72 | I10: ='Table 8B Calculations'!L9 -> 957.95
A11: Colusa | B11: ='Table 8B Calculations'!E10 -> 22651 | C11: ='Table 8B Calculations'!D10 -> 538 | D11: ='Table 8B Calculations'!G10 -> 15462 | E11: ='Table 8B Calculations'!I10 -> 21867 | F11: =SUM(G11:I11) -> 920.69 | G11: ='Table 8B Calculations'!K10 -> 63.3 | H11: ='Table 8B Calculations'!M10 -> 114.66 | I11: ='Table 8B Calculations'!L10 -> 742.73
A12: Contra Costa | B12: ='Table 8B Calculations'!E11 -> 1014481 | C12: ='Table 8B Calculations'!D11 -> 27488 | D12: ='Table 8B Calculations'!G11 -> 844100 | E12: ='Table 8B Calculations'!I11 -> 1160418 | F12: =SUM(G12:I12) -> 3641.12 | G12: ='Table 8B Calculations'!K11 -> 2813.76 | H12: ='Table 8B Calculations'!M11 -> 111.37 | I12: ='Table 8B Calculations'!L11 -> 715.99
A13: Del Norte | B13: ='Table 8B Calculations'!E12 -> 23353 | C13: ='Table 8B Calculations'!D12 -> 853 | D13: ='Table 8B Calculations'!G12 -> 18331 | E13: ='Table 8B Calculations'!I12 -> 27365 | F13: =SUM(G13:I13) -> 421.76 | G13: ='Table 8B Calculations'!K12 -> 24.08 | H13: ='Table 8B Calculations'!M12 -> 91.88 | I13: ='Table 8B Calculations'!L12 -> 305.8
A14: El Dorado | B14: ='Table 8B Calculations'!E13 -> 197596 | C14: ='Table 8B Calculations'!D13 -> 8797 | D14: ='Table 8B Calculations'!G13 -> 157176 | E14: ='Table 8B Calculations'!I13 -> 191309 | F14: =SUM(G14:I14) -> 1587.25 | G14: ='Table 8B Calculations'!K13 -> 189.07 | H14: ='Table 8B Calculations'!M13 -> 178 | I14: ='Table 8B Calculations'!L13 -> 1220.18
A15: Fresno | B15: ='Table 8B Calculations'!E14 -> 792471 | C15: ='Table 8B Calculations'!D14 -> 18513 | D15: ='Table 8B Calculations'!G14 -> 619182 | E15: ='Table 8B Calculations'!I14 -> 1010453 | F15: =SUM(G15:I15) -> 7065.18 | G15: ='Table 8B Calculations'!K14 -> 2534.64 | H15: ='Table 8B Calculations'!M14 -> 517.77 | I15: ='Table 8B Calculations'!L14 -> 4012.77
A16: Glenn | B16: ='Table 8B Calculations'!E15 -> 29511 | C16: ='Table 8B Calculations'!D15 -> 969 | D16: ='Table 8B Calculations'!G15 -> 20816 | E16: ='Table 8B Calculations'!I15 -> 28734 | F16: =SUM(G16:I16) -> 1046.42 | G16: ='Table 8B Calculations'!K15 -> 69.09 | H16: ='Table 8B Calculations'!M15 -> 110.36 | I16: ='Table 8B Calculations'!L15 -> 866.97
A17: Humboldt | B17: ='Table 8B Calculations'!E16 -> 127581 | C17: ='Table 8B Calculations'!D16 -> 4669 | D17: ='Table 8B Calculations'!G16 -> 97969 | E17: ='Table 8B Calculations'!I16 -> 134639 | F17: =SUM(G17:I17) -> 2018.14 | G17: ='Table 8B Calculations'!K16 -> 278.37 | H17: ='Table 8B Calculations'!M16 -> 336.9 | I17: ='Table 8B Calculations'!L16 -> 1402.87
... A63: Yuba | B63: ='Table 8B Calculations'!E62 -> 64161 | C63: ='Table 8B Calculations'!D62 -> 2485 | D63: ='Table 8B Calculations'!G62 -> 52606 | E63: ='Table 8B Calculations'!I62 -> 82211 | F63: =SUM(G63:I63) -> 871.84 | G63: ='Table 8B Calculations'!K62 -> 74.48 | H63: ='Table 8B Calculations'!M62 -> 64.48 | I63: ='Table 8B Calculations'!L62 -> 732.88
A64: Interstate | B64: ='Table 8B Calculations'!E63 -> 161068 | C64: ='Table 8B Calculations'!D63 -> 4975 | D64: ='Table 8B Calculations'!G63 -> 140108
A65: Statewide Total | B65: =SUM(B6:B64) -> 32690168 | C65: =SUM(C6:C64) -> 853368 | D65: =SUM(D6:D64) -> 27462109 | E65: =SUM(E6:E64) -> 39239554 | F65: =SUM(G65:I65) -> 168436.17 | G65: =SUM(G6:G64) -> 79890.56 | H65: =SUM(H6:H64) -> 15027.45 | I65: =SUM(I6:I64) -> 73518.16
A67: 1/Based on estimates made by California Department of Motor Vehicles.
A68: 2/Motorcycle Registration is also included in Motor Vehicle Registration.
A69: 3/Roadway miles as of 9/22/23. Totals may not add due to rounding.
A70: 4/Excludes freeways.
A71: 5/Totals may not add due to rounding from source agencies.

Sheet Table 8C
A1: =Parameters!$A$21 -> TABLE 8C PERSONS KILLED AND INJURED BY EXTENT OF INJURY BY COUNTY - 2021
A4: County | B4: Total Killed and Injured | C4: Total Killed | D4: Total Injured | E4: Severe Injury | F4: Other Visible Injury | G4: Complaint of Pain | H4: Suspected Serious Injury* | I4: Suspected Minor Injury* | J4: Possible Injury*
A5: Alameda | B5: 8753 | C5: 104 | D5: 8649 | E5: 196 | F5: 700 | G5: 2364 | H5: 364 | I5: 1751 | J5: 3274
A6: Alpine | B6: 26 | C6: 0 | D6: 26 | E6: 0 | F6: 0 | G6: 0 | H6: 9 | I6: 10 | J6: 7
A7: Amador | B7: 302 | C7: 14 | D7: 288 | E7: 2 | F7: 0 | G7: 1 | H7: 33 | I7: 135 | J7: 117
A8: Butte | B8: 1143 | C8: 55 | D8: 1088 | E8: 19 | F8: 93 | G8: 129 | H8: 136 | I8: 352 | J8: 359
A9: Calaveras | B9: 306 | C9: 14 | D9: 292 | E9: 2 | F9: 3 | G9: 9 | H9: 57 | I9: 128 | J9: 93
A10: Colusa | B10: 202 | C10: 5 | D10: 197 | E10: 0 | F10: 0 | G10: 0 | H10: 43 | I10: 102 | J10: 52
A11: Contra Costa | B11: 4454 | C11: 94 | D11: 4360 | E11: 85 | F11: 236 | G11: 647 | H11: 317 | I11: 1123 | J11: 1952
A12: Del Norte | B12: 196 | C12: 4 | D12: 192 | E12: 0 | F12: 0 | G12: 0 | H12: 30 | I12: 89 | J12: 73
A13: El Dorado | B13: 773 | C13: 26 | D13: 747 | E13: 1 | F13: 12 | G13: 19 | H13: 128 | I13: 322 | J13: 265
A14: Fresno | B14: 5243 | C14: 196 | D14: 5047 | E14: 29 | F14: 141 | G14: 394 | H14: 484 | I14: 1329 | J14: 2670
A15: Glenn | B15: 173 | C15: 7 | D15: 166 | E15: 0 | F15: 2 | G15: 1 | H15: 39 | I15: 63 | J15: 61
A16: Humboldt | B16: 661 | C16: 15 | D16: 646 | E16: 5 | F16: 24 | G16: 17 | H16: 93 | I16: 332 | J16: 175
... A63: Total | B63: 229586 | C63: 4477 | D63: 225109 | E63: 4675 | F63: 19993 | G63: 49658 | H63: 13409 | I63: 51222 | J63: 86152
A65: *Severity implemented in 2016 pursuant to MMUCC guideline. (See Glossary for definition.)

Sheet Table 8D
A1: =Parameters!$A$24 -> TABLE 8D FATAL CRASHES BY COUNTY 2012-2021
A4: County | B4: 2012 | C4: 2013 | D4: 2014 | E4: 2015 | F4: 2016 | G4: 2017 | H4: 2018 | I4: 2019 | J4: 2020 | K4: 2021
A5: Alameda | B5: 72 | C5: 82 | D5: 83 | E5: 87 | F5: 78 | G5: 97 | H5: 78 | I5: 90 | J5: 100 | K5: 99
A6: Alpine | B6: 1 | C6: 1 | D6: 1 | E6: 2 | F6: 4 | G6: 4 | H6: 2 | I6: 2 | J6: 1 | K6: 0
A7: Amador | B7: 6 | C7: 5 | D7: 7 | E7: 7 | F7: 12 | G7: 11 | H7: 9 | I7: 13 | J7: 10 | K7: 12
A8: Butte | B8: 23 | C8: 19 | D8: 22 | E8: 31 | F8: 32 | G8: 33 | H8: 36 | I8: 33 | J8: 41 | K8: 48
A9: Calaveras | B9: 9 | C9: 7 | D9: 8 | E9: 11 | F9: 8 | G9: 19 | H9: 12 | I9: 10 | J9: 8 | K9: 14
A10: Colusa | B10: 4 | C10: 8 | D10: 3 | E10: 5 | F10: 5 | G10: 11 | H10: 10 | I10: 9 | J10: 6 | K10: 5
A11: Contra Costa | B11: 57 | C11: 48 | D11: 43 | E11: 72 | F11: 78 | G11: 62 | H11: 73 | I11: 69 | J11: 93 | K11: 89
A12: Del Norte | B12: 7 | C12: 8 | D12: 9 | E12: 14 | F12: 8 | G12: 6 | H12: 9 | I12: 8 | J12: 4 | K12: 3
A13: El Dorado | B13: 19 | C13: 23 | D13: 19 | E13: 24 | F13: 20 | G13: 24 | H13: 30 | I13: 27 | J13: 17 | K13: 24
A14: Fresno | B14: 106 | C14: 101 | D14: 118 | E14: 89 | F14: 135 | G14: 137 | H14: 108 | I14: 122 | J14: 159 | K14: 168
A15: Glenn | B15: 4 | C15: 4 | D15: 3 | E15: 6 | F15: 8 | G15: 8 | H15: 7 | I15: 5 | J15: 5 | K15: 5
... A63: Total | B63: 2758 | C63: 2853 | D63: 2882 | E63: 3168 | F63: 3552 | G63: 3582 | H63: 3478 | I63: 3438 | J63: 3672 | K63: 4161

Sheet Table 8E
A1: =Parameters!$A$27 -> TABLE 8E PERSONS KILLED BY COUNTY 2012-2021
A4: County | B4: 2012 | C4: 2013 | D4: 2014 | E4: 2015 | F4: 2016 | G4: 2017 | H4: 2018 | I4: 2019 | J4: 2020 | K4: 2021
A5: Alameda | B5: 77 | C5: 85 | D5: 85 | E5: 93 | F5: 82 | G5: 101 | H5: 85 | I5: 96 | J5: 105 | K5: 104
A6: Alpine | B6: 1 | C6: 1 | D6: 1 | E6: 2 | F6: 5 | G6: 4 | H6: 2 | I6: 2 | J6: 1 | K6: 0
A7: Amador | B7: 6 | C7: 5 | D7: 7 | E7: 8 | F7: 14 | G7: 12 | H7: 12 | I7: 16 | J7: 17 | K7: 14
A8: Butte | B8: 24 | C8: 21 | D8: 25 | E8: 33 | F8: 35 | G8: 40 | H8: 36 | I8: 34 | J8: 47 | K8: 55
A9: Calaveras | B9: 10 | C9: 7 | D9: 8 | E9: 11 | F9: 9 | G9: 20 | H9: 14 | I9: 11 | J9: 9 | K9: 14
A10: Colusa | B10: 5 | C10: 9 | D10: 3 | E10: 5 | F10: 6 | G10: 11 | H10: 13 | I10: 12 | J10: 8 | K10: 5
A11: Contra Costa | B11: 61 | C11: 50 | D11: 44 | E11: 76 | F11: 81 | G11: 66 | H11: 80 | I11: 77 | J11: 102 | K11: 94
A12: Del Norte | B12: 9 | C12: 9 | D12: 9 | E12: 15 | F12: 8 | G12: 6 | H12: 10 | I12: 11 | J12: 4 | K12: 4
A13: El Dorado | B13: 23 | C13: 25 | D13: 23 | E13: 27 | F13: 20 | G13: 27 | H13: 33 | I13: 29 | J13: 17 | K13: 26
A14: Fresno | B14: 118 | C14: 119 | D14: 137 | E14: 102 | F14: 150 | G14: 160 | H14: 120 | I14: 135 | J14: 182 | K14: 196
A15: Glenn | B15: 4 | C15: 5 | D15: 12 | E15: 6 | F15: 11 | G15: 9 | H15: 9 | I15: 7 | J15: 5 | K15: 7
... A63: Total | B63: 2995 | C63: 3104 | D63: 3126 | E63: 3435 | F63: 3854 | G63: 3904 | H63: 3804 | I63: 3737 | J63: 3982 | K63: 4477

Sheet Table 8F
A1: =Parameters!$A$30 -> TABLE 8F INJURY CRASHES BY COUNTY 2012-2021
A4: County | B4: 2012 | C4: 2013 | D4: 2014 | E4: 2015 | F4: 2016 | G4: 2017 | H4: 2018 | I4: 2019 | J4: 2020 | K4: 2021
A5: Alameda | B5: 6554 | C5: 6500 | D5: 6753 | E5: 7370 | F5: 8094 | G5: 8301 | H5: 8348 | I5: 7905 | J5: 5792 | K5: 6386
A6: Alpine | B6: 24 | C6: 29 | D6: 24 | E6: 24 | F6: 34 | G6: 40 | H6: 25 | I6: 33 | J6: 31 | K6: 23
A7: Amador | B7: 208 | C7: 167 | D7: 177 | E7: 167 | F7: 206 | G7: 215 | H7: 205 | I7: 196 | J7: 188 | K7: 202
A8: Butte | B8: 865 | C8: 853 | D8: 856 | E8: 847 | F8: 997 | G8: 989 | H8: 974 | I8: 920 | J8: 750 | K8: 779
A9: Calaveras | B9: 229 | C9: 181 | D9: 209 | E9: 221 | F9: 224 | G9: 291 | H9: 214 | I9: 226 | J9: 192 | K9: 215
A10: Colusa | B10: 111 | C10: 99 | D10: 109 | E10: 125 | F10: 132 | G10: 115 | H10: 111 | I10: 142 | J10: 118 | K10: 138
A11: Contra Costa | B11: 3159 | C11: 3144 | D11: 3191 | E11: 3695 | F11: 3919 | G11: 4045 | H11: 4248 | I11: 4353 | J11: 2925 | K11: 3180
A12: Del Norte | B12: 123 | C12: 137 | D12: 121 | E12: 126 | F12: 129 | G12: 127 | H12: 122 | I12: 139 | J12: 129 | K12: 128
A13: El Dorado | B13: 607 | C13: 597 | D13: 588 | E13: 593 | F13: 673 | G13: 669 | H13: 685 | I13: 615 | J13: 590 | K13: 551
A14: Fresno | B14: 2407 | C14: 2089 | D14: 2906 | E14: 3205 | F14: 2717 | G14: 2510 | H14: 2570 | I14: 2669 | J14: 2862 | K14: 3438
A15: Glenn | B15: 108 | C15: 96 | D15: 99 | E15: 104 | F15: 121 | G15: 127 | H15: 111 | I15: 105 | J15: 116 | K15: 123
... A63: Total | B63: 159696 | C63: 156909 | D63: 162742 | E63: 178669 | F63: 195347 | G63: 193564 | H63: 191971 | I63: 187211 | J63: 143476 | K63: 157875

Sheet Table 8G
A1: =Parameters!$A$33 -> TABLE 8G PERSONS INJURED BY COUNTY 2012-2021
A4: County | B4: 2012 | C4: 2013 | D4: 2014 | E4: 2015 | F4: 2016 | G4: 2017 | H4: 2018 | I4: 2019 | J4: 2020 | K4: 2021
A5: Alameda | B5: 8743 | C5: 8714 | D5: 8954 | E5: 9776 | F5: 10727 | G5: 11023 | H5: 11124 | I5: 10441 | J5: 7751 | K5: 8649
A6: Alpine | B6: 37 | C6: 37 | D6: 28 | E6: 27 | F6: 46 | G6: 57 | H6: 36 | I6: 66 | J6: 36 | K6: 26
A7: Amador | B7: 269 | C7: 231 | D7: 242 | E7: 231 | F7: 306 | G7: 313 | H7: 287 | I7: 276 | J7: 258 | K7: 288
A8: Butte | B8: 1236 | C8: 1151 | D8: 1181 | E8: 1147 | F8: 1393 | G8: 1413 | H8: 1339 | I8: 1262 | J8: 1043 | K8: 1088
A9: Calaveras | B9: 301 | C9: 251 | D9: 296 | E9: 319 | F9: 328 | G9: 413 | H9: 286 | I9: 305 | J9: 270 | K9: 292
A10: Colusa | B10: 152 | C10: 149 | D10: 167 | E10: 184 | F10: 176 | G10: 172 | H10: 158 | I10: 205 | J10: 162 | K10: 197
A11: Contra Costa | B11: 4299 | C11: 4310 | D11: 4346 | E11: 4984 | F11: 5537 | G11: 5602 | H11: 5863 | I11: 5982 | J11: 3921 | K11: 4360
A12: Del Norte | B12: 187 | C12: 198 | D12: 185 | E12: 192 | F12: 182 | G12: 162 | H12: 169 | I12: 217 | J12: 180 | K12: 192
A13: El Dorado | B13: 829 | C13: 816 | D13: 840 | E13: 805 | F13: 934 | G13: 912 | H13: 951 | I13: 861 | J13: 731 | K13: 747
A14: Fresno | B14: 3765 | C14: 3332 | D14: 4404 | E14: 4773 | F14: 4305 | G14: 3872 | H14: 4056 | I14: 4247 | J14: 4277 | K14: 5047
A15: Glenn | B15: 143 | C15: 148 | D15: 177 | E15: 147 | F15: 172 | G15: 192 | H15: 155 | I15: 158 | J15: 172 | K15: 166
... A63: Total | B63: 226544 | C63: 223128 | D63: 230904 | E63: 254561 | F63: 280020 | G63: 277160 | H63: 274854 | I63: 269031 | J63: 203888 | K63: 225109

Sheet Table 8H
A1: =Parameters!$A$36 -> TABLE 8H FATAL CRASHES BY COUNTY BY MONTH - 2021
A4: County | B4: Jan | C4: Feb | D4: Mar | E4: Apr | F4: May | G4: Jun | H4: Jul | I4: Aug | J4: Sep | K4: Oct | L4: Nov | M4: Dec | N4: Total
A5: Alameda | B5: 4 | C5: 11 | D5: 8 | E5: 11 | F5: 9 | G5: 7 | H5: 9 | I5: 8 | J5: 8 | K5: 5 | L5: 10 | M5: 9 | N5: 99
A6: Amador | B6: 1 | C6: 1 | D6: 2 | E6: 0 | F6: 0 | G6: 1 | H6: 1 | I6: 0 | J6: 1 | K6: 1 | L6: 4 | M6: 0 | N6: 12
A7: Butte | B7: 6 | C7: 6 | D7: 4 | E7: 5 | F7: 4 | G7: 3 | H7: 6 | I7: 3 | J7: 5 | K7: 3 | L7: 2 | M7: 1 | N7: 48
A8: Calaveras | B8: 0 | C8: 2 | D8: 0 | E8: 4 | F8: 0 | G8: 4 | H8: 1 | I8: 1 | J8: 0 | K8: 0 | L8: 0 | M8: 2 | N8: 14
A9: Colusa | B9: 0 | C9: 0 | D9: 0 | E9: 1 | F9: 0 | G9: 0 | H9: 1 | I9: 2 | J9: 0 | K9: 0 | L9: 0 | M9: 1 | N9: 5
A10: Contra Costa | B10: 13 | C10: 6 | D10: 5 | E10: 6 | F10: 7 | G10: 9 | H10: 4 | I10: 5 | J10: 9 | K10: 10 | L10: 9 | M10: 6 | N10: 89
A11: Del Norte | B11: 0 | C11: 0 | D11: 1 | E11: 0 | F11: 0 | G11: 0 | H11: 0 | I11: 1 | J11: 0 | K11: 1 | L11: 0 | M11: 0 | N11: 3
A12: El Dorado | B12: 3 | C12: 2 | D12: 1 | E12: 3 | F12: 3 | G12: 3 | H12: 5 | I12: 2 | J12: 1 | K12: 1 | L12: 0 | M12: 0 | N12: 24
A13: Fresno | B13: 17 | C13: 15 | D13: 13 | E13: 13 | F13: 12 | G13: 14 | H13: 17 | I13: 20 | J13: 13 | K13: 16 | L13: 11 | M13: 7 | N13: 168
A14: Glenn | B14: 0 | C14: 1 | D14: 0 | E14: 0 | F14: 1 | G14: 0 | H14: 0 | I14: 3 | J14: 0 | K14: 0 | L14: 0 | M14: 0 | N14: 5
A15: Humboldt | B15: 2 | C15: 2 | D15: 0 | E15: 2 | F15: 3 | G15: 0 | H15: 0 | I15: 0 | J15: 1 | K15: 2 | L15: 2 | M15: 1 | N15: 15
A16: Imperial | B16: 6 | C16: 3 | D16: 4 | E16: 3 | F16: 3 | G16: 7 | H16: 3 | I16: 3 | J16: 2 | K16: 1 | L16: 3 | M16: 3 | N16: 41
... A61: Total | B61: 330 | C61: 276 | D61: 326 | E61: 368 | F61: 311 | G61: 353 | H61: 391 | I61: 360 | J61: 366 | K61: 379 | L61: 367 | M61: 334 | N61: 4161

Sheet Table 8I
A1: =Parameters!$A$39 -> TABLE 8I PERSONS KILLED BY COUNTY BY MONTH - 2021
A4: County | B4: Jan | C4: Feb | D4: Mar | E4: Apr | F4: May | G4: Jun | H4: Jul | I4: Aug | J4: Sep | K4: Oct | L4: Nov | M4: Dec | N4: Total
A5: Alameda | B5: 4 | C5: 11 | D5: 8 | E5: 11 | F5: 10 | G5: 7 | H5: 9 | I5: 8 | J5: 10 | K5: 5 | L5: 11 | M5: 10 | N5: 104
A6: Alpine | B6: 0 | C6: 0 | D6: 0 | E6: 0 | F6: 0 | G6: 0 | H6: 0 | I6: 0 | J6: 0 | K6: 0 | L6: 0 | M6: 0 | N6: 0
A7: Amador | B7: 1 | C7: 1 | D7: 2 | E7: 0 | F7: 0 | G7: 3 | H7: 1 | I7: 0 | J7: 1 | K7: 1 | L7: 4 | M7: 0 | N7: 14
A8: Butte | B8: 6 | C8: 9 | D8: 4 | E8: 8 | F8: 4 | G8: 3 | H8: 7 | I8: 3 | J8: 5 | K8: 3 | L8: 2 | M8: 1 | N8: 55
A9: Calaveras | B9: 0 | C9: 2 | D9: 0 | E9: 4 | F9: 0 | G9: 4 | H9: 1 | I9: 1 | J9: 0 | K9: 0 | L9: 0 | M9: 2 | N9: 14
A10: Colusa | B10: 0 | C10: 0 | D10: 0 | E10: 1 | F10: 0 | G10: 0 | H10: 1 | I10: 2 | J10: 0 | K10: 0 | L10: 0 | M10: 1 | N10: 5
A11: Contra Costa | B11: 14 | C11: 6 | D11: 5 | E11: 7 | F11: 7 | G11: 9 | H11: 4 | I11: 5 | J11: 10 | K11: 11 | L11: 10 | M11: 6 | N11: 94
A12: Del Norte | B12: 0 | C12: 0 | D12: 2 | E12: 0 | F12: 0 | G12: 0 | H12: 0 | I12: 1 | J12: 0 | K12: 1 | L12: 0 | M12: 0 | N12: 4
A13: El Dorado | B13: 3 | C13: 3 | D13: 1 | E13: 3 | F13: 3 | G13: 3 | H13: 6 | I13: 2 | J13: 1 | K13: 1 | L13: 0 | M13: 0 | N13: 26
A14: Fresno | B14: 30 | C14: 16 | D14: 17 | E14: 13 | F14: 13 | G14: 17 | H14: 20 | I14: 22 | J14: 13 | K14: 16 | L14: 11 | M14: 8 | N14: 196
A15: Glenn | B15: 0 | C15: 1 | D15: 0 | E15: 0 | F15: 1 | G15: 0 | H15: 0 | I15: 5 | J15: 0 | K15: 0 | L15: 0 | M15: 0 | N15: 7
A16: Humboldt | B16: 2 | C16: 2 | D16: 0 | E16: 2 | F16: 3 | G16: 0 | H16: 0 | I16: 0 | J16: 1 | K16: 2 | L16: 2 | M16: 1 | N16: 15
... A63: Total | B63: 357 | C63: 297 | D63: 371 | E63: 393 | F63: 339 | G63: 387 | H63: 420 | I63: 381 | J63: 384 | K63: 402 | L63: 391 | M63: 355 | N63: 4477

Sheet Table 8J
A1: =Parameters!$A$42 -> TABLE 8J INJURY CRASHES BY COUNTY BY MONTH - 2021
A4: County | B4: Jan | C4: Feb | D4: Mar | E4: Apr | F4: May | G4: Jun | H4: Jul | I4: Aug | J4: Sep | K4: Oct | L4: Nov | M4: Dec | N4: Total
A5: Alameda | B5: 427 | C5: 383 | D5: 480 | E5: 497 | F5: 535 | G5: 567 | H5: 562 | I5: 558 | J5: 624 | K5: 625 | L5: 596 | M5: 532 | N5: 6386
A6: Alpine | B6: 0 | C6: 3 | D6: 2 | E6: 2 | F6: 3 | G6: 3 | H6: 0 | I6: 4 | J6: 2 | K6: 2 | L6: 1 | M6: 1 | N6: 23
A7: Amador | B7: 16 | C7: 10 | D7: 19 | E7: 18 | F7: 23 | G7: 17 | H7: 17 | I7: 13 | J7: 24 | K7: 18 | L7: 8 | M7: 19 | N7: 202
A8: Butte | B8: 48 | C8: 34 | D8: 50 | E8: 72 | F8: 71 | G8: 68 | H8: 70 | I8: 94 | J8: 58 | K8: 67 | L8: 79 | M8: 68 | N8: 779
A9: Calaveras | B9: 18 | C9: 10 | D9: 18 | E9: 19 | F9: 14 | G9: 11 | H9: 26 | I9: 21 | J9: 20 | K9: 24 | L9: 16 | M9: 18 | N9: 215
A10: Colusa | B10: 8 | C10: 6 | D10: 14 | E10: 13 | F10: 13 | G10: 7 | H10: 19 | I10: 11 | J10: 11 | K10: 15 | L10: 10 | M10: 11 | N10: 138
A11: Contra Costa | B11: 220 | C11: 193 | D11: 256 | E11: 262 | F11: 268 | G11: 273 | H11: 282 | I11: 249 | J11: 313 | K11: 272 | L11: 303 | M11: 289 | N11: 3180
A12: Del Norte | B12: 12 | C12: 5 | D12: 12 | E12: 12 | F12: 10 | G12: 10 | H12: 15 | I12: 11 | J12: 9 | K12: 11 | L12: 14 | M12: 7 | N12: 128
A13: El Dorado | B13: 46 | C13: 25 | D13: 41 | E13: 51 | F13: 51 | G13: 64 | H13: 55 | I13: 53 | J13: 43 | K13: 45 | L13: 32 | M13: 45 | N13: 551
A14: Fresno | B14: 209 | C14: 208 | D14: 280 | E14: 272 | F14: 353 | G14: 315 | H14: 262 | I14: 336 | J14: 254 | K14: 349 | L14: 271 | M14: 329 | N14: 3438
A15: Glenn | B15: 7 | C15: 7 | D15: 9 | E15: 11 | F15: 12 | G15: 14 | H15: 15 | I15: 14 | J15: 8 | K15: 12 | L15: 11 | M15: 3 | N15: 123
A16: Humboldt | B16: 41 | C16: 35 | D16: 41 | E16: 40 | F16: 53 | G16: 45 | H16: 33 | I16: 37 | J16: 39 | K16: 52 | L16: 36 | M16: 47 | N16: 499
... A63: Total | B63: 10799 | C63: 10008 | D63: 12424 | E63: 12649 | F63: 13475 | G63: 13642 | H63: 14002 | I63: 13965 | J63: 14263 | K63: 15167 | L63: 13798 | M63: 13683 | N63: 157875

Sheet Table 8K
A1: =Parameters!$A$45 -> TABLE 8K PERSONS INJURED BY COUNTY BY MONTH - 2021
A4: County | B4: Jan | C4: Feb | D4: Mar | E4: Apr | F4: May | G4: Jun | H4: Jul | I4: Aug | J4: Sep | K4: Oct | L4: Nov | M4: Dec | N4: Total
A5: Alameda | B5: 581 | C5: 503 | D5: 625 | E5: 682 | F5: 741 | G5: 794 | H5: 796 | I5: 745 | J5: 843 | K5: 853 | L5: 778 | M5: 708 | N5: 8649
A6: Alpine | B6: 0 | C6: 3 | D6: 2 | E6: 2 | F6: 4 | G6: 4 | H6: 0 | I6: 4 | J6: 3 | K6: 2 | L6: 1 | M6: 1 | N6: 26
A7: Amador | B7: 19 | C7: 14 | D7: 27 | E7: 25 | F7: 30 | G7: 28 | H7: 23 | I7: 18 | J7: 31 | K7: 27 | L7: 15 | M7: 31 | N7: 288
A8: Butte | B8: 61 | C8: 56 | D8: 64 | E8: 108 | F8: 94 | G8: 101 | H8: 108 | I8: 122 | J8: 84 | K8: 86 | L8: 113 | M8: 91 | N8: 1088
A9: Calaveras | B9: 20 | C9: 16 | D9: 21 | E9: 30 | F9: 15 | G9: 18 | H9: 34 | I9: 30 | J9: 26 | K9: 37 | L9: 20 | M9: 25 | N9: 292
A10: Colusa | B10: 10 | C10: 9 | D10: 15 | E10: 18 | F10: 18 | G10: 12 | H10: 27 | I10: 23 | J10: 17 | K10: 19 | L10: 11 | M10: 18 | N10: 197
A11: Contra Costa | B11: 297 | C11: 268 | D11: 354 | E11: 363 | F11: 381 | G11: 394 | H11: 385 | I11: 333 | J11: 410 | K11: 358 | L11: 412 | M11: 405 | N11: 4360
A12: Del Norte | B12: 17 | C12: 5 | D12: 15 | E12: 26 | F12: 17 | G12: 12 | H12: 25 | I12: 20 | J12: 17 | K12: 12 | L12: 19 | M12: 7 | N12: 192
A13: El Dorado | B13: 58 | C13: 33 | D13: 51 | E13: 71 | F13: 72 | G13: 81 | H13: 85 | I13: 72 | J13: 54 | K13: 62 | L13: 38 | M13: 70 | N13: 747
A14: Fresno | B14: 291 | C14: 307 | D14: 421 | E14: 411 | F14: 537 | G14: 467 | H14: 374 | I14: 515 | J14: 354 | K14: 515 | L14: 398 | M14: 457 | N14: 5047
A15: Glenn | B15: 10 | C15: 9 | D15: 15 | E15: 13 | F15: 18 | G15: 24 | H15: 16 | I15: 20 | J15: 11 | K15: 15 | L15: 12 | M15: 3 | N15: 166
A16: Humboldt | B16: 49 | C16: 48 | D16: 56 | E16: 52 | F16: 74 | G16: 62 | H16: 46 | I16: 50 | J16: 49 | K16: 64 | L16: 40 | M16: 56 | N16: 646
... A63: Total | B63: 15082 | C63: 13979 | D63: 17512 | E63: 18239 | F63: 19454 | G63: 19773 | H63: 20368 | I63: 19944 | J63: 20160 | K63: 21540 | L63: 19619 | M63: 19439 | N63: 225109

Sheet Table 8L
A1: =Parameters!$A$48 -> TABLE 8L DUI/PCF FATAL AND INJURY CRASHES BY COUNTY 2017-2021
B4: 2017 | D4: 2018 | F4: 2019 | H4: 2020 | J4: 2021
A5: County | B5: Fatal | C5: Injury | D5: Fatal | E5: Injury | F5: Fatal | G5: Injury | H5: Fatal | I5: Injury | J5: Fatal | K5: Injury
A6: Alameda | B6: 28 | C6: 478 | D6: 17 | E6: 497 | F6: 12 | G6: 457 | H6: 25 | I6: 383 | J6: 24 | K6: 447
A7: Alpine | B7: 3 | C7: 7 | D7: 1 | E7: 4 | F7: 0 | G7: 1 | H7: 0 | I7: 1 | J7: 0 | K7: 2
A8: Amador | B8: 6 | C8: 31 | D8: 3 | E8: 25 | F8: 4 | G8: 25 | H8: 6 | I8: 27 | J8: 9 | K8: 39
A9: Butte | B9: 8 | C9: 98 | D9: 13 | E9: 116 | F9: 14 | G9: 116 | H9: 14 | I9: 115 | J9: 14 | K9: 128
A10: Calaveras | B10: 9 | C10: 40 | D10: 5 | E10: 31 | F10: 5 | G10: 39 | H10: 2 | I10: 36 | J10: 6 | K10: 40
A11: Colusa | B11: 2 | C11: 11 | D11: 1 | E11: 15 | F11: 2 | G11: 20 | H11: 3 | I11: 16 | J11: 3 | K11: 31
A12: Contra Costa | B12: 13 | C12: 320 | D12: 24 | E12: 351 | F12: 15 | G12: 368 | H12: 23 | I12: 272 | J12: 18 | K12: 273
A13: Del Norte | B13: 3 | C13: 14 | D13: 1 | E13: 18 | F13: 0 | G13: 20 | H13: 2 | I13: 21 | J13: 0 | K13: 16
A14: El Dorado | B14: 6 | C14: 112 | D14: 6 | E14: 145 | F14: 9 | G14: 87 | H14: 5 | I14: 110 | J14: 14 | K14: 104
A15: Fresno | B15: 26 | C15: 252 | D15: 21 | E15: 271 | F15: 27 | G15: 270 | H15: 36 | I15: 313 | J15: 31 | K15: 358
A16: Glenn | B16: 5 | C16: 18 | D16: 1 | E16: 16 | F16: 2 | G16: 13 | H16: 3 | I16: 21 | J16: 3 | K16: 25
A17: Humboldt | B17: 15 | C17: 96 | D17: 9 | E17: 88 | F17: 11 | G17: 81 | H17: 10 | I17: 83 | J17: 7 | K17: 76
... A64: Total | B64: 760 | C64: 13520 | D64: 700 | E64: 13994 | F64: 720 | G64: 13652 | H64: 849 | I64: 12607 | J64: 955 | K64: 15146

Sheet Table 8M
A1: =Parameters!$A$51 -> TABLE 8M PERSONS KILLED AND INJURED IN DUI/PCF CRASHES BY COUNTY 2017-2021
B4: 2017 | D4: 2018 | F4: 2019 | H4: 2020 | J4: 2021
A5: County | B5: Killed | C5: Injured | D5: Killed | E5: Injured | F5: Killed | G5: Injured | H5: Killed | I5: Injured | J5: Killed | K5: Injured
A6: Alameda | B6: 31 | C6: 703 | D6: 20 | E6: 705 | F6: 13 | G6: 642 | H6: 27 | I6: 519 | J6: 25 | K6: 637
A7: Alpine | B7: 3 | C7: 12 | D7: 1 | E7: 7 | F7: 0 | G7: 1 | H7: 0 | I7: 1 | J7: 0 | K7: 2
A8: Amador | B8: 7 | C8: 56 | D8: 5 | E8: 36 | F8: 4 | G8: 32 | H8: 9 | I8: 38 | J8: 11 | K8: 51
A9: Butte | B9: 10 | C9: 143 | D9: 13 | E9: 178 | F9: 14 | G9: 156 | H9: 16 | I9: 159 | J9: 18 | K9: 187
A10: Calaveras | B10: 9 | C10: 59 | D10: 6 | E10: 47 | F10: 6 | G10: 45 | H10: 2 | I10: 45 | J10: 6 | K10: 57
A11: Colusa | B11: 2 | C11: 18 | D11: 1 | E11: 24 | F11: 3 | G11: 28 | H11: 4 | I11: 17 | J11: 3 | K11: 48
A12: Contra Costa | B12: 16 | C12: 476 | D12: 26 | E12: 537 | F12: 18 | G12: 526 | H12: 25 | I12: 384 | J12: 22 | K12: 394
A13: Del Norte | B13: 3 | C13: 22 | D13: 1 | E13: 19 | F13: 0 | G13: 27 | H13: 2 | I13: 34 | J13: 0 | K13: 24
A14: El Dorado | B14: 7 | C14: 156 | D14: 7 | E14: 182 | F14: 9 | G14: 120 | H14: 5 | I14: 137 | J14: 15 | K14: 134
A15: Fresno | B15: 34 | C15: 360 | D15: 23 | E15: 419 | F15: 30 | G15: 461 | H15: 47 | I15: 439 | J15: 44 | K15: 552
A16: Glenn | B16: 6 | C16: 35 | D16: 2 | E16: 19 | F16: 4 | G16: 17 | H16: 3 | I16: 30 | J16: 5 | K16: 31
A17: Humboldt | B17: 18 | C17: 131 | D17: 10 | E17: 108 | F17: 14 | G17: 103 | H17: 11 | I17: 118 | J17: 7 | K17: 98
... A64: Total | B64: 869 | C64: 20185 | D64: 816 | E64: 20825 | F64: 818 | G64: 20481 | H64: 973 | I64: 18388 | J64: 1093 | K64: 22287

Sheet Table 8N
A1: =Parameters!$A$54 -> TABLE 8N PERSONS KILLED AND INJURED INDICATING SEAT BELT, HELMET, OR OTHER SAFETY EQUIPMENT USAGE BY COUNTY, CITY, AND ROAD CLASSIFICATION - 2021
D4: Total Vehicle Occupants** | F4: Vehicle Occupant Safety Equipment Used | H4: Vehicle Occupant Safety Equipment Not Used* | J4: Total Bicyclists | L4: Bicyclist Safety Equipment Used | N4: Bicyclist Safety Equipment Not Used* | P4: Total Motorcyclists*** | R4: Motorcyclist Safety Equipment Used | T4: Motorcyclist Safety Equipment Not Used*
A5: County | B5: City | C5: Road Classification | D5: Killed | E5: Injured | F5: Killed | G5: Injured | H5: Killed | I5: Injured | J5: Killed | K5: Injured | L5: Killed | M5: Injured | N5: Killed | O5: Injured | P5: Killed | Q5: Injured | R5: Killed | S5: Injured | T5: Killed | U5: Injured
A6: Alameda | D6: 52 | E6: 7051 | F6: 44 | G6: 6787 | H6: 8 | I6: 264 | J6: 4 | K6: 384 | L6: 1 | M6: 162 | N6: 3 | O6: 222 | P6: 13 | Q6: 398 | R6: 12 | S6: 310 | T6: 1 | U6: 88
B7: Alameda | D7: 1 | E7: 130 | F7: 0 | G7: 122 | H7: 1 | I7: 8 | J7: 0 | K7: 14 | L7: 0 | M7: 5 | N7: 0 | O7: 9 | P7: 0 | Q7: 6 | R7: 0 | S7: 4 | T7: 0 | U7: 2
B8: Albany | D8: 0 | E8: 55 | F8: 0 | G8: 52 | H8: 0 | I8: 3 | J8: 0 | K8: 10 | L8: 0 | M8: 8 | N8: 0 | O8: 2 | P8: 0 | Q8: 3 | R8: 0 | S8: 3 | T8: 0 | U8: 0
B9: Berkeley | D9: 4 | E9: 358 | F9: 2 | G9: 333 | H9: 2 | I9: 25 | J9: 0 | K9: 78 | L9: 0 | M9: 36 | N9: 0 | O9: 42 | P9: 0 | Q9: 30 | R9: 0 | S9: 24 | T9: 0 | U9: 6
B10: Dublin | D10: 1 | E10: 108 | F10: 1 | G10: 106 | H10: 0 | I10: 2 | J10: 0 | K10: 11 | L10: 0 | M10: 4 | N10: 0 | O10: 7 | P10: 0 | Q10: 1 | R10: 0 | S10: 1 | T10: 0 | U10: 0
B11: Emeryville | D11: 0 | E11: 81 | F11: 0 | G11: 80 | H11: 0 | I11: 1 | J11: 0 | K11: 2 | L11: 0 | M11: 1 | N11: 0 | O11: 1 | P11: 1 | Q11: 6 | R11: 1 | S11: 5 | T11: 0 | U11: 1
B12: Fremont | D12: 5 | E12: 945 | F12: 5 | G12: 918 | H12: 0 | I12: 27 | J12: 2 | K12: 51 | L12: 0 | M12: 11 | N12: 2 | O12: 40 | P12: 7 | Q12: 41 | R12: 6 | S12: 36 | T12: 1 | U12: 5
B13: Hayward | D13: 1 | E13: 685 | F13: 1 | G13: 648 | H13: 0 | I13: 37 | J13: 0 | K13: 16 | L13: 0 | M13: 0 | N13: 0 | O13: 16 | P13: 1 | Q13: 34 | R13: 1 | S13: 18 | T13: 0 | U13: 16
B14: Livermore | D14: 3 | E14: 370 | F14: 2 | G14: 363 | H14: 1 | I14: 7 | J14: 0 | K14: 23 | L14: 0 | M14: 13 | N14: 0 | O14: 10 | P14: 1 | Q14: 18 | R14: 1 | S14: 15 | T14: 0 | U14: 3
B15: Newark | D15: 1 | E15: 133 | F15: 1 | G15: 128 | H15: 0 | I15: 5 | J15: 0 | K15: 7 | L15: 0 | M15: 3 | N15: 0 | O15: 4 | P15: 0 | Q15: 9 | R15: 0 | S15: 5 | T15: 0 | U15: 4
B16: Oakland | D16: 16 | E16: 2138 | F16: 14 | G16: 2029 | H16: 2 | I16: 109 | J16: 2 | K16: 87 | L16: 1 | M16: 40 | N16: 1 | O16: 47 | P16: 0 | Q16: 145 | R16: 0 | S16: 102 | T16: 0 | U16: 43
B17: Piedmont | D17: 0 | E17: 4 | F17: 0 | G17: 4 | H17: 0 | I17: 0 | J17: 0 | K17: 1 | L17: 0 | M17: 0 | N17: 0 | O17: 1 | P17: 0 | Q17: 0 | R17: 0 | S17: 0 | T17: 0 | U17: 0
B18: Pleasanton | D18: 2 | E18: 344 | F18: 1 | G18: 337 | H18: 1 | I18: 7 | J18: 0 | K18: 22 | L18: 0 | M18: 17 | N18: 0 | O18: 5 | P18: 0 | Q18: 18 | R18: 0 | S18: 17 | T18: 0 | U18: 1
... B21: Unincorporated | D21: 15 | E21: 1283 | F21: 14 | G21: 1262 | H21: 1 | I21: 21 | J21: 0 | K21: 41 | L21: 0 | M21: 20 | N21: 0 | O21: 21 | P21: 2 | Q21: 75 | R21: 2 | S21: 72 | T21: 0 | U21: 3
C22: County Roadways | D22: 4 | E22: 464 | F22: 3 | G22: 454 | H22: 1 | I22: 10 | J22: 0 | K22: 34 | L22: 0 | M22: 14 | N22: 0 | O22: 20 | P22: 2 | Q22: 33 | R22: 2 | S22: 32 | T22: 0 | U22: 1
C23: Uninc. State Highways | D23: 11 | E23: 819 | F23: 11 | G23: 808 | H23: 0 | I23: 11 | J23: 0 | K23: 7 | L23: 0 | M23: 6 | N23: 0 | O23: 1 | P23: 0 | Q23: 42 | R23: 0 | S23: 40 | T23: 0 | U23: 2
A24: Alpine | D24: 0 | E24: 15 | F24: 0 | G24: 13 | H24: 0 | I24: 2 | J24: 0 | K24: 3 | L24: 0 | M24: 2 | N24: 0 | O24: 1 | P24: 0 | Q24: 4 | R24: 0 | S24: 3 | T24: 0 | U24: 1
B25: Unincorporated | D25: 0 | E25: 15 | F25: 0 | G25: 13 | H25: 0 | I25: 2 | J25: 0 | K25: 3 | L25: 0 | M25: 2 | N25: 0 | O25: 1 | P25: 0 | Q25: 4 | R25: 0 | S25: 3 | T25: 0 | U25: 1
C26: County Roadways | D26: 0 | E26: 5 | F26: 0 | G26: 4 | H26: 0 | I26: 1 | J26: 0 | K26: 0 | L26: 0 | M26: 0 | N26: 0 | O26: 0 | P26: 0 | Q26: 0 | R26: 0 | S26: 0 | T26: 0 | U26: 0
C27: Uninc. State Highways | D27: 0 | E27: 10 | F27: 0 | G27: 9 | H27: 0 | I27: 1 | J27: 0 | K27: 3 | L27: 0 | M27: 2 | N27: 0 | O27: 1 | P27: 0 | Q27: 4 | R27: 0 | S27: 3 | T27: 0 | U27: 1
A28: Amador | D28: 11 | E28: 255 | F28: 9 | G28: 248 | H28: 2 | I28: 7 | J28: 0 | K28: 3 | L28: 0 | M28: 2 | N28: 0 | O28: 1 | P28: 1 | Q28: 25 | R28: 1 | S28: 22 | T28: 0 | U28: 3
B29: Amador City | D29: 0 | E29: 1 | F29: 0 | G29: 1 | H29: 0 | I29: 0 | J29: 0 | K29: 0 | L29: 0 | M29: 0 | N29: 0 | O29: 0 | P29: 0 | Q29: 0 | R29: 0 | S29: 0 | T29: 0 | U29: 0
B30: Ione | D30: 0 | E30: 5 | F30: 0 | G30: 5 | H30: 0 | I30: 0 | J30: 0 | K30: 1 | L30: 0 | M30: 0 | N30: 0 | O30: 1 | P30: 0 | Q30: 0 | R30: 0 | S30: 0 | T30: 0 | U30: 0
B31: Jackson | D31: 0 | E31: 14 | F31: 0 | G31: 14 | H31: 0 | I31: 0 | J31: 0 | K31: 1 | L31: 0 | M31: 1 | N31: 0 | O31: 0 | P31: 0 | Q31: 1 | R31: 0 | S31: 0 | T31: 0 | U31: 1
B32: Plymouth | D32: 0 | E32: 1 | F32: 0 | G32: 1 | H32: 0 | I32: 0 | J32: 0 | K32: 0 | L32: 0 | M32: 0 | N32: 0 | O32: 0 | P32: 0 | Q32: 0 | R32: 0 | S32: 0 | T32: 0 | U32: 0
B33: Sutter Creek | D33: 1 | E33: 5 | F33: 0 | G33: 5 | H33: 1 | I33: 0 | J33: 0 | K33: 0 | L33: 0 | M33: 0 | N33: 0 | O33: 0 | P33: 0 | Q33: 1 | R33: 0 | S33: 1 | T33: 0 | U33: 0
B34: Unincorporated | D34: 10 | E34: 229 | F34: 9 | G34: 222 | H34: 1 | I34: 7 | J34: 0 | K34: 1 | L34: 0 | M34: 1 | N34: 0 | O34: 0 | P34: 1 | Q34: 23 | R34: 1 | S34: 21 | T34: 0 | U34: 2
C35: County Roadways | D35: 1 | E35: 112 | F35: 0 | G35: 106 | H35: 1 | I35: 6 | J35: 0 | K35: 1 | L35: 0 | M35: 1 | N35: 0 | O35: 0 | P35: 0 | Q35: 14 | R35: 0 | S35: 12 | T35: 0 | U35: 2
C36: Uninc. State Highways | D36: 9 | E36: 117 | F36: 9 | G36: 116 | H36: 0 | I36: 1 | J36: 0 | K36: 0 | L36: 0 | M36: 0 | N36: 0 | O36: 0 | P36: 1 | Q36: 9 | R36: 1 | S36: 9 | T36: 0 | U36: 0
A37: Butte | D37: 38 | E37: 856 | F37: 24 | G37: 797 | H37: 14 | I37: 59 | J37: 0 | K37: 43 | L37: 0 | M37: 6 | N37: 0 | O37: 37 | P37: 10 | Q37: 65 | R37: 9 | S37: 56 | T37: 1 | U37: 9
B38: Chico | D38: 4 | E38: 216 | F38: 3 | G38: 196 | H38: 1 | I38: 20 | J38: 0 | K38: 32 | L38: 0 | M38: 4 | N38: 0 | O38: 28 | P38: 2 | Q38: 13 | R38: 2 | S38: 8 | T38: 0 | U38: 5
B39: Gridley | D39: 0 | E39: 32 | F39: 0 | G39: 29 | H39: 0 | I39: 3 | J39: 0 | K39: 1 | L39: 0 | M39: 0 | N39: 0 | O39: 1 | P39: 0 | Q39: 2 | R39: 0 | S39: 2 | T39: 0 | U39: 0
B40: Oroville | D40: 5 | E40: 83 | F40: 3 | G40: 77 | H40: 2 | I40: 6 | J40: 0 | K40: 5 | L40: 0 | M40: 1 | N40: 0 | O40: 4 | P40: 2 | Q40: 10 | R40: 1 | S40: 8 | T40: 1 | U40: 2
B41: Paradise | D41: 0 | E41: 30 | F41: 0 | G41: 27 | H41: 0 | I41: 3 | J41: 0 | K41: 0 | L41: 0 | M41: 0 | N41: 0 | O41: 0 | P41: 0 | Q41: 2 | R41: 0 | S41: 0 | T41: 0 | U41: 2
B42: Unincorporated | D42: 29 | E42: 495 | F42: 18 | G42: 468 | H42: 11 | I42: 27 | J42: 0 | K42: 5 | L42: 0 | M42: 1 | N42: 0 | O42: 4 | P42: 6 | Q42: 38 | R42: 6 | S42: 38 | T42: 0 | U42: 0
C43: County Roadways | D43: 18 | E43: 278 | F43: 9 | G43: 259 | H43: 9 | I43: 19 | J43: 0 | K43: 4 | L43: 0 | M43: 0 | N43: 0 | O43: 4 | P43: 5 | Q43: 29 | R43: 5 | S43: 29 | T43: 0 | U43: 0
C44: Uninc. State Highways | D44: 11 | E44: 217 | F44: 9 | G44: 209 | H44: 2 | I44: 8 | J44: 0 | K44: 1 | L44: 0 | M44: 1 | N44: 0 | O44: 0 | P44: 1 | Q44: 9 | R44: 1 | S44: 9 | T44: 0 | U44: 0
...

Sheet Parameters
A1: Crash_year
A2: 2021
A4: Start_year | B4: End_year
A5: 2012 | B5: 2021
A7: Start_year2 | B7: End_year2
A8: 2017 | B8: 2021
A11: Title 8A
A12: ="TABLE 8A CRASHES BY COUNTY, CITY, AND ROAD CLASSIFICATION - "&A2&"" -> TABLE 8A CRASHES BY COUNTY, CITY, AND ROAD CLASSIFICATION - 2021
A14: ="TABLE 8A PERSONS KILLED AND INJURED BY COUNTY, CITY, AND ROAD CLASSIFICATION - "&A2&"" -> TABLE 8A PERSONS KILLED AND INJURED BY COUNTY, CITY, AND ROAD CLASSIFICATION - 2021
A16: Title 8B
A17: TABLE 8B MOTOR VEHICLE REGISTRATION, MOTORCYCLE REGISTRATION, LICENSED DRIVERS, POPULATION,
A18: ="AND ROADWAY MILES BY COUNTY - "&A2&"" -> AND ROADWAY MILES BY COUNTY - 2021
A20: Title 8C
A21: ="TABLE 8C PERSONS KILLED AND INJURED BY EXTENT OF INJURY BY COUNTY - "&A2 -> TABLE 8C PERSONS KILLED AND INJURED BY EXTENT OF INJURY BY COUNTY - 2021
A23: Title 8D
A24: ="TABLE 8D FATAL CRASHES BY COUNTY "&A5&"-"&B5 -> TABLE 8D FATAL CRASHES BY COUNTY 2012-2021
A26: Title 8E
A27: ="TABLE 8E PERSONS KILLED BY COUNTY "&A5&"-"&B5 -> TABLE 8E PERSONS KILLED BY COUNTY 2012-2021
A29: Title 8F
A30: ="TABLE 8F INJURY CRASHES BY COUNTY "&A5&"-"&B5 -> TABLE 8F INJURY CRASHES BY COUNTY 2012-2021
A32: Title 8G
A33: ="TABLE 8G PERSONS INJURED BY COUNTY "&A5&"-"&B5 -> TABLE 8G PERSONS INJURED BY COUNTY 2012-2021
A35: Title 8H
A36: ="TABLE 8H FATAL CRASHES BY COUNTY BY MONTH - "&A2 -> TABLE 8H FATAL CRASHES BY COUNTY BY MONTH - 2021
A38: Title 8I
A39: ="TABLE 8I PERSONS KILLED BY COUNTY BY MONTH - "&A2 -> TABLE 8I PERSONS KILLED BY COUNTY BY MONTH - 2021
A41: Title 8J
A42: ="TABLE 8J INJURY CRASHES BY COUNTY BY MONTH - "&A2 -> TABLE 8J INJURY CRASHES BY COUNTY BY MONTH - 2021
A44: Title 8K
A45: ="TABLE 8K PERSONS INJURED BY COUNTY BY MONTH - "&A2 -> TABLE 8K PERSONS INJURED BY COUNTY BY MONTH - 2021
A47: Title 8L
A48: ="TABLE 8L DUI/PCF FATAL AND INJURY CRASHES BY COUNTY "&A8&"-"&B8 -> TABLE 8L DUI/PCF FATAL AND INJURY CRASHES BY COUNTY 2017-2021
A50: Title 8M
A51: ="TABLE 8M PERSONS KILLED AND INJURED IN DUI/PCF CRASHES BY COUNTY "&A8&"-"&B8 -> TABLE 8M PERSONS KILLED AND INJURED IN DUI/PCF CRASHES BY COUNTY 2017-2021
A53: Title 8N
A54: ="TABLE 8N PERSONS KILLED AND INJURED INDICATING SEAT BELT, HELMET, OR OTHER SAFETY EQUIPMENT USAGE BY COUNTY, CITY, AND ROAD CLASSIFICATION - "&A2&"" -> TABLE 8N PERSONS KILLED AND INJURED INDICATING SEAT BELT, HELMET, OR OTHER SAFETY EQUIPMENT USAGE BY COUNTY, CITY, AND ROAD CLASSIFICATION - 2021

Sheet Table 8B Calculations
A1: Gray areas manually inputted however data will autoload into Table 8B
B3: Refer to DMV Estimated Vehicles Registered by County Report | G3: Refer to DMV Driver Licenses Outstanding by County | I3: Refer to E-2 Report from DOF | K3: Refer to Caltrans HPMS Public Road Data, Table 5: Mileage of Maintained Public Roads in Each County by Type of Jurisdiction
A4: COUNTIES | B4: AUTOS | C4: TRUCKS | D4: M/C | E4: TOTAL | G4: LICENSED DRIVERS | I4: POPULATION | K4: CITY ROADS | L4: COUNTY ROADS | M4: STATE HIGHWAY
A5: ALAMEDA | B5: 1055138 | C5: 179267 | D5: 31042 | E5: =SUM(B5:D5) -> 1265447 | G5: 1150671 | I5: 1654938 | K5: 3138.99 | L5: 501.71 | M5: 194.26
A6: ALPINE | B6: 1544 | C6: 777 | D6: 70 | E6: =SUM(B6:D6) -> 2391 | G6: 1255 | I6: 1181 | L6: 151.62 | M6: 84
A7: AMADOR | B7: 30741 | C7: 16606 | D7: 2424 | E7: =SUM(B7:D7) -> 49771 | G7: 30753 | I7: 40222 | K7: 69.57 | L7: 465.71 | M7: 119.31
A8: BUTTE | B8: 118456 | C8: 53286 | D8: 6811 | E8: =SUM(B8:D8) -> 178553 | G8: 151153 | I8: 206694 | K8: 508.34 | L8: 1305.13 | M8: 183.53
A9: CALAVERAS | B9: 38980 | C9: 22005 | D9: 3304 | E9: =SUM(B9:D9) -> 64289 | G9: 38716 | I9: 45013 | K9: 28.53 | L9: 957.95 | M9: 149.72
A10: COLUSA | B10: 13616 | C10: 8497 | D10: 538 | E10: =SUM(B10:D10) -> 22651 | G10: 15462 | I10: 21867 | K10: 63.3 | L10: 742.73 | M10: 114.66
A11: CONTRA COSTA | B11: 824951 | C11: 162042 | D11: 27488 | E11: =SUM(B11:D11) -> 1014481 | G11: 844100 | I11: 1160418 | K11: 2813.76 | L11: 715.99 | M11: 111.37
A12: DEL NORTE | B12: 14929 | C12: 7571 | D12: 853 | E12: =SUM(B12:D12) -> 23353 | G12: 18331 | I12: 27365 | K12: 24.08 | L12: 305.8 | M12: 91.88
A13: EL DORADO | B13: 137442 | C13: 51357 | D13: 8797 | E13: =SUM(B13:D13) -> 197596 | G13: 157176 | I13: 191309 | K13: 189.07 | L13: 1220.18 | M13: 178
A14: FRESNO | B14: 570474 | C14: 203484 | D14: 18513 | E14: =SUM(B14:D14) -> 792471 | G14: 619182 | I14: 1010453 | K14: 2534.64 | L14: 4012.77 | M14: 517.77
A15: GLENN | B15: 17635 | C15: 10907 | D15: 969 | E15: =SUM(B15:D15) -> 29511 | G15: 20816 | I15: 28734 | K15: 69.09 | L15: 866.97 | M15: 110.36
A16: HUMBOLDT | B16: 81381 | C16: 41531 | D16: 4669 | E16: =SUM(B16:D16) -> 127581 | G16: 97969 | I16: 134639 | K16: 278.37 | L16: 1402.87 | M16: 336.9
A17: IMPERIAL | B17: 140609 | C17: 53450 | D17: 3484 | E17: =SUM(B17:D17) -> 197543 | G17: 125813 | I17: 179340 | K17: 420.95 | L17: 2674.8 | M17: 409.61
A18: INYO | B18: 14504 | C18: 8440 | D18: 1002 | E18: =SUM(B18:D18) -> 23946 | G18: 14467 | I18: 18879 | K18: 16.69 | L18: 1611.56 | M18: 422.46
... A25: MARIN | B25: 190777 | C25: 32881 | D25: 6987 | E25: =SUM(B25:D25) -> 230645 | G25: 199020 | I25: 258385 | K25: 633.42 | L25: 446.25 | M25: 89.79
A26: MARIPOSA | B26: 13496 | C26: 8230 | D26: 1077 | E26: =SUM(B26:D26) -> 22803 | G26: 14176 | I26: 17016 | L26: 845.53 | M26: 116.44
A27: MENDOCINO | B27: 60036 | C27: 34832 | D27: 3681 | E27: =SUM(B27:D27) -> 98549 | G27: 66581 | I27: 90445 | K27: 110.88 | L27: 1180.5 | M27: 384.47
A28: MERCED | B28: 159351 | C28: 61458 | D28: 5037 | E28: =SUM(B28:D28) -> 225846 | G28: 170122 | I28: 281750 | K28: 578.93 | L28: 1917.98 | M28: 256.64
A29: MODOC | B29: 5270 | C29: 4501 | D29: 262 | E29: =SUM(B29:D29) -> 10033 | G29: 6751 | I29: 8579 | K29: 31.92 | L29: 1218.31 | M29: 177.7
A30: MONO | B30: 9144 | C30: 4702 | D30: 712 | E30: =SUM(B30:D30) -> 14558 | G30: 9605 | I30: 13258 | K30: 54.27 | L30: 716.35 | M30: 313.93
A31: MONTEREY | B31: 277361 | C31: 88363 | D31: 8445 | E31: =SUM(B31:D31) -> 374169 | G31: 281330 | I31: 437644 | K31: 780.57 | L31: 1337.9 | M31: 287.68
A32: NAPA | B32: 95008 | C32: 31410 | D32: 3953 | E32: =SUM(B32:D32) -> 130371 | G32: 102427 | I32: 137386 | K32: 325.19 | L32: 466.35 | M32: 110.73
A33: NEVADA | B33: 71380 | C33: 30117 | D33: 5435 | E33: =SUM(B33:D33) -> 106932 | G33: 85554 | I33: 102221 | K33: 253.73 | L33: 829.19 | M33: 129.07
A34: ORANGE | B34: 2271305 | C34: 423391 | D34: 60120 | E34: =SUM(B34:D34) -> 2754816 | G34: 2360632 | I34: 3163851 | K34: 5772.65 | L34: 364.71 | M34: 276.2
A35: PLACER | B35: 300491 | C35: 90530 | D35: 14049 | E35: =SUM(B35:D35) -> 405070 | G35: 318516 | I35: 409189 | K35: 937.4 | L35: 1580.19 | M35: 153.08
A36: PLUMAS | B36: 14840 | C36: 9883 | D36: 1031 | E36: =SUM(B36:D36) -> 25754 | G36: 16488 | I36: 19720 | K36: 22.99 | L36: 729.47 | M36: 181.47
A37: RIVERSIDE | B37: 1529684 | C37: 426284 | D37: 51917 | E37: =SUM(B37:D37) -> 2007885 | G37: 1677067 | I37: 2431238 | K37: 6058.47 | L37: 2558.59 | M37: 629.98
A38: SACRAMENTO | B38: 994521 | C38: 233194 | D38: 33415 | E38: =SUM(B38:D38) -> 1261130 | G38: 1087690 | I38: 1583084 | K38: 2644.41 | L38: 2235.59 | M38: 211.71
... A41: SAN DIEGO | B41: 2260632 | C41: 500471 | D41: 86269 | E41: =SUM(B41:D41) -> 2847372 | G41: 2417394 | I41: 3284368 | K41: 6028.33 | L41: 2104.66 | M41: 616.54
A42: SAN FRANCISCO | B42: 393078 | C42: 51765 | D42: 18154 | E42: =SUM(B42:D42) -> 462997 | G42: 574962 | I42: 838402 | K42: 895.07 | M42: 33.73
A43: SAN JOAQUIN | B43: 478115 | C43: 150528 | D43: 16846 | E43: =SUM(B43:D43) -> 645489 | G43: 510624 | I43: 782894 | K43: 1648.45 | L43: 1730.06 | M43: 263.54
A44: SAN LUIS OBISPO | B44: 188941 | C44: 68737 | D44: 10833 | E44: =SUM(B44:D44) -> 268511 | G44: 208350 | I44: 278600 | K44: 709.18 | L44: 1429.9 | M44: 357.01
A45: SAN MATEO | B45: 569797 | C45: 84894 | D45: 16087 | E45: =SUM(B45:D45) -> 670778 | G45: 552948 | I45: 747900 | K45: 1544.85 | L45: 328.92 | M45: 212.34
A46: SANTA BARBARA | B46: 282207 | C46: 85685 | D46: 12387 | E46: =SUM(B46:D46) -> 380279 | G46: 297842 | I46: 439322 | K46: 802.81 | L46: 876.14 | M46: 294.55
A47: SANTA CLARA | B47: 1332612 | C47: 197572 | D47: 36844 | E47: =SUM(B47:D47) -> 1567028 | G47: 1396888 | I47: 1899154 | K47: 3797.88 | L47: 661.89 | M47: 251.24
A48: SANTA CRUZ | B48: 176886 | C48: 53638 | D48: 10395 | E48: =SUM(B48:D48) -> 240919 | G48: 192191 | I48: 263445 | K48: 315.94 | L48: 633.07 | M48: 124.23
A49: SHASTA | B49: 110032 | C49: 52741 | D49: 7420 | E49: =SUM(B49:D49) -> 170193 | G49: 136027 | I49: 181871 | K49: 538.6 | L49: 1292.35 | M49: 312.44
...
