Workbook

Sheet Table 3A
A1: =Parameters!$A$8 -> TABLE 3A DRIVERS IN FATAL AND INJURY CRASHES AND DRIVERS WHO WERE AT FAULT BY TYPE OF VEHICLE - 2021
B4: Drivers in Fatal Crashes | E4: Drivers in Injury Crashes
A5: Statewide Vehicle Type* | B5: Total | C5: At Fault | D5: Percent At Fault | E5: Total | F5: At Fault | G5: Percent At Fault
A6: Passenger car | B6: 4068 | C6: 2036 | D6: 0.50049164 | E6: 220553 | F6: 105676 | G6: 0.47914107
A7: Passenger car with trailer | B7: 13 | C7: 7 | D7: 0.53846154 | E7: 419 | F7: 220 | G7: 0.52505967
A8: Motorcycle/scooter | B8: 634 | C8: 438 | D8: 0.69085174 | E8: 11190 | F8: 6425 | G8: 0.57417337
A9: Moped | B9: 4 | C9: 4 | D9: 1 | E9: 79 | F9: 48 | G9: 0.60759494
A10: Pickup or panel truck | B10: 884 | C10: 434 | D10: 0.49095023 | E10: 30361 | F10: 15040 | G10: 0.49537235
A11: Pickup or panel truck with trailer | B11: 34 | C11: 12 | D11: 0.35294118 | E11: 1150 | F11: 529 | G11: 0.46
A12: Truck or truck tractor | B12: 121 | C12: 38 | D12: 0.31404959 | E12: 3477 | F12: 1624 | G12: 0.46706931
A13: Truck or truck tractor with trailer | B13: 257 | C13: 51 | D13: 0.19844358 | E13: 3935 | F13: 1375 | G13: 0.34942821
A14: School bus | B14: 3 | C14: 0 | D14: 0 | E14: 131 | F14: 30 | G14: 0.22900763
A15: Other bus | B15: 21 | C15: 4 | D15: 0.19047619 | E15: 1145 | F15: 386 | G15: 0.3371179
A16: Emergency vehicle | B16: 8 | C16: 2 | D16: 0.25 | E16: 1133 | F16: 463 | G16: 0.4086496
A17: Highway construction equipment | B17: 2 | C17: 0 | D17: 0 | E17: 35 | F17: 9 | G17: 0.25714286
... A20: Total | B20: 6367 | C20: 3133 | D20: 0.49206848 | E20: 289018 | F20: 141363 | G20: 0.48911486
A22: *May be under reported for non-CHP agencies due to a traffic crash report form revision July 2003. (See Preface for details.)
A23: **May be over reported for non-CHP agencies due to a traffic crash report form revision July 2003. (See Preface for details.)

Sheet Table 3B
A1: =Parameters!$A$11 -> TABLE 3B DRIVERS IN FATAL AND INJURY CRASHES BY AGE COMPARED TO LICENSED DRIVERS IN CALIFORNIA - 2021
A3: Drivers in Crashes
H5: Per 10,000
B6: Licensed Drivers | H6: Licensed Drivers | J6: Percent of Total Drivers
J7: Licensed | K7: Fatal | L7: Injury
A8: Age | B8: Total | C8: Male | D8: Female | E8: Non-Binary | F8: Fatal | G8: Injury | H8: Fatal | I8: Injury | J8: Drivers | K8: Crashes | L8: Crashes
A9: 0-14 | B9: 0 | C9: 0 | D9: 0 | E9: 0 | F9: =GETPIVOTDATA("Count",Parameters!$A$14,"Severity_Group_1","Fatal","Age_Group_8","0-14") -> 11 | G9: =GETPIVOTDATA("Count",Parameters!$A$14,"Severity_Group_1","Injury","Age_Group_8","0-14") -> 365 | H9: 0 | I9: 0 | J9: 0 | K9: =F9/F27*100 -> 0.17276582 | L9: =G9/G27*100 -> 0.12628971
A10: 15-19 | B10: ='Table 3B-DMV-Licensed Drivers'!H7 -> 792682 | C10: ='Table 3B-DMV-Licensed Drivers'!I7 -> 410964 | D10: ='Table 3B-DMV-Licensed Drivers'!J7 -> 380984 | E10: ='Table 3B-DMV-Licensed Drivers'!K7 -> 734 | F10: =GETPIVOTDATA("Count",Parameters!$A$14,"Severity_Group_1","Fatal","Age_Group_8","15-19") -> 345 | G10: =GETPIVOTDATA("Count",Parameters!$A$14,"Severity_Group_1","Injury","Age_Group_8","15-19") -> 17684 | H10: =F10/B10*10000 -> 4.3523128 | I10: =G10/B10*10000 -> 223.09072 | J10: =B10/B27*100 -> 2.8864571 | K10: =F10/F27*100 -> 5.4185645 | L10: =G10/G27*100 -> 6.11865
A11: 20-24 | B11: ='Table 3B-DMV-Licensed Drivers'!H8 -> 2119980 | C11: ='Table 3B-DMV-Licensed Drivers'!I8 -> 1104174 | D11: ='Table 3B-DMV-Licensed Drivers'!J8 -> 1013827 | E11: ='Table 3B-DMV-Licensed Drivers'!K8 -> 1979 | F11: =GETPIVOTDATA("Count",Parameters!$A$14,"Severity_Group_1","Fatal","Age_Group_8","20-24") -> 805 | G11: =GETPIVOTDATA("Count",Parameters!$A$14,"Severity_Group_1","Injury","Age_Group_8","20-24") -> 37885 | H11: =F11/B11*10000 -> 3.7972056 | I11: =G11/B11*10000 -> 178.70452 | J11: =B11/B27*100 -> 7.7196547 | K11: =F11/F27*100 -> 12.643317 | L11: =G11/G27*100 -> 13.10818
A12: 25-29 | B12: ='Table 3B-DMV-Licensed Drivers'!H9 -> 2594726 | C12: ='Table 3B-DMV-Licensed Drivers'!I9 -> 1332692 | D12: ='Table 3B-DMV-Licensed Drivers'!J9 -> 1259762 | E12: ='Table 3B-DMV-Licensed Drivers'!K9 -> 2272 | F12: =GETPIVOTDATA("Count",Parameters!$A$14,"Severity_Group_1","Fatal","Age_Group_8","25-29") -> 793 | G12: =GETPIVOTDATA("Count",Parameters!$A$14,"Severity_Group_1","Injury","Age_Group_8","25-29") -> 36891 | H12: =F12/B12*10000 -> 3.0561994 | I12: =G12/B12*10000 -> 142.17686 | J12: =B12/B27*100 -> 9.4483858 | K12: =F12/F27*100 -> 12.454845 | L12: =G12/G27*100 -> 12.764257
A13: 30-34 | B13: ='Table 3B-DMV-Licensed Drivers'!H10 -> 2794256 | C13: ='Table 3B-DMV-Licensed Drivers'!I10 -> 1428084 | D13: ='Table 3B-DMV-Licensed Drivers'!J10 -> 1364572 | E13: ='Table 3B-DMV-Licensed Drivers'!K10 -> 1600 | F13: =GETPIVOTDATA("Count",Parameters!$A$14,"Severity_Group_1","Fatal","Age_Group_8","30-34") -> 697 | G13: =GETPIVOTDATA("Count",Parameters!$A$14,"Severity_Group_1","Injury","Age_Group_8","30-34") -> 32446 | H13: =F13/B13*10000 -> 2.4944028 | I13: =G13/B13*10000 -> 116.11678 | J13: =B13/B27*100 -> 10.174951 | K13: =F13/F27*100 -> 10.947071 | L13: =G13/G27*100 -> 11.22629
A14: 35-39 | B14: ='Table 3B-DMV-Licensed Drivers'!H11 -> 2667620 | C14: ='Table 3B-DMV-Licensed Drivers'!I11 -> 1360748 | D14: ='Table 3B-DMV-Licensed Drivers'!J11 -> 1305939 | E14: ='Table 3B-DMV-Licensed Drivers'!K11 -> 933 | F14: =GETPIVOTDATA("Count",Parameters!$A$14,"Severity_Group_1","Fatal","Age_Group_8","35-39") -> 610 | G14: =GETPIVOTDATA("Count",Parameters!$A$14,"Severity_Group_1","Injury","Age_Group_8","35-39") -> 26856 | H14: =F14/B14*10000 -> 2.2866825 | I14: =G14/B14*10000 -> 100.67401 | J14: =B14/B27*100 -> 9.7138206 | K14: =F14/F27*100 -> 9.5806502 | L14: =G14/G27*100 -> 9.2921548
A15: 40-44 | B15: ='Table 3B-DMV-Licensed Drivers'!H12 -> 2468900 | C15: ='Table 3B-DMV-Licensed Drivers'!I12 -> 1250355 | D15: ='Table 3B-DMV-Licensed Drivers'!J12 -> 1218064 | E15: ='Table 3B-DMV-Licensed Drivers'!K12 -> 481 | F15: =GETPIVOTDATA("Count",Parameters!$A$14,"Severity_Group_1","Fatal","Age_Group_8","40-44") -> 464 | G15: =GETPIVOTDATA("Count",Parameters!$A$14,"Severity_Group_1","Injury","Age_Group_8","40-44") -> 23226 | H15: =F15/B15*10000 -> 1.8793795 | I15: =G15/B15*10000 -> 94.074284 | J15: =B15/B27*100 -> 8.9902054 | K15: =F15/F27*100 -> 7.2875766 | L15: =G15/G27*100 -> 8.0361777
A16: 45-49 | B16: ='Table 3B-DMV-Licensed Drivers'!H13 -> 2271179 | C16: ='Table 3B-DMV-Licensed Drivers'!I13 -> 1144770 | D16: ='Table 3B-DMV-Licensed Drivers'!J13 -> 1126148 | E16: ='Table 3B-DMV-Licensed Drivers'!K13 -> 261 | F16: =GETPIVOTDATA("Count",Parameters!$A$14,"Severity_Group_1","Fatal","Age_Group_8","45-49") -> 410 | G16: =GETPIVOTDATA("Count",Parameters!$A$14,"Severity_Group_1","Injury","Age_Group_8","45-49") -> 20075 | H16: =F16/B16*10000 -> 1.8052298 | I16: =G16/B16*10000 -> 88.390215 | J16: =B16/B27*100 -> 8.2702279 | K16: =F16/F27*100 -> 6.4394534 | L16: =G16/G27*100 -> 6.9459342
A17: 50-54 | B17: ='Table 3B-DMV-Licensed Drivers'!H14 -> 2346473 | C17: ='Table 3B-DMV-Licensed Drivers'!I14 -> 1191812 | D17: ='Table 3B-DMV-Licensed Drivers'!J14 -> 1154456 | E17: ='Table 3B-DMV-Licensed Drivers'!K14 -> 205 | F17: =GETPIVOTDATA("Count",Parameters!$A$14,"Severity_Group_1","Fatal","Age_Group_8","50-54") -> 501 | G17: =GETPIVOTDATA("Count",Parameters!$A$14,"Severity_Group_1","Injury","Age_Group_8","50-54") -> 19590 | H17: =F17/B17*10000 -> 2.1351194 | I17: =G17/B17*10000 -> 83.487004 | J17: =B17/B27*100 -> 8.544402 | K17: =F17/F27*100 -> 7.868698 | L17: =G17/G27*100 -> 6.7781245
A18: 55-59 | B18: ='Table 3B-DMV-Licensed Drivers'!H15 -> 2296909 | C18: ='Table 3B-DMV-Licensed Drivers'!I15 -> 1170620 | D18: ='Table 3B-DMV-Licensed Drivers'!J15 -> 1126139 | E18: ='Table 3B-DMV-Licensed Drivers'!K15 -> 150 | F18: =GETPIVOTDATA("Count",Parameters!$A$14,"Severity_Group_1","Fatal","Age_Group_8","55-59") -> 433 | G18: =GETPIVOTDATA("Count",Parameters!$A$14,"Severity_Group_1","Injury","Age_Group_8","55-59") -> 17788 | H18: =F18/B18*10000 -> 1.8851422 | I18: =G18/B18*10000 -> 77.443207 | J18: =B18/B27*100 -> 8.3639206 | K18: =F18/F27*100 -> 6.8006911 | L18: =G18/G27*100 -> 6.154634
A19: 60-64 | B19: ='Table 3B-DMV-Licensed Drivers'!H16 -> 2181863 | C19: ='Table 3B-DMV-Licensed Drivers'!I16 -> 1103710 | D19: ='Table 3B-DMV-Licensed Drivers'!J16 -> 1078040 | E19: ='Table 3B-DMV-Licensed Drivers'!K16 -> 113 | F19: =GETPIVOTDATA("Count",Parameters!$A$14,"Severity_Group_1","Fatal","Age_Group_8","60-64") -> 377 | G19: =GETPIVOTDATA("Count",Parameters!$A$14,"Severity_Group_1","Injury","Age_Group_8","60-64") -> 14421 | H19: =F19/B19*10000 -> 1.7278812 | I19: =G19/B19*10000 -> 66.094892 | J19: =B19/B27*100 -> 7.9449943 | K19: =F19/F27*100 -> 5.921156 | L19: =G19/G27*100 -> 4.9896546
A20: 65-69 | B20: ='Table 3B-DMV-Licensed Drivers'!H17 -> 1840482 | C20: ='Table 3B-DMV-Licensed Drivers'!I17 -> 918526 | D20: ='Table 3B-DMV-Licensed Drivers'!J17 -> 921896 | E20: ='Table 3B-DMV-Licensed Drivers'!K17 -> 60 | F20: =GETPIVOTDATA("Count",Parameters!$A$14,"Severity_Group_1","Fatal","Age_Group_8","65-69") -> 228 | G20: =GETPIVOTDATA("Count",Parameters!$A$14,"Severity_Group_1","Injury","Age_Group_8","65-69") -> 10161 | H20: =F20/B20*10000 -> 1.2388059 | I20: =G20/B20*10000 -> 55.208364 | J20: =B20/B27*100 -> 6.7018961 | K20: =F20/F27*100 -> 3.5809643 | L20: =G20/G27*100 -> 3.515698
A21: 70-74 | B21: ='Table 3B-DMV-Licensed Drivers'!H18 -> 1391852 | C21: ='Table 3B-DMV-Licensed Drivers'!I18 -> 688241 | D21: ='Table 3B-DMV-Licensed Drivers'!J18 -> 703564 | E21: ='Table 3B-DMV-Licensed Drivers'!K18 -> 47 | F21: =GETPIVOTDATA("Count",Parameters!$A$14,"Severity_Group_1","Fatal","Age_Group_8","70-74") -> 156 | G21: =GETPIVOTDATA("Count",Parameters!$A$14,"Severity_Group_1","Injury","Age_Group_8","70-74") -> 6792 | H21: =F21/B21*10000 -> 1.1208088 | I21: =G21/B21*10000 -> 48.798292 | J21: =B21/B27*100 -> 5.0682633 | K21: =F21/F27*100 -> 2.4501335 | L21: =G21/G27*100 -> 2.3500266
A22: 75-79 | B22: ='Table 3B-DMV-Licensed Drivers'!H19 -> 878455 | C22: ='Table 3B-DMV-Licensed Drivers'!I19 -> 435586 | D22: ='Table 3B-DMV-Licensed Drivers'!J19 -> 442849 | E22: ='Table 3B-DMV-Licensed Drivers'!K19 -> 20 | F22: =GETPIVOTDATA("Count",Parameters!$A$14,"Severity_Group_1","Fatal","Age_Group_8","75-79") -> 96 | G22: =GETPIVOTDATA("Count",Parameters!$A$14,"Severity_Group_1","Injury","Age_Group_8","75-79") -> 4049 | H22: =F22/B22*10000 -> 1.0928277 | I22: =G22/B22*10000 -> 46.092287 | J22: =B22/B27*100 -> 3.1987893 | K22: =F22/F27*100 -> 1.5077745 | L22: =G22/G27*100 -> 1.4009508
A23: 80-84 | B23: ='Table 3B-DMV-Licensed Drivers'!H20 -> 485545 | C23: ='Table 3B-DMV-Licensed Drivers'!I20 -> 239978 | D23: ='Table 3B-DMV-Licensed Drivers'!J20 -> 245567 | E23: ='Table 3B-DMV-Licensed Drivers'!K20 -> 0 | F23: =GETPIVOTDATA("Count",Parameters!$A$14,"Severity_Group_1","Fatal","Age_Group_8","80-84") -> 62 | G23: =GETPIVOTDATA("Count",Parameters!$A$14,"Severity_Group_1","Injury","Age_Group_8","80-84") -> 2257 | H23: =F23/B23*10000 -> 1.2769156 | I23: =G23/B23*10000 -> 46.483848 | J23: =B23/B27*100 -> 1.7680543 | K23: =F23/F27*100 -> 0.97377101 | L23: =G23/G27*100 -> 0.78092022
A24: 85-89 | B24: ='Table 3B-DMV-Licensed Drivers'!H21 -> 233689 | C24: ='Table 3B-DMV-Licensed Drivers'!I21 -> 117235 | D24: ='Table 3B-DMV-Licensed Drivers'!J21 -> 116454 | E24: ='Table 3B-DMV-Licensed Drivers'!K21 -> 0 | F24: =GETPIVOTDATA("Count",Parameters!$A$14,"Severity_Group_1","Fatal","Age_Group_8","85-89") -> 34 | G24: =GETPIVOTDATA("Count",Parameters!$A$14,"Severity_Group_1","Injury","Age_Group_8","85-89") -> 1035 | H24: =F24/B24*10000 -> 1.4549251 | I24: =G24/B24*10000 -> 44.289633 | J24: =B24/B27*100 -> 0.85095067 | K24: =F24/F27*100 -> 0.53400346 | L24: =G24/G27*100 -> 0.35810918
A25: 90 and over | B25: ='Table 3B-DMV-Licensed Drivers'!H22 -> 97498 | C25: ='Table 3B-DMV-Licensed Drivers'!I22 -> 49156 | D25: ='Table 3B-DMV-Licensed Drivers'!J22 -> 48342 | E25: ='Table 3B-DMV-Licensed Drivers'!K22 -> 0 | F25: =GETPIVOTDATA("Count",Parameters!$A$14,"Severity_Group_1","Fatal","Age_Group_8","90 and over") -> 13 | G25: =GETPIVOTDATA("Count",Parameters!$A$14,"Severity_Group_1","Injury","Age_Group_8","90 and over") -> 425 | H25: =F25/B25*10000 -> 1.3333607 | I25: =G25/B25*10000 -> 43.590638 | J25: =B25/B27*100 -> 0.35502736 | K25: =F25/F27*100 -> 0.20417779 | L25: =G25/G27*100 -> 0.14704966
A26: Not stated | B26: 0 | C26: 0 | D26: 0 | E26: 0 | F26: =GETPIVOTDATA("Count",Parameters!$A$14,"Severity_Group_1","Fatal","Age_Group_8","Not Stated") -> 332 | G26: =GETPIVOTDATA("Count",Parameters!$A$14,"Severity_Group_1","Injury","Age_Group_8","Not Stated") -> 17072 | H26: 0 | I26: 0 | J26: 0 | K26: =F26/F27*100 -> 5.2143867 | L26: =G26/G27*100 -> 5.9068985
A27: Total | B27: ='Table 3B-DMV-Licensed Drivers'!H23 -> 27462109 | C27: ='Table 3B-DMV-Licensed Drivers'!I23 -> 13946651 | D27: ='Table 3B-DMV-Licensed Drivers'!J23 -> 13506603 | E27: ='Table 3B-DMV-Licensed Drivers'!K23 -> 8855 | F27: =GETPIVOTDATA("Count",Parameters!$A$14,"Severity_Group_1","Fatal") -> 6367 | G27: =GETPIVOTDATA("Count",Parameters!$A$14,"Severity_Group_1","Injury") -> 289018 | H27: =F27/B27*10000 -> 2.3184672 | I27: =G27/B27*10000 -> 105.24246 | J27: =SUM(J9:J26) -> 100 | K27: =SUM(K9:K26) -> 100 | L27: =SUM(L9:L26) -> 100

Sheet Table 3C
A1: =Parameters!$A$37 -> TABLE 3C DRIVERS IN FATAL AND INJURY CRASHES AND DRIVERS WHO WERE AT FAULT BY SEX BY AGE - 2021
B4: Fatal | J4: Injury
B5: Male | D5: Female | F5: Nonbinary | H5: Not stated | J5: Male | L5: Female | N5: Nonbinary | P5: Not stated
A6: Age | B6: Total | C6: At Fault | D6: Total | E6: At Fault | F6: Total | G6: At Fault | H6: Total | I6: At Fault | J6: Total | K6: At Fault | L6: Total | M6: At Fault | N6: Total | O6: At Fault | P6: Total | Q6: At Fault
A7: 0-14 | B7: 9 | C7: 5 | D7: 2 | E7: 2 | F7: 0 | G7: 0 | H7: 0 | I7: 0 | J7: 261 | K7: 187 | L7: 101 | M7: 67 | N7: 0 | O7: 0 | P7: 3 | Q7: 3
A8: 15 | B8: 2 | C8: 2 | D8: 3 | E8: 3 | F8: 0 | G8: 0 | H8: 0 | I8: 0 | J8: 167 | K8: 127 | L8: 81 | M8: 62 | N8: 0 | O8: 0 | P8: 3 | Q8: 2
A9: 16 | B9: 15 | C9: 11 | D9: 6 | E9: 0 | F9: 0 | G9: 0 | H9: 1 | I9: 1 | J9: 925 | K9: 674 | L9: 634 | M9: 401 | N9: 0 | O9: 0 | P9: 9 | Q9: 6
A10: 17 | B10: 35 | C10: 24 | D10: 20 | E10: 11 | F10: 0 | G10: 0 | H10: 0 | I10: 0 | J10: 1702 | K10: 1135 | L10: 1273 | M10: 812 | N10: 0 | O10: 0 | P10: 23 | Q10: 14
A11: 18 | B11: 78 | C11: 50 | D11: 38 | E11: 23 | F11: 0 | G11: 0 | H11: 0 | I11: 0 | J11: 3404 | K11: 2308 | L11: 2181 | M11: 1309 | N11: 1 | O11: 1 | P11: 27 | Q11: 18
A12: 19 | B12: 119 | C12: 80 | D12: 28 | E12: 18 | F12: 0 | G12: 0 | H12: 0 | I12: 0 | J12: 4387 | K12: 2889 | L12: 2840 | M12: 1658 | N12: 0 | O12: 0 | P12: 27 | Q12: 18
A13: 20 | B13: 115 | C13: 65 | D13: 40 | E13: 19 | F13: 0 | G13: 0 | H13: 0 | I13: 0 | J13: 4604 | K13: 2852 | L13: 2906 | M13: 1551 | N13: 0 | O13: 0 | P13: 34 | Q13: 16
A14: 21 | B14: 114 | C14: 78 | D14: 37 | E14: 20 | F14: 0 | G14: 0 | H14: 0 | I14: 0 | J14: 4627 | K14: 2828 | L14: 2920 | M14: 1595 | N14: 2 | O14: 2 | P14: 28 | Q14: 16
A15: 22 | B15: 116 | C15: 62 | D15: 46 | E15: 25 | F15: 0 | G15: 0 | H15: 0 | I15: 0 | J15: 4637 | K15: 2778 | L15: 3064 | M15: 1612 | N15: 0 | O15: 0 | P15: 23 | Q15: 17
A16: 23 | B16: 130 | C16: 82 | D16: 34 | E16: 13 | F16: 0 | G16: 0 | H16: 2 | I16: 2 | J16: 4549 | K16: 2740 | L16: 2954 | M16: 1482 | N16: 1 | O16: 0 | P16: 19 | Q16: 11
A17: 24 | B17: 124 | C17: 77 | D17: 47 | E17: 25 | F17: 0 | G17: 0 | H17: 0 | I17: 0 | J17: 4499 | K17: 2580 | L17: 2990 | M17: 1478 | N17: 2 | O17: 1 | P17: 26 | Q17: 16
A18: 25 | B18: 112 | C18: 62 | D18: 42 | E18: 21 | F18: 0 | G18: 0 | H18: 0 | I18: 0 | J18: 4638 | K18: 2667 | L18: 2938 | M18: 1443 | N18: 0 | O18: 0 | P18: 16 | Q18: 12
... A61: Total | B61: 4602 | C61: 2420 | D61: 1444 | E61: 614 | F61: 3 | G61: 0 | H61: 318 | I61: 99 | J61: 169558 | K61: 84514 | L61: 105409 | M61: 46034 | N61: 159 | O61: 111 | P61: 13892 | Q61: 10704

Sheet Table 3D
A1: =Parameters!$A$40 -> TABLE 3D DRIVERS IN FATAL CRASHES BY AGE BY HOUR OF DAY - 2021
A4: Hour of Day | B4: 0-19 | C4: 20-24 | D4: 25-29 | E4: 30-34 | F4: 35-39 | G4: 40-44 | H4: 45-49 | I4: 50-54 | J4: 55-59 | K4: 60-64 | L4: 65 and over | M4: Not stated | N4: Total
A5: A.M. Total | B5: 123 | C5: 317 | D5: 336 | E5: 294 | F5: 256 | G5: 181 | H5: 143 | I5: 192 | J5: 143 | K5: 128 | L5: 188 | M5: 136 | N5: 2437
A6: Midnight - 12:59 A.M. | B6: 21 | C6: 50 | D6: 39 | E6: 43 | F6: 17 | G6: 22 | H6: 17 | I6: 13 | J6: 8 | K6: 6 | L6: 13 | M6: 20 | N6: 269
A7: 1:00 - 1:59 A.M. | B7: 17 | C7: 44 | D7: 45 | E7: 26 | F7: 30 | G7: 15 | H7: 11 | I7: 6 | J7: 5 | K7: 6 | L7: 6 | M7: 15 | N7: 226
A8: 2:00 - 2:59 A.M. | B8: 10 | C8: 48 | D8: 49 | E8: 40 | F8: 29 | G8: 21 | H8: 12 | I8: 17 | J8: 12 | K8: 9 | L8: 9 | M8: 22 | N8: 278
A9: 3:00 - 3:59 A.M. | B9: 14 | C9: 27 | D9: 21 | E9: 23 | F9: 25 | G9: 9 | H9: 9 | I9: 15 | J9: 15 | K9: 7 | L9: 5 | M9: 15 | N9: 185
A10: 4:00 - 4:59 A.M. | B10: 11 | C10: 32 | D10: 30 | E10: 25 | F10: 22 | G10: 17 | H10: 13 | I10: 16 | J10: 15 | K10: 15 | L10: 11 | M10: 11 | N10: 218
A11: 5:00 - 5:59 A.M. | B11: 8 | C11: 26 | D11: 35 | E11: 34 | F11: 32 | G11: 16 | H11: 12 | I11: 26 | J11: 22 | K11: 19 | L11: 12 | M11: 16 | N11: 258
A12: 6:00 - 6:59 A.M. | B12: 8 | C12: 16 | D12: 31 | E12: 28 | F12: 20 | G12: 20 | H12: 16 | I12: 27 | J12: 20 | K12: 9 | L12: 17 | M12: 16 | N12: 228
A13: 7:00 - 7:59 A.M. | B13: 8 | C13: 9 | D13: 19 | E13: 15 | F13: 24 | G13: 15 | H13: 10 | I13: 18 | J13: 10 | K13: 12 | L13: 14 | M13: 6 | N13: 160
A14: 8:00 - 8:59 A.M. | B14: 4 | C14: 19 | D14: 15 | E14: 23 | F14: 25 | G14: 8 | H14: 15 | I14: 19 | J14: 8 | K14: 14 | L14: 21 | M14: 8 | N14: 179
A15: 9:00 - 9:59 A.M. | B15: 8 | C15: 13 | D15: 20 | E15: 9 | F15: 7 | G15: 12 | H15: 10 | I15: 7 | J15: 11 | K15: 13 | L15: 15 | M15: 2 | N15: 127
A16: 10:00 - 10:59 A.M. | B16: 5 | C16: 15 | D16: 9 | E16: 12 | F16: 9 | G16: 8 | H16: 4 | I16: 17 | J16: 8 | K16: 7 | L16: 26 | M16: 4 | N16: 124
... A32: Total | B32: 356 | C32: 805 | D32: 793 | E32: 697 | F32: 610 | G32: 464 | H32: 410 | I32: 501 | J32: 433 | K32: 377 | L32: 589 | M32: 332 | N32: 6367

Sheet Table 3E
A1: =Parameters!$A$59 -> TABLE 3E DRIVERS IN INJURY CRASHES BY AGE BY HOUR OF DAY - 2021
A4: Hour of Day | B4: 0-19 | C4: 20-24 | D4: 25-29 | E4: 30-34 | F4: 35-39 | G4: 40-44 | H4: 45-49 | I4: 50-54 | J4: 55-59 | K4: 60-64 | L4: 65 and over | M4: Not stated | N4: Total
A5: A.M. Total | B5: 4780 | C5: 12275 | D5: 12637 | E5: 10851 | F5: 8955 | G5: 7739 | H5: 6648 | I5: 6472 | J5: 5877 | K5: 4804 | L5: 8042 | M5: 5201 | N5: 94281
A6: Midnight - 12:59 A.M. | B6: 409 | C6: 1004 | D6: 930 | E6: 703 | F6: 461 | G6: 348 | H6: 274 | I6: 266 | J6: 193 | K6: 132 | L6: 147 | M6: 489 | N6: 5356
A7: 1:00 - 1:59 A.M. | B7: 303 | C7: 947 | D7: 851 | E7: 591 | F7: 415 | G7: 309 | H7: 207 | I7: 176 | J7: 177 | K7: 99 | L7: 103 | M7: 415 | N7: 4593
A8: 2:00 - 2:59 A.M. | B8: 236 | C8: 866 | D8: 846 | E8: 542 | F8: 383 | G8: 289 | H8: 220 | I8: 201 | J8: 141 | K8: 107 | L8: 84 | M8: 404 | N8: 4319
A9: 3:00 - 3:59 A.M. | B9: 171 | C9: 581 | D9: 567 | E9: 395 | F9: 250 | G9: 187 | H9: 178 | I9: 158 | J9: 152 | K9: 88 | L9: 90 | M9: 249 | N9: 3066
A10: 4:00 - 4:59 A.M. | B10: 174 | C10: 537 | D10: 517 | E10: 382 | F10: 309 | G10: 281 | H10: 234 | I10: 229 | J10: 189 | K10: 152 | L10: 137 | M10: 246 | N10: 3387
A11: 5:00 - 5:59 A.M. | B11: 224 | C11: 694 | D11: 719 | E11: 623 | F11: 486 | G11: 509 | H11: 405 | I11: 423 | J11: 390 | K11: 305 | L11: 283 | M11: 338 | N11: 5399
A12: 6:00 - 6:59 A.M. | B12: 333 | C12: 976 | D12: 1089 | E12: 921 | F12: 774 | G12: 702 | H12: 602 | I12: 601 | J12: 525 | K12: 391 | L12: 431 | M12: 363 | N12: 7708
A13: 7:00 - 7:59 A.M. | B13: 602 | C13: 1320 | D13: 1587 | E13: 1445 | F13: 1207 | G13: 1094 | H13: 935 | I13: 895 | J13: 772 | K13: 597 | L13: 780 | M13: 501 | N13: 11735
A14: 8:00 - 8:59 A.M. | B14: 553 | C14: 1301 | D14: 1452 | E14: 1496 | F14: 1272 | G14: 1165 | H14: 974 | I14: 931 | J14: 812 | K14: 617 | L14: 1047 | M14: 562 | N14: 12182
A15: 9:00 - 9:59 A.M. | B15: 441 | C15: 1168 | D15: 1177 | E15: 1076 | F15: 983 | G15: 863 | H15: 773 | I15: 765 | J15: 715 | K15: 672 | L15: 1298 | M15: 466 | N15: 10397
A16: 10:00 - 10:59 A.M. | B16: 587 | C16: 1316 | D16: 1328 | E16: 1227 | F16: 1124 | G16: 952 | H16: 844 | I16: 842 | J16: 849 | K16: 765 | L16: 1715 | M16: 521 | N16: 12070
... A32: Total | B32: 18049 | C32: 37885 | D32: 36891 | E32: 32446 | F32: 26856 | G32: 23226 | H32: 20075 | I32: 19590 | J32: 17788 | K32: 14421 | L32: 24719 | M32: 17072 | N32: 289018

Sheet Table 3F
A1: =Parameters!$A$78 -> TABLE 3F DRIVERS IN FATAL CRASHES BY TYPE OF CRASH BY MOVEMENT PRECEDING CRASH - 2021
A4: Movement Preceding Crash | B4: Head-On | C4: Sideswipe | D4: Rear End | E4: Broadside | F4: Hit Object | G4: Overturned | H4: Auto/ Pedestrian | I4: Other | J4: Total
A5: Stopped | B5: 18 | C5: 19 | D5: 167 | E5: 59 | F5: 6 | G5: 1 | H5: 17 | I5: 7 | J5: 294
A6: Proceeding straight | B6: 541 | C6: 228 | D6: 576 | E6: 883 | F6: 328 | G6: 109 | H6: 1076 | I6: 90 | J6: 3831
A7: Ran off road | B7: 13 | C7: 2 | D7: 7 | E7: 7 | F7: 267 | G7: 78 | H7: 5 | I7: 1 | J7: 380
A8: Making right turn | B8: 2 | C8: 9 | D8: 6 | E8: 14 | F8: 6 | G8: 2 | H8: 10 | I8: 5 | J8: 54
A9: Making left turn | B9: 33 | C9: 15 | D9: 10 | E9: 232 | F9: 11 | G9: 8 | H9: 28 | I9: 4 | J9: 341
A10: Making U turn | B10: 1 | C10: 2 | D10: 0 | E10: 29 | F10: 1 | G10: 1 | H10: 0 | I10: 2 | J10: 36
A11: Backing | B11: 0 | C11: 0 | D11: 0 | E11: 2 | F11: 0 | G11: 1 | H11: 9 | I11: 3 | J11: 15
A12: Slowing/stopping | B12: 1 | C12: 5 | D12: 79 | E12: 6 | F12: 6 | G12: 7 | H12: 9 | I12: 1 | J12: 114
A13: Passing other vehicle | B13: 29 | C13: 17 | D13: 6 | E13: 9 | F13: 7 | G13: 3 | H13: 4 | I13: 0 | J13: 75
A14: Changing lanes | B14: 6 | C14: 33 | D14: 14 | E14: 3 | F14: 5 | G14: 1 | H14: 5 | I14: 0 | J14: 67
A15: Parking maneuver | B15: 0 | C15: 0 | D15: 0 | E15: 0 | F15: 0 | G15: 0 | H15: 2 | I15: 0 | J15: 2
A16: Entering traffic | B16: 2 | C16: 5 | D16: 2 | E16: 41 | F16: 1 | G16: 2 | H16: 1 | I16: 0 | J16: 54
... A25: Total | B25: 941 | C25: 416 | D25: 916 | E25: 1337 | F25: 1058 | G25: 349 | H25: 1220 | I25: 130 | J25: 6367
A27: *Anomalies are due to re-engineering of SWITRS beginning with 2002 data.

Sheet Table 3G
A1: =Parameters!$A$81 -> TABLE 3G DRIVERS IN INJURY CRASHES BY TYPE OF CRASH BY MOVEMENT PRECEDING CRASH - 2021
A4: Movement Preceding Crash | B4: Head-On | C4: Sideswipe | D4: Rear End | E4: Broadside | F4: Hit Object | G4: Overturned | H4: Auto/ Pedestrian | I4: Other | J4: Total
A5: Stopped | B5: 1094 | C5: 1812 | D5: 31164 | E5: 3241 | F5: 228 | G5: 65 | H5: 178 | I5: 356 | J5: 38138
A6: Proceeding straight | B6: 9807 | C6: 18650 | D6: 55785 | E6: 51732 | F6: 8699 | G6: 2652 | H6: 4604 | I6: 2834 | J6: 154763
A7: Ran off road | B7: 165 | C7: 118 | D7: 127 | E7: 97 | F7: 3961 | G7: 1039 | H7: 52 | I7: 75 | J7: 5634
A8: Making right turn | B8: 564 | C8: 1222 | D8: 917 | E8: 2730 | F8: 541 | G8: 151 | H8: 1067 | I8: 447 | J8: 7639
A9: Making left turn | B9: 4224 | C9: 1841 | D9: 789 | E9: 16973 | F9: 770 | G9: 248 | H9: 1782 | I9: 753 | J9: 27380
A10: Making U turn | B10: 152 | C10: 270 | D10: 137 | E10: 1611 | F10: 59 | G10: 37 | H10: 32 | I10: 62 | J10: 2360
A11: Backing | B11: 21 | C11: 63 | D11: 261 | E11: 290 | F11: 54 | G11: 7 | H11: 261 | I11: 180 | J11: 1137
A12: Slowing/stopping | B12: 151 | C12: 566 | D12: 14616 | E12: 306 | F12: 162 | G12: 119 | H12: 104 | I12: 114 | J12: 16138
A13: Passing other vehicle | B13: 110 | C13: 572 | D13: 160 | E13: 330 | F13: 99 | G13: 65 | H13: 24 | I13: 32 | J13: 1392
A14: Changing lanes | B14: 55 | C14: 4884 | D14: 1882 | E14: 345 | F14: 379 | G14: 195 | H14: 32 | I14: 92 | J14: 7864
A15: Parking maneuver | B15: 8 | C15: 35 | D15: 35 | E15: 27 | F15: 31 | G15: 2 | H15: 23 | I15: 14 | J15: 175
A16: Entering traffic | B16: 166 | C16: 452 | D16: 150 | E16: 2499 | F16: 48 | G16: 42 | H16: 152 | I16: 126 | J16: 3635
... A22: Other | B22: 93 | C22: 1840 | D22: 775 | E22: 357 | F22: 4672 | G22: 1013 | H22: 134 | I22: 78 | J22: 8962
A23: Lane splitting | B23: 2 | C23: 257 | D23: 128 | E23: 5 | F23: 2 | G23: 35 | I23: 1 | J23: 430
A24: Not stated | B24: 135 | C24: 186 | D24: 393 | E24: 395 | F24: 50 | G24: 21 | H24: 137 | I24: 260 | J24: 1577
A25: Total | B25: 18537 | C25: 34958 | D25: 108385 | E25: 81759 | F25: 24007 | G25: 6988 | H25: 8793 | I25: 5585 | J25: 289012
A27: *Anomalies are due to re-engineering of SWITRS beginning with 2002 data.

Sheet Table 3H
A1: =Parameters!$A$84 -> TABLE 3H DRIVERS IN FATAL AND INJURY CRASHES BY INATTENTION BY CRASH SEVERITY 2017-2021
B4: 2017 | D4: 2018 | F4: 2019 | H4: 2020 | J4: 2021
A5: Inattention | B5: Fatal | C5: Injury | D5: Fatal | E5: Injury | F5: Fatal | G5: Injury | H5: Fatal | I5: Injury | J5: Fatal | K5: Injury
A6: Cell Phone Handheld (7/03) | B6: 27 | C6: 706 | D6: 10 | E6: 706 | F6: 17 | G6: 607 | H6: 13 | I6: 570 | J6: 18 | K6: 609
A7: Cell Phone Hands Free (7/03) | B7: 4 | C7: 194 | D7: 6 | E7: 238 | F7: 2 | G7: 233 | H7: 3 | I7: 182 | J7: 4 | K7: 256
A8: Electronic Equipment | B8: 3 | C8: 277 | D8: 4 | E8: 262 | F8: 7 | G8: 219 | H8: 0 | I8: 152 | J8: 4 | K8: 196
A9: Radio/CD | B9: 5 | C9: 491 | D9: 5 | E9: 424 | F9: 3 | G9: 341 | H9: 2 | I9: 241 | J9: 4 | K9: 225
A10: Smoking | B10: 0 | C10: 53 | D10: 1 | E10: 39 | F10: 0 | G10: 46 | H10: 1 | I10: 41 | J10: 0 | K10: 38
A11: Eating | B11: 4 | C11: 304 | D11: 2 | E11: 276 | F11: 5 | G11: 225 | H11: 3 | I11: 175 | J11: 5 | K11: 200
A12: Children | B12: 4 | C12: 249 | D12: 4 | E12: 238 | F12: 0 | G12: 221 | H12: 2 | I12: 118 | J12: 1 | K12: 200
A13: Animal | B13: 1 | C13: 96 | D13: 0 | E13: 104 | F13: 1 | G13: 92 | H13: 0 | I13: 83 | J13: 1 | K13: 102
A14: Hygiene | B14: 0 | C14: 39 | D14: 0 | E14: 23 | F14: 0 | G14: 30 | H14: 0 | I14: 19 | J14: 0 | K14: 29
A15: Reading | B15: 0 | C15: 27 | D15: 0 | E15: 24 | F15: 0 | G15: 23 | H15: 0 | I15: 8 | J15: 0 | K15: 12
A16: Other | B16: 33 | C16: 2956 | D16: 36 | E16: 2822 | F16: 42 | G16: 2433 | H16: 22 | I16: 1555 | J16: 35 | K16: 1918
A17: Cell Phone (prior to 7/03 form rev.) | B17: 0 | C17: 1 | D17: 0 | E17: 1 | F17: 0 | G17: 0 | H17: 0 | I17: 0 | J17: 0 | K17: 1
... A19: Total | B19: 118 | C19: 10902 | D19: 90 | E19: 10441 | F19: 99 | G19: 9272 | H19: 62 | I19: 6458 | J19: 89 | K19: 6465

Sheet Parameters
A1: Crash_year
A2: 2021
A4: Start_year | B4: End_year
A5: 2017 | B5: 2021
A7: Title 3A
A8: ="TABLE 3A DRIVERS IN FATAL AND INJURY CRASHES AND DRIVERS WHO WERE AT FAULT BY TYPE OF VEHICLE - "&A2&"" -> TABLE 3A DRIVERS IN FATAL AND INJURY CRASHES AND DRIVERS WHO WERE AT FAULT BY TYPE OF VEHICLE - 2021
A10: Title 3B
A11: ="TABLE 3B DRIVERS IN FATAL AND INJURY CRASHES BY AGE COMPARED TO LICENSED DRIVERS IN CALIFORNIA - "&A2&"" -> TABLE 3B DRIVERS IN FATAL AND INJURY CRASHES BY AGE COMPARED TO LICENSED DRIVERS IN CALIFORNIA - 2021
A13: AUTO LOADS INTO TABLE 3B AFTER REFRESH
A15: AGE | B15: Fatal | C15: Injury
A16: 0-14 | B16: 11 | C16: 365
A17: 15-19 | B17: 345 | C17: 17684
A18: 20-24 | B18: 805 | C18: 37885
A19: 25-29 | B19: 793 | C19: 36891
A20: 30-34 | B20: 697 | C20: 32446
A21: 35-39 | B21: 610 | C21: 26856
A22: 40-44 | B22: 464 | C22: 23226
A23: 45-49 | B23: 410 | C23: 20075
A24: 50-54 | B24: 501 | C24: 19590
A25: 55-59 | B25: 433 | C25: 17788
A26: 60-64 | B26: 377 | C26: 14421
A27: 65-69 | B27: 228 | C27: 10161
... A34: TOTAL | B34: 6367 | C34: 289018
A36: Title 3C
A37: ="TABLE 3C DRIVERS IN FATAL AND INJURY CRASHES AND DRIVERS WHO WERE AT FAULT BY SEX BY AGE - "&A2&"" -> TABLE 3C DRIVERS IN FATAL AND INJURY CRASHES AND DRIVERS WHO WERE AT FAULT BY SEX BY AGE - 2021
A39: Title 3D
A40: ="TABLE 3D DRIVERS IN FATAL CRASHES BY AGE BY HOUR OF DAY - "&A2&"" -> TABLE 3D DRIVERS IN FATAL CRASHES BY AGE BY HOUR OF DAY - 2021
A42: Table 3D Chart
A43: Age Group | B43: Sum of Count
A44: 0-19 | B44: 356
A45: 20-24 | B45: 805
A46: 25-29 | B46: 793
A47: 30-34 | B47: 697
A48: 35-39 | B48: 610
A49: 40-44 | B49: 464
A50: 45-49 | B50: 410
A51: 50-54 | B51: 501
A52: 55-59 | B52: 433
A53: 60-64 | B53: 377
A54: 65 and over | B54: 589
A55: Not stated | B55: 332
A56: TOTALS | B56: 6367
A58: Title 3E
A59: ="TABLE 3E DRIVERS IN INJURY CRASHES BY AGE BY HOUR OF DAY - "&A2&"" -> TABLE 3E DRIVERS IN INJURY CRASHES BY AGE BY HOUR OF DAY - 2021
A61: Table 3E Chart
A62: Age Group | B62: Sum of Count
A63: 0-19 | B63: 18049
A64: 20-24 | B64: 37885
A65: 25-29 | B65: 36891
A66: 30-34 | B66: 32446
A67: 35-39 | B67: 26856
A68: 40-44 | B68: 23226
A69: 45-49 | B69: 20075
A70: 50-54 | B70: 19590
A71: 55-59 | B71: 17788
A72: 60-64 | B72: 14421
A73: 65 and over | B73: 24719
A74: Not stated | B74: 17072
A75: TOTALS | B75: 289018
A77: Title 3F
A78: ="TABLE 3F DRIVERS IN FATAL CRASHES BY TYPE OF CRASH BY MOVEMENT PRECEDING CRASH - "&A2&"" -> TABLE 3F DRIVERS IN FATAL CRASHES BY TYPE OF CRASH BY MOVEMENT PRECEDING CRASH - 2021
A80: Title 3G
A81: ="TABLE 3G DRIVERS IN INJURY CRASHES BY TYPE OF CRASH BY MOVEMENT PRECEDING CRASH - "&A2&"" -> TABLE 3G DRIVERS IN INJURY CRASHES BY TYPE OF CRASH BY MOVEMENT PRECEDING CRASH - 2021
A83: Title 3H
A84: ="TABLE 3H DRIVERS IN FATAL AND INJURY CRASHES BY INATTENTION BY CRASH SEVERITY "&A5&"-"&B5 -> TABLE 3H DRIVERS IN FATAL AND INJURY CRASHES BY INATTENTION BY CRASH SEVERITY 2017-2021

Sheet Table 3B-DMV-Licensed Drivers
A1: Gray areas are manually inputed from DMV DL Age & Gender Report
A2: AGE | B2: MALE | C2: FEMALE | D2: NON-BINARY | E2: TOTAL
A3: 16 | B3: 31005 | C3: 32993 | D3: 83 | E3: =SUM(B3:D3) -> 64081
A4: 17 | B4: 70250 | C4: 71215 | D4: 122 | E4: =SUM(B4:D4) -> 141587
A5: 18 | B5: 133126 | C5: 120359 | D5: 275 | E5: =SUM(B5:D5) -> 253760 | G5: AUTO LOADS INTO TABLE 3B
A6: 19 | B6: 176583 | C6: 156417 | D6: 254 | E6: =SUM(B6:D6) -> 333254 | G6: AGE | H6: TOTAL | I6: MALE | J6: FEMALE | K6: NON-BINARY
A7: 15-19 | B7: =SUM(B3:B6) -> 410964 | C7: =SUM(C3:C6) -> 380984 | D7: =SUM(D3:D6) -> 734 | E7: =SUM(E3:E6) -> 792682 | G7: =A7 -> 15-19 | H7: =E7 -> 792682 | I7: =B7 -> 410964 | J7: =C7 -> 380984 | K7: =D7 -> 734
A8: 20 | B8: 192110 | C8: 171901 | D8: 261 | E8: =SUM(B8:D8) -> 364272 | G8: =A13 -> 20-24 | H8: =E13 -> 2119980 | I8: =B13 -> 1104174 | J8: =C13 -> 1013827 | K8: =D13 -> 1979
A9: 21 | B9: 213290 | C9: 195707 | D9: 332 | E9: =SUM(B9:D9) -> 409329 | G9: =A19 -> 25-29 | H9: =E19 -> 2594726 | I9: =B19 -> 1332692 | J9: =C19 -> 1259762 | K9: =D19 -> 2272
A10: 22 | B10: 223360 | C10: 205322 | D10: 452 | E10: =SUM(B10:D10) -> 429134 | G10: =A25 -> 30-34 | H10: =E25 -> 2794256 | I10: =B25 -> 1428084 | J10: =C25 -> 1364572 | K10: =D25 -> 1600
A11: 23 | B11: 232096 | C11: 214444 | D11: 482 | E11: =SUM(B11:D11) -> 447022 | G11: =A31 -> 35-39 | H11: =E31 -> 2667620 | I11: =B31 -> 1360748 | J11: =C31 -> 1305939 | K11: =D31 -> 933
A12: 24 | B12: 243318 | C12: 226453 | D12: 452 | E12: =SUM(B12:D12) -> 470223 | G12: =A37 -> 40-44 | H12: =E37 -> 2468900 | I12: =B37 -> 1250355 | J12: =C37 -> 1218064 | K12: =D37 -> 481
A13: 20-24 | B13: =SUM(B8:B12) -> 1104174 | C13: =SUM(C8:C12) -> 1013827 | D13: =SUM(D8:D12) -> 1979 | E13: =SUM(E8:E12) -> 2119980 | G13: =A43 -> 45-49 | H13: =E43 -> 2271179 | I13: =B43 -> 1144770 | J13: =C43 -> 1126148 | K13: =D43 -> 261
A14: 25 | B14: 250558 | C14: 234056 | D14: 488 | E14: =SUM(B14:D14) -> 485102 | G14: =A49 -> 50-54 | H14: =E49 -> 2346473 | I14: =B49 -> 1191812 | J14: =C49 -> 1154456 | K14: =D49 -> 205
A15: 26 | B15: 256326 | C15: 245599 | D15: 432 | E15: =SUM(B15:D15) -> 502357 | G15: =A55 -> 55-59 | H15: =E55 -> 2296909 | I15: =B55 -> 1170620 | J15: =C55 -> 1126139 | K15: =D55 -> 150
A16: 27 | B16: 269313 | C16: 252233 | D16: 532 | E16: =SUM(B16:D16) -> 522078 | G16: =A61 -> 60-64 | H16: =E61 -> 2181863 | I16: =B61 -> 1103710 | J16: =C61 -> 1078040 | K16: =D61 -> 113
A17: 28 | B17: 273169 | C17: 257848 | D17: 388 | E17: =SUM(B17:D17) -> 531405 | G17: =A67 -> 65-69 | H17: =E67 -> 1840482 | I17: =B67 -> 918526 | J17: =C67 -> 921896 | K17: =D67 -> 60
A18: 29 | B18: 283326 | C18: 270026 | D18: 432 | E18: =SUM(B18:D18) -> 553784 | G18: =A73 -> 70-74 | H18: =E73 -> 1391852 | I18: =B73 -> 688241 | J18: =C73 -> 703564 | K18: =D73 -> 47
A19: 25-29 | B19: =SUM(B14:B18) -> 1332692 | C19: =SUM(C14:C18) -> 1259762 | D19: =SUM(D14:D18) -> 2272 | E19: =SUM(E14:E18) -> 2594726 | G19: =A79 -> 75-79 | H19: =E79 -> 878455 | I19: =B79 -> 435586 | J19: =C79 -> 442849 | K19: =D79 -> 20
A20: 30 | B20: 286826 | C20: 272058 | D20: 420 | E20: =SUM(B20:D20) -> 559304 | G20: =A85 -> 80-84 | H20: =E85 -> 485545 | I20: =B85 -> 239978 | J20: =C85 -> 245567 | K20: =D85 -> 0
A21: 31 | B21: 293192 | C21: 279102 | D21: 280 | E21: =SUM(B21:D21) -> 572574 | G21: =A91 -> 85-89 | H21: =E91 -> 233689 | I21: =B91 -> 117235 | J21: =C91 -> 116454 | K21: =D91 -> 0
A22: 32 | B22: 283798 | C22: 274658 | D22: 300 | E22: =SUM(B22:D22) -> 558756 | G22: =A92 -> 90+ | H22: =E92 -> 97498 | I22: =B92 -> 49156 | J22: =C92 -> 48342 | K22: =D92 -> 0
A23: 33 | B23: 284029 | C23: 271695 | D23: 350 | E23: =SUM(B23:D23) -> 556074 | G23: TOTAL | H23: =SUM(H7:H22) -> 27462109 | I23: =SUM(I7:I22) -> 13946651 | J23: =SUM(J7:J22) -> 13506603 | K23: =SUM(K7:K22) -> 8855
A24: 34 | B24: 280239 | C24: 267059 | D24: 250 | E24: =SUM(B24:D24) -> 547548
A25: 30-34 | B25: =SUM(B20:B24) -> 1428084 | C25: =SUM(C20:C24) -> 1364572 | D25: =SUM(D20:D24) -> 1600 | E25: =SUM(E20:E24) -> 2794256
A26: 35 | B26: 275368 | C26: 259728 | D26: 295 | E26: =SUM(B26:D26) -> 535391
A27: 36 | B27: 278157 | C27: 262559 | D27: 276 | E27: =SUM(B27:D27) -> 540992
A28: 37 | B28: 267363 | C28: 261608 | D28: 95 | E28: =SUM(B28:D28) -> 529066
A29: 38 | B29: 268586 | C29: 260638 | D29: 162 | E29: =SUM(B29:D29) -> 529386
A30: 39 | B30: 271274 | C30: 261406 | D30: 105 | E30: =SUM(B30:D30) -> 532785
A31: 35-39 | B31: =SUM(B26:B30) -> 1360748 | C31: =SUM(C26:C30) -> 1305939 | D31: =SUM(D26:D30) -> 933 | E31: =SUM(E26:E30) -> 2667620
A32: 40 | B32: 263571 | C32: 257147 | D32: 165 | E32: =SUM(B32:D32) -> 520883
A33: 41 | B33: 260323 | C33: 249575 | D33: 68 | E33: =SUM(B33:D33) -> 509966
A34: 42 | B34: 250097 | C34: 242102 | D34: 75 | E34: =SUM(B34:D34) -> 492274
A35: 43 | B35: 236955 | C35: 234270 | D35: 105 | E35: =SUM(B35:D35) -> 471330
A36: 44 | B36: 239409 | C36: 234970 | D36: 68 | E36: =SUM(B36:D36) -> 474447
A37: 40-44 | B37: =SUM(B32:B36) -> 1250355 | C37: =SUM(C32:C36) -> 1218064 | D37: =SUM(D32:D36) -> 481 | E37: =SUM(E32:E36) -> 2468900
A38: 45 | B38: 231135 | C38: 227680 | D38: 49 | E38: =SUM(B38:D38) -> 458864
A39: 46 | B39: 226811 | C39: 225310 | D39: 57 | E39: =SUM(B39:D39) -> 452178
A40: 47 | B40: 228306 | C40: 223929 | D40: 57 | E40: =SUM(B40:D40) -> 452292
A41: 48 | B41: 228246 | C41: 222399 | D41: 57 | E41: =SUM(B41:D41) -> 450702
A42: 49 | B42: 230272 | C42: 226830 | D42: 41 | E42: =SUM(B42:D42) -> 457143
A43: 45-49 | B43: =SUM(B38:B42) -> 1144770 | C43: =SUM(C38:C42) -> 1126148 | D43: =SUM(D38:D42) -> 261 | E43: =SUM(E38:E42) -> 2271179
A44: 50 | B44: 238544 | C44: 236587 | D44: 23 | E44: =SUM(B44:D44) -> 475154
A45: 51 | B45: 249125 | C45: 241513 | D45: 68 | E45: =SUM(B45:D45) -> 490706
A46: 52 | B46: 239102 | C46: 233154 | D46: 46 | E46: =SUM(B46:D46) -> 472302
A47: 53 | B47: 236001 | C47: 224099 | D47: 34 | E47: =SUM(B47:D47) -> 460134
A48: 54 | B48: 229040 | C48: 219103 | D48: 34 | E48: =SUM(B48:D48) -> 448177
A49: 50-54 | B49: =SUM(B44:B48) -> 1191812 | C49: =SUM(C44:C48) -> 1154456 | D49: =SUM(D44:D48) -> 205 | E49: =SUM(E44:E48) -> 2346473
A50: 55 | B50: 229610 | C50: 219291 | D50: 35 | E50: =SUM(B50:D50) -> 448936
A51: 56 | B51: 229248 | C51: 222313 | D51: 18 | E51: =SUM(B51:D51) -> 451579
A52: 57 | B52: 236107 | C52: 226870 | D52: 18 | E52: =SUM(B52:D52) -> 462995
A53: 58 | B53: 240533 | C53: 230775 | D53: 61 | E53: =SUM(B53:D53) -> 471369
A54: 59 | B54: 235122 | C54: 226890 | D54: 18 | E54: =SUM(B54:D54) -> 462030
A55: 55-59 | B55: =SUM(B50:B54) -> 1170620 | C55: =SUM(C50:C54) -> 1126139 | D55: =SUM(D50:D54) -> 150 | E55: =SUM(E50:E54) -> 2296909
A56: 60 | B56: 230728 | C56: 225985 | D56: 24 | E56: =SUM(B56:D56) -> 456737
A57: 61 | B57: 227554 | C57: 219276 | D57: 24 | E57: =SUM(B57:D57) -> 446854
A58: 62 | B58: 221679 | C58: 215262 | D58: 33 | E58: =SUM(B58:D58) -> 436974
A59: 63 | B59: 214031 | C59: 210645 | D59: 8 | E59: =SUM(B59:D59) -> 424684
A60: 64 | B60: 209718 | C60: 206872 | D60: 24 | E60: =SUM(B60:D60) -> 416614
A61: 60-64 | B61: =SUM(B56:B60) -> 1103710 | C61: =SUM(C56:C60) -> 1078040 | D61: =SUM(D56:D60) -> 113 | E61: =SUM(E56:E60) -> 2181863
A62: 65 | B62: 203729 | C62: 200770 | D62: 30 | E62: =SUM(B62:D62) -> 404529
A63: 66 | B63: 190819 | C63: 191930 | D63: 15 | E63: =SUM(B63:D63) -> 382764
A64: 67 | B64: 184354 | C64: 185785 | D64: 0 | E64: =SUM(B64:D64) -> 370139
A65: 68 | B65: 173745 | C65: 174632 | D65: 15 | E65: =SUM(B65:D65) -> 348392
A66: 69 | B66: 165879 | C66: 168779 | D66: 0 | E66: =SUM(B66:D66) -> 334658
A67: 65-69 | B67: =SUM(B62:B66) -> 918526 | C67: =SUM(C62:C66) -> 921896 | D67: =SUM(D62:D66) -> 60 | E67: =SUM(E62:E66) -> 1840482
A68: 70 | B68: 152385 | C68: 154993 | D68: 0 | E68: =SUM(B68:D68) -> 307378
A69: 71 | B69: 144641 | C69: 146767 | D69: 38 | E69: =SUM(B69:D69) -> 291446
A70: 72 | B70: 135890 | C70: 139662 | D70: 0 | E70: =SUM(B70:D70) -> 275552
A71: 73 | B71: 127491 | C71: 131236 | D71: 0 | E71: =SUM(B71:D71) -> 258727
A72: 74 | B72: 127834 | C72: 130906 | D72: 9 | E72: =SUM(B72:D72) -> 258749
A73: 70-74 | B73: =SUM(B68:B72) -> 688241 | C73: =SUM(C68:C72) -> 703564 | D73: =SUM(D68:D72) -> 47 | E73: =SUM(E68:E72) -> 1391852
A74: 75 | B74: 111828 | C74: 114056 | D74: 0 | E74: =SUM(B74:D74) -> 225884
A75: 76 | B75: 90158 | C75: 89290 | D75: 0 | E75: =SUM(B75:D75) -> 179448
A76: 77 | B76: 82472 | C76: 84527 | D76: 0 | E76: =SUM(B76:D76) -> 166999
A77: 78 | B77: 78243 | C77: 80446 | D77: 20 | E77: =SUM(B77:D77) -> 158709
A78: 79 | B78: 72885 | C78: 74530 | D78: 0 | E78: =SUM(B78:D78) -> 147415
A79: 75-79 | B79: =SUM(B74:B78) -> 435586 | C79: =SUM(C74:C78) -> 442849 | D79: =SUM(D74:D78) -> 20 | E79: =SUM(E74:E78) -> 878455
A80: 80 | B80: 59809 | C80: 60861 | D80: 0 | E80: =SUM(B80:D80) -> 120670
A81: 81 | B81: 53745 | C81: 54479 | D81: 0 | E81: =SUM(B81:D81) -> 108224
A82: 82 | B82: 47108 | C82: 49735 | D82: 0 | E82: =SUM(B82:D82) -> 96843
A83: 83 | B83: 42148 | C83: 43194 | D83: 0 | E83: =SUM(B83:D83) -> 85342
A84: 84 | B84: 37168 | C84: 37298 | D84: 0 | E84: =SUM(B84:D84) -> 74466
A85: 80-84 | B85: =SUM(B80:B84) -> 239978 | C85: =SUM(C80:C84) -> 245567 | D85: =SUM(D80:D84) -> 0 | E85: =SUM(E80:E84) -> 485545
A86: 85 | B86: 31798 | C86: 31276 | D86: 0 | E86: =SUM(B86:D86) -> 63074
A87: 86 | B87: 27352 | C87: 27311 | D87: 0 | E87: =SUM(B87:D87) -> 54663
A88: 87 | B88: 23316 | C88: 23764 | D88: 0 | E88: =SUM(B88:D88) -> 47080
A89: 88 | B89: 18606 | C89: 18410 | D89: 0 | E89: =SUM(B89:D89) -> 37016
A90: 89 | B90: 16163 | C90: 15693 | D90: 0 | E90: =SUM(B90:D90) -> 31856
A91: 85-89 | B91: =SUM(B86:B90) -> 117235 | C91: =SUM(C86:C90) -> 116454 | D91: =SUM(D86:D90) -> 0 | E91: =SUM(E86:E90) -> 233689
A92: 90+ | B92: 49156 | C92: 48342 | D92: 0 | E92: =SUM(B92:D92) -> 97498
A93: TOTAL | B93: =SUM(B7,B13,B19,B25,B31,B37,B43,B49,B55,B61,B67,B73,B79,B85,B91,B92) -> 13946651 | C93: =C7+C13+C19+C25+C31+C37+C43+C49+C55+C61+C67+C73+C79+C85+C91+C92 -> 13506603 | D93: =D7+D13+D19+D25+D31+D37+D43+D49+D55+D61+D67+D73+D79+D85+D91+D92 -> 8855 | E93: =SUM(E7,E13,E19,E25,E31,,E37,E43,E49,E55,E61,E67,E73,E79,E85,E91,E92) -> 27462109
