Workbook

Sheet  Table 5A
A1: =Parameters!$A$9 -> TABLE 5A ALCOHOL INVOLVED FATAL AND INJURY CRASHES BY MONTH 2017-2021
B4: 2017 | D4: 2018 | F4: 2019 | H4: 2020 | J4: 2021
A5: Month | B5: Fatal | C5: Injury | D5: Fatal | E5: Injury | F5: Fatal | G5: Injury | H5: Fatal | I5: Injury | J5: Fatal | K5: Injury
A6: January | B6: 84 | C6: 1403 | D6: 92 | E6: 1379 | F6: 82 | G6: 1497 | H6: 84 | I6: 1498 | J6: 96 | K6: 1275
A7: February | B7: 69 | C7: 1396 | D7: 83 | E7: 1415 | F7: 79 | G7: 1377 | H7: 92 | I7: 1515 | J7: 85 | K7: 1262
A8: March | B8: 90 | C8: 1523 | D8: 95 | E8: 1619 | F8: 85 | G8: 1611 | H8: 62 | I8: 1231 | J8: 107 | K8: 1529
A9: April | B9: 97 | C9: 1619 | D9: 90 | E9: 1519 | F9: 74 | G9: 1410 | H9: 52 | I9: 979 | J9: 102 | K9: 1544
A10: May | B10: 93 | C10: 1509 | D10: 84 | E10: 1501 | F10: 93 | G10: 1458 | H10: 107 | I10: 1191 | J10: 115 | K10: 1752
A11: June | B11: 97 | C11: 1518 | D11: 81 | E11: 1634 | F11: 106 | G11: 1674 | H11: 94 | I11: 1356 | J11: 96 | K11: 1660
A12: July | B12: 114 | C12: 1645 | D12: 97 | E12: 1600 | F12: 94 | G12: 1571 | H12: 115 | I12: 1355 | J12: 113 | K12: 1863
A13: August | B13: 102 | C13: 1547 | D13: 86 | E13: 1665 | F13: 89 | G13: 1827 | H13: 110 | I13: 1524 | J13: 106 | K13: 1783
A14: September | B14: 103 | C14: 1555 | D14: 98 | E14: 1733 | F14: 94 | G14: 1566 | H14: 96 | I14: 1424 | J14: 90 | K14: 1820
A15: October | B15: 100 | C15: 1700 | D15: 89 | E15: 1641 | F15: 94 | G15: 1638 | H15: 110 | I15: 1567 | J15: 108 | K15: 1972
A16: November | B16: 105 | C16: 1490 | D16: 100 | E16: 1579 | F16: 102 | G16: 1613 | H16: 120 | I16: 1457 | J16: 110 | K16: 1667
A17: December | B17: 113 | C17: 1664 | D17: 98 | E17: 1634 | F17: 95 | G17: 1638 | H17: 101 | I17: 1267 | J17: 92 | K17: 1659
A18: Total | B18: 1167 | C18: 18569 | D18: 1093 | E18: 18919 | F18: 1087 | G18: 18880 | H18: 1143 | I18: 16364 | J18: 1220 | K18: 19786

Sheet Table 5B
A1: =Parameters!$A$12 -> TABLE 5B PERSONS KILLED AND INJURED IN ALCOHOL INVOLVED CRASHES BY MONTH 2017-2021
B4: 2017 | D4: 2018 | F4: 2019 | H4: 2020 | J4: 2021
A5: Month | B5: Killed | C5: Injured | D5: Killed | E5: Injured | F5: Killed | G5: Injured | H5: Killed | I5: Injured | J5: Killed | K5: Injured
A6: January | B6: 94 | C6: 1991 | D6: 103 | E6: 2004 | F6: 86 | G6: 2168 | H6: 91 | I6: 2114 | J6: 113 | K6: 1782
A7: February | B7: 73 | C7: 1992 | D7: 92 | E7: 1999 | F7: 90 | G7: 1987 | H7: 103 | I7: 2161 | J7: 93 | K7: 1768
A8: March | B8: 109 | C8: 2204 | D8: 110 | E8: 2346 | F8: 91 | G8: 2320 | H8: 67 | I8: 1781 | J8: 117 | K8: 2243
A9: April | B9: 104 | C9: 2346 | D9: 104 | E9: 2264 | F9: 77 | G9: 2022 | H9: 59 | I9: 1310 | J9: 111 | K9: 2271
A10: May | B10: 100 | C10: 2191 | D10: 89 | E10: 2157 | F10: 103 | G10: 2106 | H10: 124 | I10: 1671 | J10: 126 | K10: 2539
A11: June | B11: 107 | C11: 2206 | D11: 88 | E11: 2364 | F11: 118 | G11: 2463 | H11: 100 | I11: 1986 | J11: 109 | K11: 2474
A12: July | B12: 132 | C12: 2448 | D12: 108 | E12: 2372 | F12: 101 | G12: 2270 | H12: 125 | I12: 1893 | J12: 122 | K12: 2703
A13: August | B13: 112 | C13: 2255 | D13: 96 | E13: 2428 | F13: 98 | G13: 2667 | H13: 120 | I13: 2268 | J13: 117 | K13: 2557
A14: September | B14: 110 | C14: 2296 | D14: 110 | E14: 2467 | F14: 103 | G14: 2252 | H14: 107 | I14: 2067 | J14: 97 | K14: 2567
A15: October | B15: 109 | C15: 2442 | D15: 103 | E15: 2314 | F15: 107 | G15: 2359 | H15: 119 | I15: 2224 | J15: 117 | K15: 2854
A16: November | B16: 121 | C16: 2224 | D16: 108 | E16: 2325 | F16: 109 | G16: 2331 | H16: 139 | I16: 2044 | J16: 122 | K16: 2394
A17: December | B17: 123 | C17: 2372 | D17: 110 | E17: 2385 | F17: 104 | G17: 2388 | H17: 112 | I17: 1814 | J17: 100 | K17: 2430
A18: Total | B18: 1294 | C18: 26967 | D18: 1221 | E18: 27425 | F18: 1187 | G18: 27333 | H18: 1266 | I18: 23333 | J18: 1344 | K18: 28582

Sheet  Table 5C
A1: =Parameters!$A$15 -> TABLE 5C ALCOHOL INVOLVED FATAL AND INJURY CRASHES BY COUNTY 2017-2021
B4: 2017 | D4: 2018 | F4: 2019 | H4: 2020 | J4: 2021
A5: County | B5: Fatal | C5: Injury | D5: Fatal | E5: Injury | F5: Fatal | G5: Injury | H5: Fatal | I5: Injury | J5: Fatal | K5: Injury
A6: Alameda | B6: 32 | C6: 660 | D6: 23 | E6: 683 | F6: 28 | G6: 655 | H6: 28 | I6: 493 | J6: 33 | K6: 621
A7: Alpine | B7: 2 | C7: 9 | D7: 1 | E7: 3 | F7: 0 | G7: 4 | H7: 0 | I7: 2 | J7: 0 | K7: 3
A8: Amador | B8: 5 | C8: 37 | D8: 2 | E8: 28 | F8: 4 | G8: 38 | H8: 2 | I8: 33 | J8: 8 | K8: 42
A9: Butte | B9: 17 | C9: 120 | D9: 9 | E9: 138 | F9: 9 | G9: 143 | H9: 11 | I9: 123 | J9: 13 | K9: 138
A10: Calaveras | B10: 5 | C10: 50 | D10: 5 | E10: 35 | F10: 4 | G10: 45 | H10: 2 | I10: 45 | J10: 5 | K10: 44
A11: Colusa | B11: 3 | C11: 13 | D11: 1 | E11: 16 | F11: 1 | G11: 21 | H11: 2 | I11: 17 | J11: 4 | K11: 33
A12: Contra Costa | B12: 21 | C12: 424 | D12: 29 | E12: 457 | F12: 27 | G12: 492 | H12: 28 | I12: 365 | J12: 29 | K12: 409
A13: Del Norte | B13: 4 | C13: 12 | D13: 2 | E13: 19 | F13: 1 | G13: 19 | H13: 2 | I13: 25 | J13: 0 | K13: 21
A14: El Dorado | B14: 3 | C14: 123 | D14: 6 | E14: 146 | F14: 11 | G14: 103 | H14: 11 | I14: 112 | J14: 13 | K14: 114
A15: Fresno | B15: 41 | C15: 303 | D15: 30 | E15: 315 | F15: 34 | G15: 305 | H15: 43 | I15: 385 | J15: 51 | K15: 481
A16: Glenn | B16: 3 | C16: 21 | D16: 1 | E16: 21 | F16: 1 | G16: 15 | H16: 1 | I16: 18 | J16: 1 | K16: 23
A17: Humboldt | B17: 14 | C17: 111 | D17: 8 | E17: 99 | F17: 14 | G17: 100 | H17: 7 | I17: 80 | J17: 7 | K17: 89
... A64: Total | B64: 1167 | C64: 18569 | D64: 1093 | E64: 18919 | F64: 1087 | G64: 18880 | H64: 1143 | I64: 16364 | J64: 1220 | K64: 19786

Sheet Table 5D
A1: =Parameters!$A$18 -> TABLE 5D PERSONS KILLED AND INJURED IN ALCOHOL INVOLVED CRASHES BY COUNTY 2017-2021
B4: 2017 | D4: 2018 | F4: 2019 | H4: 2020 | J4: 2021
A5: County | B5: Killed | C5: Injured | D5: Killed | E5: Injured | F5: Killed | G5: Injured | H5: Killed | I5: Injured | J5: Killed | K5: Injured
A6: Alameda | B6: 34 | C6: 922 | D6: 24 | E6: 926 | F6: 29 | G6: 878 | H6: 29 | I6: 660 | J6: 34 | K6: 867
A7: Alpine | B7: 2 | C7: 13 | D7: 1 | E7: 4 | F7: 0 | G7: 4 | H7: 0 | I7: 2 | J7: 0 | K7: 4
A8: Amador | B8: 5 | C8: 61 | D8: 4 | E8: 46 | F8: 4 | G8: 55 | H8: 7 | I8: 43 | J8: 10 | K8: 54
A9: Butte | B9: 18 | C9: 171 | D9: 9 | E9: 188 | F9: 9 | G9: 183 | H9: 13 | I9: 160 | J9: 15 | K9: 193
A10: Calaveras | B10: 5 | C10: 68 | D10: 5 | E10: 56 | F10: 5 | G10: 56 | H10: 2 | I10: 59 | J10: 5 | K10: 61
A11: Colusa | B11: 3 | C11: 18 | D11: 1 | E11: 23 | F11: 1 | G11: 29 | H11: 2 | I11: 18 | J11: 4 | K11: 46
A12: Contra Costa | B12: 24 | C12: 609 | D12: 32 | E12: 677 | F12: 30 | G12: 685 | H12: 30 | I12: 501 | J12: 32 | K12: 580
A13: Del Norte | B13: 4 | C13: 20 | D13: 2 | E13: 20 | F13: 1 | G13: 28 | H13: 2 | I13: 41 | J13: 0 | K13: 31
A14: El Dorado | B14: 4 | C14: 173 | D14: 7 | E14: 175 | F14: 11 | G14: 140 | H14: 11 | I14: 140 | J14: 14 | K14: 152
A15: Fresno | B15: 49 | C15: 444 | D15: 32 | E15: 491 | F15: 36 | G15: 494 | H15: 48 | I15: 545 | J15: 67 | K15: 730
A16: Glenn | B16: 4 | C16: 36 | D16: 1 | E16: 26 | F16: 1 | G16: 20 | H16: 1 | I16: 25 | J16: 1 | K16: 26
A17: Humboldt | B17: 16 | C17: 146 | D17: 9 | E17: 128 | F17: 17 | G17: 130 | H17: 7 | I17: 101 | J17: 7 | K17: 118
... A64: Total | B64: 1294 | C64: 26967 | D64: 1221 | E64: 27425 | F64: 1187 | G64: 27333 | H64: 1266 | I64: 23333 | J64: 1344 | K64: 28582

Sheet Table 5E
A1: =Parameters!$A$21 -> TABLE 5E PERSONS KILLED AND INJURED IN ALCOHOL INVOLVED CRASHES BY VICTIM TYPE 2017-2021
B4: 2017 | D4: 2018 | F4: 2019 | H4: 2020 | J4: 2021
B5: Killed | C5: Injured | D5: Killed | E5: Injured | F5: Killed | G5: Injured | H5: Killed | I5: Injured | J5: Killed | K5: Injured
A6: HBD* Driver | B6: 587 | C6: 11874 | D6: 533 | E6: 12126 | F6: 547 | G6: 12079 | H6: 604 | I6: 10924 | J6: 630 | K6: 13460
A7: HBD Pedestrian | B7: 249 | C7: 1059 | D7: 265 | E7: 1065 | F7: 253 | G7: 1087 | H7: 225 | I7: 772 | J7: 190 | K7: 781
A8: HBD Bicyclist | B8: 29 | C8: 446 | D8: 25 | E8: 451 | F8: 25 | G8: 384 | H8: 33 | I8: 346 | J8: 13 | K8: 328
A9: Passenger in HBD Driver's Vehicle | B9: 174 | C9: 3468 | D9: 136 | E9: 3381 | F9: 142 | G9: 3318 | H9: 176 | I9: 3139 | J9: 172 | K9: 3502
A10: HNBD* Driver | B10: 113 | C10: 5582 | D10: 93 | E10: 5810 | F10: 87 | G10: 5803 | H10: 109 | I10: 4708 | J10: 151 | K10: 6145
A11: HNBD Pedestrian | B11: 62 | C11: 535 | D11: 78 | E11: 526 | F11: 63 | G11: 525 | H11: 65 | I11: 423 | J11: 82 | K11: 473
A12: HNBD Bicyclist | B12: 14 | C12: 169 | D12: 9 | E12: 175 | F12: 10 | G12: 173 | H12: 10 | I12: 159 | J12: 18 | K12: 140
A13: Passenger in HNBD Driver's Vehicle | B13: 66 | C13: 3834 | D13: 82 | E13: 3891 | F13: 60 | G13: 3964 | H13: 44 | I13: 2862 | J13: 88 | K13: 3751
A14: Other | B14: 0 | C14: 0 | D14: 0 | E14: 0 | F14: 0 | G14: 0 | H14: 0 | I14: 0 | J14: 0 | K14: 2
A15: Total | B15: 1294 | C15: 26967 | D15: 1221 | E15: 27425 | F15: 1187 | G15: 27333 | H15: 1266 | I15: 23333 | J15: 1344 | K15: 28582
A16: Percent HBD parties were killed/injured | B16: =SUM(B6:B8)/B15*100 -> 66.846986 | C16: =SUM(C6:C8)/C15*100 -> 49.612489 | D16: =SUM(D6:D8)/D15*100 -> 67.403767 | E16: =SUM(E6:E8)/E15*100 -> 49.742935 | F16: =SUM(F6:F8)/F15*100 -> 69.502949 | G16: =SUM(G6:G8)/G15*100 -> 49.573775 | H16: =SUM(H6:H8)/H15*100 -> 68.088468 | I16: =SUM(I6:I8)/I15*100 -> 51.609309 | ... K16: =SUM(K6:K8)/K15*100 -> 50.97264
A17: Percent passengers and HNBD parties were killed/injured | B17: =SUM(B9:B14)/B15*100 -> 33.153014 | C17: =SUM(C9:C14)/C15*100 -> 50.387511 | D17: =SUM(D9:D14)/D15*100 -> 32.596233 | E17: =SUM(E9:E14)/E15*100 -> 50.257065 | F17: =SUM(F9:F14)/F15*100 -> 30.497051 | G17: =SUM(G9:G14)/G15*100 -> 50.426225 | H17: =SUM(H9:H14)/H15*100 -> 31.911532 | I17: =SUM(I9:I14)/I15*100 -> 48.390691 | ... K17: =SUM(K9:K14)/K15*100 -> 49.02736
A19: *See Glossary for definition

Sheet Table 5F
A1: =Parameters!A24 -> TABLE 5F MOTOR VEHICLE DRIVERS IN ALCOHOL INVOLVED FATAL AND INJURY CRASHES BY TYPE OF CRASH BY
A2: =Parameters!A25 -> MOVEMENT PRECEDING CRASH - 2021
A5: Movement Preceding Crash | B5: Head-On | C5: Sideswipe | D5: Rear End | E5: Broadside | F5: Hit Object | G5: Overturned | H5: Auto/ Pedestrian | I5: Other | J5: Total
A6: Stopped | B6: 34 | C6: 44 | D6: 331 | E6: 83 | F6: 12 | G6: 7 | H6: 8 | I6: 12 | J6: 531
A7: Proceeding straight | B7: 755 | C7: 889 | D7: 4300 | E7: 2112 | F7: 1564 | G7: 312 | H7: 339 | I7: 196 | J7: 10467
A8: Ran off road | B8: 51 | C8: 29 | D8: 23 | E8: 16 | F8: 1139 | G8: 261 | H8: 5 | I8: 19 | J8: 1543
A9: Making right turn | B9: 73 | C9: 80 | D9: 32 | E9: 131 | F9: 128 | G9: 21 | H9: 29 | I9: 24 | J9: 518
A10: Making left turn | B10: 224 | C10: 79 | D10: 48 | E10: 574 | F10: 175 | G10: 26 | H10: 62 | I10: 29 | J10: 1217
A11: Making U turn | B11: 11 | C11: 17 | D11: 12 | E11: 89 | F11: 15 | G11: 1 | H11: 3 | I11: 4 | J11: 152
A12: Backing | B12: 0 | C12: 4 | D12: 23 | E12: 8 | F12: 9 | G12: 1 | H12: 11 | I12: 19 | J12: 75
A13: Slowing/stopping | B13: 5 | C13: 3 | D13: 163 | E13: 11 | F13: 14 | G13: 6 | H13: 2 | I13: 3 | J13: 207
A14: Passing other vehicle | B14: 18 | C14: 43 | D14: 16 | E14: 20 | F14: 16 | G14: 11 | H14: 3 | I14: 0 | J14: 127
A15: Changing lanes | B15: 5 | C15: 301 | D15: 160 | E15: 16 | F15: 30 | G15: 7 | H15: 2 | I15: 6 | J15: 527
A16: Parking maneuver | B16: 0 | C16: 2 | D16: 1 | E16: 1 | F16: 3 | G16: 1 | H16: 0 | I16: 1 | J16: 9
A17: Entering traffic | B17: 6 | C17: 15 | D17: 6 | E17: 94 | F17: 5 | G17: 1 | H17: 10 | I17: 3 | J17: 140
... A26: Total | B26: 1760 | C26: 2188 | D26: 5577 | E26: 3334 | F26: 5883 | G26: 1197 | H26: 522 | I26: 358 | J26: 20819

Sheet Table 5G
A1: =Parameters!$A$28 -> TABLE 5G PARTIES IN FATAL AND INJURY CRASHES BY SEX BY DEGREE OF ALCOHOL IMPAIRMENT - 2021
B3: Motor Vehicle Driver | J3: Pedestrian and Bicyclist
B4: Fatal | F4: Injury | J4: Fatal | N4: Injury
A5: Degree of Alcohol Impairment | B5: Male | C5: Female | D5: Nonbinary | E5: Not stated | F5: Male | G5: Female | H5: Nonbinary | I5: Not stated | J5: Male | K5: Female | L5: Nonbinary | M5: Not stated | N5: Male | O5: Female | P5: Nonbinary | Q5: Not stated | R5: Total
A6: HBD* - under influence | B6: =GETPIVOTDATA("Count",Parameters!$A$33,"DW Severity.Severity_Group_1","Fatal","DW Party_Type.Party_Type_2","MOTOR VEHICLE DRIVER","DW Sobriety.Sobriety","HAD BEEN DRINKING","Sex","Male") -> 691 | C6: =GETPIVOTDATA("Count",Parameters!$A$33,"DW Severity.Severity_Group_1","Fatal","DW Party_Type.Party_Type_2","MOTOR VEHICLE DRIVER","DW Sobriety.Sobriety","HAD BEEN DRINKING","Sex","Female") -> 157 | D6: 0 | E6: =GETPIVOTDATA("Count",Parameters!$A$33,"DW Severity.Severity_Group_1","Fatal","DW Party_Type.Party_Type_2","MOTOR VEHICLE DRIVER","DW Sobriety.Sobriety","HAD BEEN DRINKING","Sex","Not Stated") -> 2 | F6: =GETPIVOTDATA("Count",Parameters!$A$33,"DW Severity.Severity_Group_1","Injury","DW Party_Type.Party_Type_2","MOTOR VEHICLE DRIVER","DW Sobriety.Sobriety","HAD BEEN DRINKING","Sex","Male") -> 10913 | G6: =GETPIVOTDATA("Count",Parameters!$A$33,"DW Severity.Severity_Group_1","Injury","DW Party_Type.Party_Type_2","MOTOR VEHICLE DRIVER","DW Sobriety.Sobriety","HAD BEEN DRINKING","Sex","Female") -> 3889 | H6: =GETPIVOTDATA("Count",Parameters!$A$33,"DW Severity.Severity_Group_1","Injury","DW Party_Type.Party_Type_2","MOTOR VEHICLE DRIVER","DW Sobriety.Sobriety","HAD BEEN DRINKING","Sex","Nonbinary") -> 1 | I6: =GETPIVOTDATA("Count",Parameters!$A$33,"DW Severity.Severity_Group_1","Injury","DW Party_Type.Party_Type_2","MOTOR VEHICLE DRIVER","DW Sobriety.Sobriety","HAD BEEN DRINKING","Sex","Not Stated") -> 60 | J6: =GETPIVOTDATA("Count",Parameters!$A$33,"DW Severity.Severity_Group_1","Fatal","DW Party_Type.Party_Type_2","PEDESTRIAN AND BICYCLIST","DW Sobriety.Sobriety","HAD BEEN DRINKING","Sex","Male") -> 119 | K6: =GETPIVOTDATA("Count",Parameters!$A$33,"DW Severity.Severity_Group_1","Fatal","DW Party_Type.Party_Type_2","PEDESTRIAN AND BICYCLIST","DW Sobriety.Sobriety","HAD BEEN DRINKING","Sex","Female") -> 24 | L6: 0 | M6: =GETPIVOTDATA("Count",Parameters!$A$33,"DW Severity.Severity_Group_1","Fatal","DW Party_Type.Party_Type_2","PEDESTRIAN AND BICYCLIST","DW Sobriety.Sobriety","HAD BEEN DRINKING","Sex","Not Stated") -> 1 | N6: =GETPIVOTDATA("Count",Parameters!$A$33,"DW Severity.Severity_Group_1","Injury","DW Party_Type.Party_Type_2","PEDESTRIAN AND BICYCLIST","DW Sobriety.Sobriety","HAD BEEN DRINKING","Sex","Male") -> 316 | O6: =GETPIVOTDATA("Count",Parameters!$A$33,"DW Severity.Severity_Group_1","Injury","DW Party_Type.Party_Type_2","PEDESTRIAN AND BICYCLIST","DW Sobriety.Sobriety","HAD BEEN DRINKING","Sex","Female") -> 83 | P6: 0 | Q6: =GETPIVOTDATA("Count",Parameters!$A$33,"DW Severity.Severity_Group_1","Injury","DW Party_Type.Party_Type_2","PEDESTRIAN AND BICYCLIST","DW Sobriety.Sobriety","HAD BEEN DRINKING","Sex","Not Stated") -> 4 | R6: =SUM(B6:Q6) -> 16260
A7: HBD - not under influence | B7: =GETPIVOTDATA("Count",Parameters!$A$33,"DW Severity.Severity_Group_1","Fatal","DW Party_Type.Party_Type_2","MOTOR VEHICLE DRIVER","DW Sobriety.Sobriety","HBD, NOT UNDER INFLUENCE","Sex","Male") -> 77 | C7: =GETPIVOTDATA("Count",Parameters!$A$33,"DW Severity.Severity_Group_1","Fatal","DW Party_Type.Party_Type_2","MOTOR VEHICLE DRIVER","DW Sobriety.Sobriety","HBD, NOT UNDER INFLUENCE","Sex","Female") -> 20 | D7: 0 | E7: =GETPIVOTDATA("Count",Parameters!$A$33,"DW Severity.Severity_Group_1","Fatal","DW Party_Type.Party_Type_2","MOTOR VEHICLE DRIVER","DW Sobriety.Sobriety","HBD, NOT UNDER INFLUENCE","Sex","Not Stated") -> 0 | F7: =GETPIVOTDATA("Count",Parameters!$A$33,"DW Severity.Severity_Group_1","Injury","DW Party_Type.Party_Type_2","MOTOR VEHICLE DRIVER","DW Sobriety.Sobriety","HBD, NOT UNDER INFLUENCE","Sex","Male") -> 1948 | G7: =GETPIVOTDATA("Count",Parameters!$A$33,"DW Severity.Severity_Group_1","Injury","DW Party_Type.Party_Type_2","MOTOR VEHICLE DRIVER","DW Sobriety.Sobriety","HBD, NOT UNDER INFLUENCE","Sex","Female") -> 1046 | H7: =GETPIVOTDATA("Count",Parameters!$A$33,"DW Severity.Severity_Group_1","Injury","DW Party_Type.Party_Type_2","MOTOR VEHICLE DRIVER","DW Sobriety.Sobriety","HBD, NOT UNDER INFLUENCE","Sex","Nonbinary") -> 0 | I7: =GETPIVOTDATA("Count",Parameters!$A$33,"DW Severity.Severity_Group_1","Injury","DW Party_Type.Party_Type_2","MOTOR VEHICLE DRIVER","DW Sobriety.Sobriety","HBD, NOT UNDER INFLUENCE","Sex","Not Stated") -> 19 | J7: =GETPIVOTDATA("Count",Parameters!$A$33,"DW Severity.Severity_Group_1","Fatal","DW Party_Type.Party_Type_2","PEDESTRIAN AND BICYCLIST","DW Sobriety.Sobriety","HBD, NOT UNDER INFLUENCE","Sex","Male") -> 15 | K7: =GETPIVOTDATA("Count",Parameters!$A$33,"DW Severity.Severity_Group_1","Fatal","DW Party_Type.Party_Type_2","PEDESTRIAN AND BICYCLIST","DW Sobriety.Sobriety","HBD, NOT UNDER INFLUENCE","Sex","Female") -> 2 | L7: 0 | M7: =GETPIVOTDATA("Count",Parameters!$A$33,"DW Severity.Severity_Group_1","Fatal","DW Party_Type.Party_Type_2","PEDESTRIAN AND BICYCLIST","DW Sobriety.Sobriety","HBD, NOT UNDER INFLUENCE","Sex","Not Stated") -> 0 | N7: =GETPIVOTDATA("Count",Parameters!$A$33,"DW Severity.Severity_Group_1","Injury","DW Party_Type.Party_Type_2","PEDESTRIAN AND BICYCLIST","DW Sobriety.Sobriety","HBD, NOT UNDER INFLUENCE","Sex","Male") -> 213 | O7: =GETPIVOTDATA("Count",Parameters!$A$33,"DW Severity.Severity_Group_1","Injury","DW Party_Type.Party_Type_2","PEDESTRIAN AND BICYCLIST","DW Sobriety.Sobriety","HBD, NOT UNDER INFLUENCE","Sex","Female") -> 71 | P7: 0 | Q7: =GETPIVOTDATA("Count",Parameters!$A$33,"DW Severity.Severity_Group_1","Injury","DW Party_Type.Party_Type_2","PEDESTRIAN AND BICYCLIST","DW Sobriety.Sobriety","HBD, NOT UNDER INFLUENCE","Sex","Not Stated") -> 5 | R7: =SUM(B7:Q7) -> 3416
A8: HBD - impairment unknown | B8: =GETPIVOTDATA("Count",Parameters!$A$33,"DW Severity.Severity_Group_1","Fatal","DW Party_Type.Party_Type_2","MOTOR VEHICLE DRIVER","DW Sobriety.Sobriety","HBD, IMPAIRMENT UNKNOWN","Sex","Male") -> 102 | C8: =GETPIVOTDATA("Count",Parameters!$A$33,"DW Severity.Severity_Group_1","Fatal","DW Party_Type.Party_Type_2","MOTOR VEHICLE DRIVER","DW Sobriety.Sobriety","HBD, IMPAIRMENT UNKNOWN","Sex","Female") -> 27 | D8: 0 | E8: =GETPIVOTDATA("Count",Parameters!$A$33,"DW Severity.Severity_Group_1","Fatal","DW Party_Type.Party_Type_2","MOTOR VEHICLE DRIVER","DW Sobriety.Sobriety","HBD, IMPAIRMENT UNKNOWN","Sex","Not Stated") -> 7 | F8: =GETPIVOTDATA("Count",Parameters!$A$33,"DW Severity.Severity_Group_1","Injury","DW Party_Type.Party_Type_2","MOTOR VEHICLE DRIVER","DW Sobriety.Sobriety","HBD, IMPAIRMENT UNKNOWN","Sex","Male") -> 879 | G8: =GETPIVOTDATA("Count",Parameters!$A$33,"DW Severity.Severity_Group_1","Injury","DW Party_Type.Party_Type_2","MOTOR VEHICLE DRIVER","DW Sobriety.Sobriety","HBD, IMPAIRMENT UNKNOWN","Sex","Female") -> 301 | H8: =GETPIVOTDATA("Count",Parameters!$A$33,"DW Severity.Severity_Group_1","Injury","DW Party_Type.Party_Type_2","MOTOR VEHICLE DRIVER","DW Sobriety.Sobriety","HBD, IMPAIRMENT UNKNOWN","Sex","Nonbinary") -> 4 | I8: =GETPIVOTDATA("Count",Parameters!$A$33,"DW Severity.Severity_Group_1","Injury","DW Party_Type.Party_Type_2","MOTOR VEHICLE DRIVER","DW Sobriety.Sobriety","HBD, IMPAIRMENT UNKNOWN","Sex","Not Stated") -> 676 | J8: =GETPIVOTDATA("Count",Parameters!$A$33,"DW Severity.Severity_Group_1","Fatal","DW Party_Type.Party_Type_2","PEDESTRIAN AND BICYCLIST","DW Sobriety.Sobriety","HBD, IMPAIRMENT UNKNOWN","Sex","Male") -> 41 | K8: =GETPIVOTDATA("Count",Parameters!$A$33,"DW Severity.Severity_Group_1","Fatal","DW Party_Type.Party_Type_2","PEDESTRIAN AND BICYCLIST","DW Sobriety.Sobriety","HBD, IMPAIRMENT UNKNOWN","Sex","Female") -> 8 | L8: 0 | M8: =GETPIVOTDATA("Count",Parameters!$A$33,"DW Severity.Severity_Group_1","Fatal","DW Party_Type.Party_Type_2","PEDESTRIAN AND BICYCLIST","DW Sobriety.Sobriety","HBD, IMPAIRMENT UNKNOWN","Sex","Not Stated") -> 0 | N8: =GETPIVOTDATA("Count",Parameters!$A$33,"DW Severity.Severity_Group_1","Injury","DW Party_Type.Party_Type_2","PEDESTRIAN AND BICYCLIST","DW Sobriety.Sobriety","HBD, IMPAIRMENT UNKNOWN","Sex","Male") -> 322 | O8: =GETPIVOTDATA("Count",Parameters!$A$33,"DW Severity.Severity_Group_1","Injury","DW Party_Type.Party_Type_2","PEDESTRIAN AND BICYCLIST","DW Sobriety.Sobriety","HBD, IMPAIRMENT UNKNOWN","Sex","Female") -> 92 | P8: 0 | Q8: =GETPIVOTDATA("Count",Parameters!$A$33,"DW Severity.Severity_Group_1","Injury","DW Party_Type.Party_Type_2","PEDESTRIAN AND BICYCLIST","DW Sobriety.Sobriety","HBD, IMPAIRMENT UNKNOWN","Sex","Not Stated") -> 8 | R8: =SUM(B8:Q8) -> 2467
A9: Total | B9: =GETPIVOTDATA("Count",Parameters!$A$33,"DW Severity.Severity_Group_1","Fatal","DW Party_Type.Party_Type_2","MOTOR VEHICLE DRIVER","Sex","Male") -> 870 | C9: =GETPIVOTDATA("Count",Parameters!$A$33,"DW Severity.Severity_Group_1","Fatal","DW Party_Type.Party_Type_2","MOTOR VEHICLE DRIVER","Sex","Female") -> 204 | D9: 0 | E9: =GETPIVOTDATA("Count",Parameters!$A$33,"DW Severity.Severity_Group_1","Fatal","DW Party_Type.Party_Type_2","MOTOR VEHICLE DRIVER","Sex","Not Stated") -> 9 | F9: =GETPIVOTDATA("Count",Parameters!$A$33,"DW Severity.Severity_Group_1","Injury","DW Party_Type.Party_Type_2","MOTOR VEHICLE DRIVER","Sex","Male") -> 13740 | G9: =GETPIVOTDATA("Count",Parameters!$A$33,"DW Severity.Severity_Group_1","Injury","DW Party_Type.Party_Type_2","MOTOR VEHICLE DRIVER","Sex","Female") -> 5236 | H9: =GETPIVOTDATA("Count",Parameters!$A$33,"DW Severity.Severity_Group_1","Injury","DW Party_Type.Party_Type_2","MOTOR VEHICLE DRIVER","Sex","Nonbinary") -> 5 | I9: =GETPIVOTDATA("Count",Parameters!$A$33,"DW Severity.Severity_Group_1","Injury","DW Party_Type.Party_Type_2","MOTOR VEHICLE DRIVER","Sex","Not Stated") -> 755 | J9: =GETPIVOTDATA("Count",Parameters!$A$33,"DW Severity.Severity_Group_1","Fatal","DW Party_Type.Party_Type_2","PEDESTRIAN AND BICYCLIST","Sex","Male") -> 175 | K9: =GETPIVOTDATA("Count",Parameters!$A$33,"DW Severity.Severity_Group_1","Fatal","DW Party_Type.Party_Type_2","PEDESTRIAN AND BICYCLIST","Sex","Female") -> 34 | L9: 0 | M9: =GETPIVOTDATA("Count",Parameters!$A$33,"DW Severity.Severity_Group_1","Fatal","DW Party_Type.Party_Type_2","PEDESTRIAN AND BICYCLIST","Sex","Not Stated") -> 1 | N9: =GETPIVOTDATA("Count",Parameters!$A$33,"DW Severity.Severity_Group_1","Injury","DW Party_Type.Party_Type_2","PEDESTRIAN AND BICYCLIST","Sex","Male") -> 851 | O9: =GETPIVOTDATA("Count",Parameters!$A$33,"DW Severity.Severity_Group_1","Injury","DW Party_Type.Party_Type_2","PEDESTRIAN AND BICYCLIST","Sex","Female") -> 246 | P9: 0 | Q9: =GETPIVOTDATA("Count",Parameters!$A$33,"DW Severity.Severity_Group_1","Injury","DW Party_Type.Party_Type_2","PEDESTRIAN AND BICYCLIST","Sex","Not Stated") -> 17 | R9: =SUM(B9:Q9) -> 22143
A10: Total parties in fatal and injury crashes | B10: =GETPIVOTDATA("Count",Parameters!$A$45,"Party_Type_2","MOTOR VEHICLE DRIVER","Sex","Male","Severity_Group_1","Fatal") -> 4602 | C10: =GETPIVOTDATA("Count",Parameters!$A$45,"Party_Type_2","MOTOR VEHICLE DRIVER","Sex","Female","Severity_Group_1","Fatal") -> 1444 | D10: =GETPIVOTDATA("Count",Parameters!$A$45,"Party_Type_2","MOTOR VEHICLE DRIVER","Sex","Nonbinary","Severity_Group_1","Fatal") -> 3 | E10: =GETPIVOTDATA("Count",Parameters!$A$45,"Party_Type_2","MOTOR VEHICLE DRIVER","Sex","Not Stated","Severity_Group_1","Fatal") -> 318 | F10: =GETPIVOTDATA("Count",Parameters!$A$45,"Party_Type_2","MOTOR VEHICLE DRIVER","Sex","Male","Severity_Group_1","Injury") -> 169558 | G10: =GETPIVOTDATA("Count",Parameters!$A$45,"Party_Type_2","MOTOR VEHICLE DRIVER","Sex","Female","Severity_Group_1","Injury") -> 105409 | H10: =GETPIVOTDATA("Count",Parameters!$A$45,"Party_Type_2","MOTOR VEHICLE DRIVER","Sex","Nonbinary","Severity_Group_1","Injury") -> 159 | I10: =GETPIVOTDATA("Count",Parameters!$A$45,"Party_Type_2","MOTOR VEHICLE DRIVER","Sex","Not Stated","Severity_Group_1","Injury") -> 13892 | J10: =GETPIVOTDATA("Count",Parameters!$A$45,"Party_Type_2","PEDESTRIAN AND BICYCLIST","Sex","Male","Severity_Group_1","Fatal") -> 1016 | K10: =GETPIVOTDATA("Count",Parameters!$A$45,"Party_Type_2","PEDESTRIAN AND BICYCLIST","Sex","Female","Severity_Group_1","Fatal") -> 364 | L10: 0 | M10: =GETPIVOTDATA("Count",Parameters!$A$45,"Party_Type_2","PEDESTRIAN AND BICYCLIST","Sex","Not Stated","Severity_Group_1","Fatal") -> 5 | N10: =GETPIVOTDATA("Count",Parameters!$A$45,"Party_Type_2","PEDESTRIAN AND BICYCLIST","Sex","Male","Severity_Group_1","Injury") -> 12463 | O10: =GETPIVOTDATA("Count",Parameters!$A$45,"Party_Type_2","PEDESTRIAN AND BICYCLIST","Sex","Female","Severity_Group_1","Injury") -> 5369 | P10: =GETPIVOTDATA("Count",Parameters!$A$45,"Party_Type_2","PEDESTRIAN AND BICYCLIST","Sex","Nonbinary","Severity_Group_1","Injury") -> 3 | Q10: =GETPIVOTDATA("Count",Parameters!$A$45,"Party_Type_2","PEDESTRIAN AND BICYCLIST","Sex","Not Stated","Severity_Group_1","Injury") -> 295 | R10: =SUM(B10:Q10) -> 314900
A11: Percent had been drinking | B11: =B9/B10*100 -> 18.904824 | C11: =C9/C10*100 -> 14.127424 | D11: =D9/D10*100 -> 0 | E11: =E9/E10*100 -> 2.8301887 | F11: =F9/F10*100 -> 8.1034218 | G11: =G9/G10*100 -> 4.9673178 | H11: =H9/H10*100 -> 3.1446541 | I11: =I9/I10*100 -> 5.4347826 | ... K11: =K9/K10*100 -> 9.3406593 | L11: 0 | M11: =M9/M10*100 -> 20 | N11: =N9/N10*100 -> 6.8282115 | O11: =O9/O10*100 -> 4.5818588 | P11: =P9/P10*100 -> 0 | Q11: =Q9/Q10*100 -> 5.7627119 | R11: =R9/R10*100 -> 7.0317561
A13: *See Glossary for definition

Sheet Table 5H
A1: =Parameters!$A$52 -> TABLE 5H MOTOR VEHICLE DRIVERS IN FATAL CRASHES BY AGE BY DEGREE OF ALCOHOL IMPAIRMENT - 2021
A4: Degree of Alcohol Impairment | B4: 0-14 | C4: 15-20 | D4: 21-24 | E4: 25-29 | F4: 30-34 | G4: 35-39 | H4: 40-44 | I4: 45-49 | J4: 50-54 | K4: 55-59 | L4: 60-64 | M4: 65 and over | N4: Not stated | O4: Total
A5: HBD* - under influence | B5: =GETPIVOTDATA("Count",Parameters!$A$57,"Sobriety.1","HAD BEEN DRINKING","Age_Group_9","0-14") -> 1 | C5: =GETPIVOTDATA("Count",Parameters!$A$57,"Sobriety.1","HAD BEEN DRINKING","Age_Group_9","15-20") -> 62 | D5: =GETPIVOTDATA("Count",Parameters!$A$57,"Sobriety.1","HAD BEEN DRINKING","Age_Group_9","21-24") -> 145 | E5: =GETPIVOTDATA("Count",Parameters!$A$57,"Sobriety.1","HAD BEEN DRINKING","Age_Group_9","25-29") -> 170 | F5: =GETPIVOTDATA("Count",Parameters!$A$57,"Sobriety.1","HAD BEEN DRINKING","Age_Group_9","30-34") -> 137 | G5: =GETPIVOTDATA("Count",Parameters!$A$57,"Sobriety.1","HAD BEEN DRINKING","Age_Group_9","35-39") -> 97 | H5: =GETPIVOTDATA("Count",Parameters!$A$57,"Sobriety.1","HAD BEEN DRINKING","Age_Group_9","40-44") -> 67 | I5: =GETPIVOTDATA("Count",Parameters!$A$57,"Sobriety.1","HAD BEEN DRINKING","Age_Group_9","45-49") -> 43 | J5: =GETPIVOTDATA("Count",Parameters!$A$57,"Sobriety.1","HAD BEEN DRINKING","Age_Group_9","50-54") -> 44 | K5: =GETPIVOTDATA("Count",Parameters!$A$57,"Sobriety.1","HAD BEEN DRINKING","Age_Group_9","55-59") -> 40 | L5: =GETPIVOTDATA("Count",Parameters!$A$57,"Sobriety.1","HAD BEEN DRINKING","Age_Group_9","60-64") -> 15 | M5: =GETPIVOTDATA("Count",Parameters!$A$57,"Sobriety.1","HAD BEEN DRINKING","Age_Group_9","65 and over") -> 28 | N5: =GETPIVOTDATA("Count",Parameters!$A$57,"Sobriety.1","HAD BEEN DRINKING","Age_Group_9","Not Stated") -> 1 | O5: =GETPIVOTDATA("Count",Parameters!$A$57,"Sobriety.1","HAD BEEN DRINKING") -> 850
A6: HBD - not under influence | B6: =GETPIVOTDATA("Count",Parameters!$A$57,"Sobriety.1","HBD, NOT UNDER INFLUENCE","Age_Group_9","0-14") -> 0 | C6: =GETPIVOTDATA("Count",Parameters!$A$57,"Sobriety.1","HBD, NOT UNDER INFLUENCE","Age_Group_9","15-20") -> 6 | D6: =GETPIVOTDATA("Count",Parameters!$A$57,"Sobriety.1","HBD, NOT UNDER INFLUENCE","Age_Group_9","21-24") -> 11 | E6: =GETPIVOTDATA("Count",Parameters!$A$57,"Sobriety.1","HBD, NOT UNDER INFLUENCE","Age_Group_9","25-29") -> 17 | F6: =GETPIVOTDATA("Count",Parameters!$A$57,"Sobriety.1","HBD, NOT UNDER INFLUENCE","Age_Group_9","30-34") -> 12 | G6: =GETPIVOTDATA("Count",Parameters!$A$57,"Sobriety.1","HBD, NOT UNDER INFLUENCE","Age_Group_9","35-39") -> 9 | H6: =GETPIVOTDATA("Count",Parameters!$A$57,"Sobriety.1","HBD, NOT UNDER INFLUENCE","Age_Group_9","40-44") -> 13 | I6: =GETPIVOTDATA("Count",Parameters!$A$57,"Sobriety.1","HBD, NOT UNDER INFLUENCE","Age_Group_9","45-49") -> 3 | J6: =GETPIVOTDATA("Count",Parameters!$A$57,"Sobriety.1","HBD, NOT UNDER INFLUENCE","Age_Group_9","50-54") -> 6 | K6: =GETPIVOTDATA("Count",Parameters!$A$57,"Sobriety.1","HBD, NOT UNDER INFLUENCE","Age_Group_9","55-59") -> 5 | L6: =GETPIVOTDATA("Count",Parameters!$A$57,"Sobriety.1","HBD, NOT UNDER INFLUENCE","Age_Group_9","60-64") -> 8 | M6: =GETPIVOTDATA("Count",Parameters!$A$57,"Sobriety.1","HBD, NOT UNDER INFLUENCE","Age_Group_9","65 and over") -> 7 | N6: =GETPIVOTDATA("Count",Parameters!$A$57,"Sobriety.1","HBD, NOT UNDER INFLUENCE","Age_Group_9","Not Stated") -> 0 | O6: =GETPIVOTDATA("Count",Parameters!$A$57,"Sobriety.1","HBD, NOT UNDER INFLUENCE") -> 97
A7: HBD - impairment unknown | B7: =GETPIVOTDATA("Count",Parameters!$A$57,"Sobriety.1","HBD, IMPAIRMENT UNKNOWN","Age_Group_9","0-14") -> 0 | C7: =GETPIVOTDATA("Count",Parameters!$A$57,"Sobriety.1","HBD, IMPAIRMENT UNKNOWN","Age_Group_9","15-20") -> 11 | D7: =GETPIVOTDATA("Count",Parameters!$A$57,"Sobriety.1","HBD, IMPAIRMENT UNKNOWN","Age_Group_9","21-24") -> 12 | E7: =GETPIVOTDATA("Count",Parameters!$A$57,"Sobriety.1","HBD, IMPAIRMENT UNKNOWN","Age_Group_9","25-29") -> 26 | F7: =GETPIVOTDATA("Count",Parameters!$A$57,"Sobriety.1","HBD, IMPAIRMENT UNKNOWN","Age_Group_9","30-34") -> 9 | G7: =GETPIVOTDATA("Count",Parameters!$A$57,"Sobriety.1","HBD, IMPAIRMENT UNKNOWN","Age_Group_9","35-39") -> 13 | H7: =GETPIVOTDATA("Count",Parameters!$A$57,"Sobriety.1","HBD, IMPAIRMENT UNKNOWN","Age_Group_9","40-44") -> 7 | I7: =GETPIVOTDATA("Count",Parameters!$A$57,"Sobriety.1","HBD, IMPAIRMENT UNKNOWN","Age_Group_9","45-49") -> 8 | J7: =GETPIVOTDATA("Count",Parameters!$A$57,"Sobriety.1","HBD, IMPAIRMENT UNKNOWN","Age_Group_9","50-54") -> 14 | K7: =GETPIVOTDATA("Count",Parameters!$A$57,"Sobriety.1","HBD, IMPAIRMENT UNKNOWN","Age_Group_9","55-59") -> 10 | L7: =GETPIVOTDATA("Count",Parameters!$A$57,"Sobriety.1","HBD, IMPAIRMENT UNKNOWN","Age_Group_9","60-64") -> 10 | M7: =GETPIVOTDATA("Count",Parameters!$A$57,"Sobriety.1","HBD, IMPAIRMENT UNKNOWN","Age_Group_9","65 and over") -> 8 | N7: =GETPIVOTDATA("Count",Parameters!$A$57,"Sobriety.1","HBD, IMPAIRMENT UNKNOWN","Age_Group_9","Not Stated") -> 8 | O7: =GETPIVOTDATA("Count",Parameters!$A$57,"Sobriety.1","HBD, IMPAIRMENT UNKNOWN") -> 136
A8: Total | B8: =GETPIVOTDATA("Count",Parameters!$A$57,"Age_Group_9","0-14") -> 1 | C8: =GETPIVOTDATA("Count",Parameters!$A$57,"Age_Group_9","15-20") -> 79 | D8: =GETPIVOTDATA("Count",Parameters!$A$57,"Age_Group_9","21-24") -> 168 | E8: =GETPIVOTDATA("Count",Parameters!$A$57,"Age_Group_9","25-29") -> 213 | F8: =GETPIVOTDATA("Count",Parameters!$A$57,"Age_Group_9","30-34") -> 158 | G8: =GETPIVOTDATA("Count",Parameters!$A$57,"Age_Group_9","35-39") -> 119 | H8: =GETPIVOTDATA("Count",Parameters!$A$57,"Age_Group_9","40-44") -> 87 | I8: =GETPIVOTDATA("Count",Parameters!$A$57,"Age_Group_9","45-49") -> 54 | J8: =GETPIVOTDATA("Count",Parameters!$A$57,"Age_Group_9","50-54") -> 64 | K8: =GETPIVOTDATA("Count",Parameters!$A$57,"Age_Group_9","55-59") -> 55 | L8: =GETPIVOTDATA("Count",Parameters!$A$57,"Age_Group_9","60-64") -> 33 | M8: =GETPIVOTDATA("Count",Parameters!$A$57,"Age_Group_9","65 and over") -> 43 | N8: =GETPIVOTDATA("Count",Parameters!$A$57,"Age_Group_9","Not Stated") -> 9 | O8: =GETPIVOTDATA("Count",Parameters!$A$57) -> 1083
A9: Total drivers in fatal crashes | B9: =GETPIVOTDATA("Count",Parameters!$A$67,"Age_Group_9","0-14") -> 11 | C9: =GETPIVOTDATA("Count",Parameters!$A$67,"Age_Group_9","15-20") -> 500 | D9: =GETPIVOTDATA("Count",Parameters!$A$67,"Age_Group_9","21-24") -> 650 | E9: =GETPIVOTDATA("Count",Parameters!$A$67,"Age_Group_9","25-29") -> 793 | F9: =GETPIVOTDATA("Count",Parameters!$A$67,"Age_Group_9","30-34") -> 697 | G9: =GETPIVOTDATA("Count",Parameters!$A$67,"Age_Group_9","35-39") -> 610 | H9: =GETPIVOTDATA("Count",Parameters!$A$67,"Age_Group_9","40-44") -> 464 | I9: =GETPIVOTDATA("Count",Parameters!$A$67,"Age_Group_9","45-49") -> 410 | J9: =GETPIVOTDATA("Count",Parameters!$A$67,"Age_Group_9","50-54") -> 501 | K9: =GETPIVOTDATA("Count",Parameters!$A$67,"Age_Group_9","55-59") -> 433 | L9: =GETPIVOTDATA("Count",Parameters!$A$67,"Age_Group_9","60-64") -> 377 | M9: =GETPIVOTDATA("Count",Parameters!$A$67,"Age_Group_9","65 and over") -> 589 | N9: =GETPIVOTDATA("Count",Parameters!$A$67,"Age_Group_9","Not Stated") -> 332 | O9: =GETPIVOTDATA("Count",Parameters!$A$67) -> 6367
A10: Percent had been drinking | B10: =B8/B9*100 -> 9.0909091 | C10: =C8/C9*100 -> 15.8 | D10: =D8/D9*100 -> 25.846154 | E10: =E8/E9*100 -> 26.860025 | F10: =F8/F9*100 -> 22.66858 | G10: =G8/G9*100 -> 19.508197 | H10: =H8/H9*100 -> 18.75 | I10: =I8/I9*100 -> 13.170732 | ... O10: =O8/O9*100 -> 17.009581
A12: *See Glossary for definition

Sheet Table 5I
A1: =Parameters!$A$72 -> TABLE 5I MOTOR VEHICLE DRIVERS IN INJURY CRASHES BY AGE BY DEGREE OF ALCOHOL IMPAIRMENT - 2021
A4: Degree of Alcohol Impairment | B4: 0-14 | C4: 15-20 | D4: 21-24 | E4: 25-29 | F4: 30-34 | G4: 35-39 | H4: 40-44 | I4: 45-49 | J4: 50-54 | K4: 55-59 | L4: 60-64 | M4: 65 and over | N4: Not stated | O4: Total
A5: HBD* - under influence | B5: =GETPIVOTDATA("Count",Parameters!$A$77,"Sobriety.1","HAD BEEN DRINKING","Age_Group_9","0-14") -> 13 | C5: =GETPIVOTDATA("Count",Parameters!$A$77,"Sobriety.1","HAD BEEN DRINKING","Age_Group_9","15-20") -> 966 | D5: =GETPIVOTDATA("Count",Parameters!$A$77,"Sobriety.1","HAD BEEN DRINKING","Age_Group_9","21-24") -> 2588 | E5: =GETPIVOTDATA("Count",Parameters!$A$77,"Sobriety.1","HAD BEEN DRINKING","Age_Group_9","25-29") -> 3304 | F5: =GETPIVOTDATA("Count",Parameters!$A$77,"Sobriety.1","HAD BEEN DRINKING","Age_Group_9","30-34") -> 2333 | G5: =GETPIVOTDATA("Count",Parameters!$A$77,"Sobriety.1","HAD BEEN DRINKING","Age_Group_9","35-39") -> 1567 | H5: =GETPIVOTDATA("Count",Parameters!$A$77,"Sobriety.1","HAD BEEN DRINKING","Age_Group_9","40-44") -> 1151 | I5: =GETPIVOTDATA("Count",Parameters!$A$77,"Sobriety.1","HAD BEEN DRINKING","Age_Group_9","45-49") -> 808 | J5: =GETPIVOTDATA("Count",Parameters!$A$77,"Sobriety.1","HAD BEEN DRINKING","Age_Group_9","50-54") -> 707 | K5: =GETPIVOTDATA("Count",Parameters!$A$77,"Sobriety.1","HAD BEEN DRINKING","Age_Group_9","55-59") -> 578 | L5: =GETPIVOTDATA("Count",Parameters!$A$77,"Sobriety.1","HAD BEEN DRINKING","Age_Group_9","60-64") -> 399 | M5: =GETPIVOTDATA("Count",Parameters!$A$77,"Sobriety.1","HAD BEEN DRINKING","Age_Group_9","65 and over") -> 406 | N5: =GETPIVOTDATA("Count",Parameters!$A$77,"Sobriety.1","HAD BEEN DRINKING","Age_Group_9","Not Stated") -> 43 | O5: =GETPIVOTDATA("Count",Parameters!$A$77,"Sobriety.1","HAD BEEN DRINKING") -> 14863
A6: HBD - not under influence | B6: =GETPIVOTDATA("Count",Parameters!$A$77,"Sobriety.1","HBD, NOT UNDER INFLUENCE","Age_Group_9","0-14") -> 7 | C6: =GETPIVOTDATA("Count",Parameters!$A$77,"Sobriety.1","HBD, NOT UNDER INFLUENCE","Age_Group_9","15-20") -> 264 | D6: =GETPIVOTDATA("Count",Parameters!$A$77,"Sobriety.1","HBD, NOT UNDER INFLUENCE","Age_Group_9","21-24") -> 388 | E6: =GETPIVOTDATA("Count",Parameters!$A$77,"Sobriety.1","HBD, NOT UNDER INFLUENCE","Age_Group_9","25-29") -> 506 | F6: =GETPIVOTDATA("Count",Parameters!$A$77,"Sobriety.1","HBD, NOT UNDER INFLUENCE","Age_Group_9","30-34") -> 359 | G6: =GETPIVOTDATA("Count",Parameters!$A$77,"Sobriety.1","HBD, NOT UNDER INFLUENCE","Age_Group_9","35-39") -> 294 | H6: =GETPIVOTDATA("Count",Parameters!$A$77,"Sobriety.1","HBD, NOT UNDER INFLUENCE","Age_Group_9","40-44") -> 254 | I6: =GETPIVOTDATA("Count",Parameters!$A$77,"Sobriety.1","HBD, NOT UNDER INFLUENCE","Age_Group_9","45-49") -> 184 | J6: =GETPIVOTDATA("Count",Parameters!$A$77,"Sobriety.1","HBD, NOT UNDER INFLUENCE","Age_Group_9","50-54") -> 181 | K6: =GETPIVOTDATA("Count",Parameters!$A$77,"Sobriety.1","HBD, NOT UNDER INFLUENCE","Age_Group_9","55-59") -> 181 | L6: =GETPIVOTDATA("Count",Parameters!$A$77,"Sobriety.1","HBD, NOT UNDER INFLUENCE","Age_Group_9","60-64") -> 146 | M6: =GETPIVOTDATA("Count",Parameters!$A$77,"Sobriety.1","HBD, NOT UNDER INFLUENCE","Age_Group_9","65 and over") -> 224 | N6: =GETPIVOTDATA("Count",Parameters!$A$77,"Sobriety.1","HBD, NOT UNDER INFLUENCE","Age_Group_9","Not Stated") -> 25 | O6: =GETPIVOTDATA("Count",Parameters!$A$77,"Sobriety.1","HBD, NOT UNDER INFLUENCE") -> 3013
A7: HBD - impairment unknown | B7: =GETPIVOTDATA("Count",Parameters!$A$77,"Sobriety.1","HBD, IMPAIRMENT UNKNOWN","Age_Group_9","0-14") -> 4 | C7: =GETPIVOTDATA("Count",Parameters!$A$77,"Sobriety.1","HBD, IMPAIRMENT UNKNOWN","Age_Group_9","15-20") -> 78 | D7: =GETPIVOTDATA("Count",Parameters!$A$77,"Sobriety.1","HBD, IMPAIRMENT UNKNOWN","Age_Group_9","21-24") -> 132 | E7: =GETPIVOTDATA("Count",Parameters!$A$77,"Sobriety.1","HBD, IMPAIRMENT UNKNOWN","Age_Group_9","25-29") -> 211 | F7: =GETPIVOTDATA("Count",Parameters!$A$77,"Sobriety.1","HBD, IMPAIRMENT UNKNOWN","Age_Group_9","30-34") -> 141 | G7: =GETPIVOTDATA("Count",Parameters!$A$77,"Sobriety.1","HBD, IMPAIRMENT UNKNOWN","Age_Group_9","35-39") -> 103 | H7: =GETPIVOTDATA("Count",Parameters!$A$77,"Sobriety.1","HBD, IMPAIRMENT UNKNOWN","Age_Group_9","40-44") -> 93 | I7: =GETPIVOTDATA("Count",Parameters!$A$77,"Sobriety.1","HBD, IMPAIRMENT UNKNOWN","Age_Group_9","45-49") -> 49 | J7: =GETPIVOTDATA("Count",Parameters!$A$77,"Sobriety.1","HBD, IMPAIRMENT UNKNOWN","Age_Group_9","50-54") -> 49 | K7: =GETPIVOTDATA("Count",Parameters!$A$77,"Sobriety.1","HBD, IMPAIRMENT UNKNOWN","Age_Group_9","55-59") -> 41 | L7: =GETPIVOTDATA("Count",Parameters!$A$77,"Sobriety.1","HBD, IMPAIRMENT UNKNOWN","Age_Group_9","60-64") -> 29 | M7: =GETPIVOTDATA("Count",Parameters!$A$77,"Sobriety.1","HBD, IMPAIRMENT UNKNOWN","Age_Group_9","65 and over") -> 50 | N7: =GETPIVOTDATA("Count",Parameters!$A$77,"Sobriety.1","HBD, IMPAIRMENT UNKNOWN","Age_Group_9","Not Stated") -> 880 | O7: =GETPIVOTDATA("Count",Parameters!$A$77,"Sobriety.1","HBD, IMPAIRMENT UNKNOWN") -> 1860
A8: Total | B8: =GETPIVOTDATA("Count",Parameters!$A$77,"Age_Group_9","0-14") -> 24 | C8: =GETPIVOTDATA("Count",Parameters!$A$77,"Age_Group_9","15-20") -> 1308 | D8: =GETPIVOTDATA("Count",Parameters!$A$77,"Age_Group_9","21-24") -> 3108 | E8: =GETPIVOTDATA("Count",Parameters!$A$77,"Age_Group_9","25-29") -> 4021 | F8: =GETPIVOTDATA("Count",Parameters!$A$77,"Age_Group_9","30-34") -> 2833 | G8: =GETPIVOTDATA("Count",Parameters!$A$77,"Age_Group_9","35-39") -> 1964 | H8: =GETPIVOTDATA("Count",Parameters!$A$77,"Age_Group_9","40-44") -> 1498 | I8: =GETPIVOTDATA("Count",Parameters!$A$77,"Age_Group_9","45-49") -> 1041 | J8: =GETPIVOTDATA("Count",Parameters!$A$77,"Age_Group_9","50-54") -> 937 | K8: =GETPIVOTDATA("Count",Parameters!$A$77,"Age_Group_9","55-59") -> 800 | L8: =GETPIVOTDATA("Count",Parameters!$A$77,"Age_Group_9","60-64") -> 574 | M8: =GETPIVOTDATA("Count",Parameters!$A$77,"Age_Group_9","65 and over") -> 680 | N8: =GETPIVOTDATA("Count",Parameters!$A$77,"Age_Group_9","Not Stated") -> 948 | O8: =GETPIVOTDATA("Count",Parameters!$A$77) -> 19736
A9: Total drivers in injury crashes | B9: =GETPIVOTDATA("Count",Parameters!$A$87,"Age_Group_9","0-14") -> 365 | C9: =GETPIVOTDATA("Count",Parameters!$A$87,"Age_Group_9","15-20") -> 25228 | D9: =GETPIVOTDATA("Count",Parameters!$A$87,"Age_Group_9","21-24") -> 30341 | E9: =GETPIVOTDATA("Count",Parameters!$A$87,"Age_Group_9","25-29") -> 36891 | F9: =GETPIVOTDATA("Count",Parameters!$A$87,"Age_Group_9","30-34") -> 32446 | G9: =GETPIVOTDATA("Count",Parameters!$A$87,"Age_Group_9","35-39") -> 26856 | H9: =GETPIVOTDATA("Count",Parameters!$A$87,"Age_Group_9","40-44") -> 23226 | I9: =GETPIVOTDATA("Count",Parameters!$A$87,"Age_Group_9","45-49") -> 20075 | J9: =GETPIVOTDATA("Count",Parameters!$A$87,"Age_Group_9","50-54") -> 19590 | K9: =GETPIVOTDATA("Count",Parameters!$A$87,"Age_Group_9","55-59") -> 17788 | L9: =GETPIVOTDATA("Count",Parameters!$A$87,"Age_Group_9","60-64") -> 14421 | M9: =GETPIVOTDATA("Count",Parameters!$A$87,"Age_Group_9","65 and over") -> 24719 | N9: =GETPIVOTDATA("Count",Parameters!$A$87,"Age_Group_9","Not Stated") -> 17072 | O9: =GETPIVOTDATA("Count",Parameters!$A$87) -> 289018
A10: Percent had been drinking | B10: =B8/B9*100 -> 6.5753425 | C10: =C8/C9*100 -> 5.1847154 | D10: =D8/D9*100 -> 10.243565 | E10: =E8/E9*100 -> 10.899677 | F10: =F8/F9*100 -> 8.7314307 | G10: =G8/G9*100 -> 7.3130772 | H10: =H8/H9*100 -> 6.4496685 | I10: =I8/I9*100 -> 5.1855542 | ... O10: =O8/O9*100 -> 6.8286404
A12: *See Glossary for definition

Sheet Table 5J
A1: =Parameters!$A$92 -> TABLE 5J HAD BEEN DRINKING DRIVERS IN FATAL AND INJURY CRASHES BY SEX BY AGE - 2021
B4: Fatal | E4: Injury | I4: Total
A5: Age | B5: Male | C5: Female | D5: Not stated | E5: Male | F5: Female | G5: Nonbinary | H5: Not stated
A6: 0-14 | B6: 1 | C6: 0 | D6: 0 | E6: 17 | F6: 7 | G6: 0 | H6: 0 | I6: 25
A7: 15 | B7: 0 | C7: 0 | D7: 0 | E7: 5 | F7: 2 | G7: 0 | H7: 0 | I7: 7
A8: 16 | B8: 3 | C8: 0 | D8: 0 | E8: 28 | F8: 12 | G8: 0 | H8: 0 | I8: 43
A9: 17 | B9: 8 | C9: 3 | D9: 0 | E9: 57 | F9: 31 | G9: 0 | H9: 0 | I9: 99
A10: 18 | B10: 10 | C10: 5 | D10: 0 | E10: 182 | F10: 48 | G10: 0 | H10: 3 | I10: 248
A11: 19 | B11: 17 | C11: 6 | D11: 0 | E11: 294 | F11: 119 | G11: 0 | H11: 1 | I11: 437
A12: 20 | B12: 21 | C12: 6 | D12: 0 | E12: 380 | F12: 145 | G12: 0 | H12: 1 | I12: 553
A13: 21 | B13: 32 | C13: 11 | D13: 0 | E13: 510 | F13: 198 | G13: 0 | H13: 2 | I13: 753
A14: 22 | B14: 32 | C14: 13 | D14: 0 | E14: 563 | F14: 247 | G14: 0 | H14: 4 | I14: 859
A15: 23 | B15: 28 | C15: 6 | D15: 1 | E15: 558 | F15: 224 | G15: 0 | H15: 4 | I15: 821
A16: 24 | B16: 32 | C16: 13 | D16: 0 | E16: 550 | F16: 244 | G16: 0 | H16: 4 | I16: 843
A17: 25 | B17: 32 | C17: 8 | D17: 0 | E17: 629 | F17: 250 | G17: 0 | H17: 2 | I17: 921
... A60: Total | B60: 870 | C60: 204 | D60: 9 | E60: 13740 | F60: 5236 | G60: 5 | H60: 755 | I60: 20819

Sheet Table 5K
A1: =Parameters!$A$95 -> TABLE 5K ALCOHOL INVOLVED FATAL CRASHES BY DAY OF WEEK BY HOUR OF DAY - 2021
A4: Hour of Day | B4: Monday | C4: Tuesday | D4: Wednesday | E4: Thursday | F4: Friday | G4: Saturday | H4: Sunday | I4: Total
A5: A.M. Total | B5: 62 | C5: 25 | D5: 40 | E5: 39 | F5: 49 | G5: 130 | H5: 133 | I5: 478
A6: Midnight - 12:59 A.M. | B6: 11 | C6: 6 | D6: 9 | E6: 5 | F6: 6 | G6: 29 | H6: 26 | I6: 92
A7: 1:00 - 1:59 A.M. | B7: 17 | C7: 3 | D7: 5 | E7: 9 | F7: 8 | G7: 29 | H7: 21 | I7: 92
A8: 2:00 - 2:59 A.M. | B8: 10 | C8: 4 | D8: 11 | E8: 9 | F8: 7 | G8: 23 | H8: 35 | I8: 99
A9: 3:00 - 3:59 A.M. | B9: 7 | C9: 4 | D9: 3 | E9: 1 | F9: 8 | G9: 18 | H9: 18 | I9: 59
A10: 4:00 - 4:59 A.M. | B10: 4 | C10: 1 | D10: 0 | E10: 4 | F10: 6 | G10: 5 | H10: 14 | I10: 34
A11: 5:00 - 5:59 A.M. | B11: 2 | C11: 0 | D11: 6 | E11: 2 | F11: 2 | G11: 10 | H11: 10 | I11: 32
A12: 6:00 - 6:59 A.M. | B12: 1 | C12: 1 | D12: 3 | E12: 2 | F12: 2 | G12: 3 | H12: 3 | I12: 15
A13: 7:00 - 7:59 A.M. | B13: 2 | C13: 1 | D13: 0 | E13: 1 | F13: 2 | G13: 2 | H13: 1 | I13: 9
A14: 8:00 - 8:59 A.M. | B14: 2 | C14: 0 | D14: 0 | E14: 3 | F14: 1 | G14: 5 | H14: 2 | I14: 13
A15: 9:00 - 9:59 A.M. | B15: 1 | C15: 1 | D15: 3 | E15: 2 | F15: 1 | G15: 1 | H15: 0 | I15: 9
A16: 10:00 - 10:59 A.M. | B16: 3 | C16: 3 | D16: 0 | E16: 1 | F16: 4 | G16: 3 | H16: 1 | I16: 15
... A32: Total | B32: 136 | C32: 102 | D32: 123 | E32: 121 | F32: 184 | G32: 296 | H32: 258 | I32: 1220

Sheet Table 5L
A1: =Parameters!$A$109 -> TABLE 5L ALCOHOL INVOLVED INJURY CRASHES BY DAY OF WEEK BY HOUR OF DAY - 2021
A4: Hour of Day | B4: Monday | C4: Tuesday | D4: Wednesday | E4: Thursday | F4: Friday | G4: Saturday | H4: Sunday | I4: Total
A5: A.M. Total | B5: 792 | C5: 524 | D5: 559 | E5: 635 | F5: 891 | G5: 1724 | H5: 2076 | I5: 7201
A6: Midnight - 12:59 A.M. | B6: 171 | C6: 92 | D6: 121 | E6: 135 | F6: 164 | G6: 299 | H6: 386 | I6: 1368
A7: 1:00 - 1:59 A.M. | B7: 140 | C7: 85 | D7: 91 | E7: 105 | F7: 177 | G7: 362 | H7: 433 | I7: 1393
A8: 2:00 - 2:59 A.M. | B8: 128 | C8: 81 | D8: 78 | E8: 114 | F8: 148 | G8: 395 | H8: 447 | I8: 1391
A9: 3:00 - 3:59 A.M. | B9: 65 | C9: 46 | D9: 47 | E9: 55 | F9: 79 | G9: 195 | H9: 248 | I9: 735
A10: 4:00 - 4:59 A.M. | B10: 50 | C10: 31 | D10: 30 | E10: 38 | F10: 59 | G10: 135 | H10: 176 | I10: 519
A11: 5:00 - 5:59 A.M. | B11: 41 | C11: 24 | D11: 34 | E11: 25 | F11: 45 | G11: 74 | H11: 110 | I11: 353
A12: 6:00 - 6:59 A.M. | B12: 32 | C12: 23 | D12: 23 | E12: 37 | F12: 32 | G12: 51 | H12: 70 | I12: 268
A13: 7:00 - 7:59 A.M. | B13: 28 | C13: 27 | D13: 26 | E13: 20 | F13: 33 | G13: 31 | H13: 36 | I13: 201
A14: 8:00 - 8:59 A.M. | B14: 33 | C14: 41 | D14: 25 | E14: 24 | F14: 36 | G14: 39 | H14: 41 | I14: 239
A15: 9:00 - 9:59 A.M. | B15: 39 | C15: 18 | D15: 32 | E15: 22 | F15: 28 | G15: 33 | H15: 33 | I15: 205
A16: 10:00 - 10:59 A.M. | B16: 28 | C16: 25 | D16: 22 | E16: 28 | F16: 43 | G16: 49 | H16: 42 | I16: 237
... A32: Total | B32: 2179 | C32: 1812 | D32: 2096 | E32: 2179 | F32: 3014 | G32: 4121 | H32: 4385 | I32: 19786

Sheet Table 5M
A1: =Parameters!$A$123 -> TABLE 5M ALCOHOL INVOLVED FATAL CRASHES BY COUNTY BY MONTH - 2021
A4: County | B4: January | C4: February | D4: March | E4: April | F4: May | G4: June | H4: July | I4: August | J4: September | K4: October | L4: November | M4: December | N4: Total
A5: Alameda | B5: 0 | C5: 5 | D5: 3 | E5: 4 | F5: 6 | G5: 2 | H5: 1 | I5: 3 | J5: 3 | K5: 2 | L5: 3 | M5: 1 | N5: 33
A6: Amador | B6: 1 | C6: 1 | D6: 2 | E6: 0 | F6: 0 | G6: 1 | H6: 0 | I6: 0 | J6: 0 | K6: 1 | L6: 2 | M6: 0 | N6: 8
A7: Butte | B7: 2 | C7: 2 | D7: 1 | E7: 1 | F7: 3 | G7: 1 | H7: 1 | I7: 2 | J7: 0 | K7: 0 | L7: 0 | M7: 0 | N7: 13
A8: Calaveras | B8: 0 | C8: 1 | D8: 0 | E8: 2 | F8: 0 | G8: 1 | H8: 1 | I8: 0 | J8: 0 | K8: 0 | L8: 0 | M8: 0 | N8: 5
A9: Colusa | B9: 0 | C9: 0 | D9: 0 | E9: 1 | F9: 0 | G9: 0 | H9: 1 | I9: 1 | J9: 0 | K9: 0 | L9: 0 | M9: 1 | N9: 4
A10: Contra Costa | B10: 5 | C10: 3 | D10: 1 | E10: 1 | F10: 2 | G10: 1 | H10: 3 | I10: 1 | J10: 2 | K10: 3 | L10: 2 | M10: 5 | N10: 29
A11: El Dorado | B11: 2 | C11: 2 | D11: 0 | E11: 1 | F11: 3 | G11: 2 | H11: 2 | I11: 0 | J11: 1 | K11: 0 | L11: 0 | M11: 0 | N11: 13
A12: Fresno | B12: 6 | C12: 4 | D12: 6 | E12: 2 | F12: 6 | G12: 2 | H12: 5 | I12: 6 | J12: 6 | K12: 3 | L12: 3 | M12: 2 | N12: 51
A13: Glenn | B13: 0 | C13: 1 | D13: 0 | E13: 0 | F13: 0 | G13: 0 | H13: 0 | I13: 0 | J13: 0 | K13: 0 | L13: 0 | M13: 0 | N13: 1
A14: Humboldt | B14: 1 | C14: 1 | D14: 0 | E14: 1 | F14: 1 | G14: 0 | H14: 0 | I14: 0 | J14: 1 | K14: 0 | L14: 1 | M14: 1 | N14: 7
A15: Imperial | B15: 0 | C15: 0 | D15: 0 | E15: 0 | F15: 0 | G15: 3 | H15: 1 | I15: 1 | J15: 1 | K15: 0 | L15: 1 | M15: 1 | N15: 8
A16: Inyo | B16: 0 | C16: 0 | D16: 0 | E16: 0 | F16: 0 | G16: 0 | H16: 0 | I16: 0 | J16: 0 | K16: 1 | L16: 0 | M16: 0 | N16: 1
... A59: Total | B59: 96 | C59: 85 | D59: 107 | E59: 102 | F59: 115 | G59: 96 | H59: 113 | I59: 106 | J59: 90 | K59: 108 | L59: 110 | M59: 92 | N59: 1220

Sheet Table 5N
A1: =Parameters!$A$126 -> TABLE 5N PERSONS KILLED IN ALCOHOL INVOLVED CRASHES BY COUNTY BY MONTH - 2021
A4: County | B4: January | C4: February | D4: March | E4: April | F4: May | G4: June | H4: July | I4: August | J4: September | K4: October | L4: November | M4: December | N4: Total
A5: Alameda | B5: 0 | C5: 5 | D5: 3 | E5: 4 | F5: 6 | G5: 2 | H5: 1 | I5: 3 | J5: 4 | K5: 2 | L5: 3 | M5: 1 | N5: 34
A6: Amador | B6: 1 | C6: 1 | D6: 2 | E6: 0 | F6: 0 | G6: 3 | H6: 0 | I6: 0 | J6: 0 | K6: 1 | L6: 2 | M6: 0 | N6: 10
A7: Butte | B7: 2 | C7: 3 | D7: 1 | E7: 1 | F7: 3 | G7: 1 | H7: 2 | I7: 2 | J7: 0 | K7: 0 | L7: 0 | M7: 0 | N7: 15
A8: Calaveras | B8: 0 | C8: 1 | D8: 0 | E8: 2 | F8: 0 | G8: 1 | H8: 1 | I8: 0 | J8: 0 | K8: 0 | L8: 0 | M8: 0 | N8: 5
A9: Colusa | B9: 0 | C9: 0 | D9: 0 | E9: 1 | F9: 0 | G9: 0 | H9: 1 | I9: 1 | J9: 0 | K9: 0 | L9: 0 | M9: 1 | N9: 4
A10: Contra Costa | B10: 6 | C10: 3 | D10: 1 | E10: 2 | F10: 2 | G10: 1 | H10: 3 | I10: 1 | J10: 3 | K10: 3 | L10: 2 | M10: 5 | N10: 32
A11: El Dorado | B11: 2 | C11: 3 | D11: 0 | E11: 1 | F11: 3 | G11: 2 | H11: 2 | I11: 0 | J11: 1 | K11: 0 | L11: 0 | M11: 0 | N11: 14
A12: Fresno | B12: 14 | C12: 5 | D12: 8 | E12: 2 | F12: 7 | G12: 2 | H12: 7 | I12: 8 | J12: 6 | K12: 3 | L12: 3 | M12: 2 | N12: 67
A13: Glenn | B13: 0 | C13: 1 | D13: 0 | E13: 0 | F13: 0 | G13: 0 | H13: 0 | I13: 0 | J13: 0 | K13: 0 | L13: 0 | M13: 0 | N13: 1
A14: Humboldt | B14: 1 | C14: 1 | D14: 0 | E14: 1 | F14: 1 | G14: 0 | H14: 0 | I14: 0 | J14: 1 | K14: 0 | L14: 1 | M14: 1 | N14: 7
A15: Imperial | B15: 0 | C15: 0 | D15: 0 | E15: 0 | F15: 0 | G15: 3 | H15: 1 | I15: 1 | J15: 1 | K15: 0 | L15: 1 | M15: 1 | N15: 8
A16: Inyo | B16: 0 | C16: 0 | D16: 0 | E16: 0 | F16: 0 | G16: 0 | H16: 0 | I16: 0 | J16: 0 | K16: 1 | L16: 0 | M16: 0 | N16: 1
... A59: Total | B59: 113 | C59: 93 | D59: 117 | E59: 111 | F59: 126 | G59: 109 | H59: 122 | I59: 117 | J59: 97 | K59: 117 | L59: 122 | M59: 100 | N59: 1344

Sheet Table 5O
A1: =Parameters!$A$129 -> TABLE 5O ALCOHOL INVOLVED INJURY CRASHES BY COUNTY BY MONTH - 2021
A4: County | B4: January | C4: February | D4: March | E4: April | F4: May | G4: June | H4: July | I4: August | J4: September | K4: October | L4: November | M4: December | N4: Total
A5: Alameda | B5: 33 | C5: 39 | D5: 31 | E5: 40 | F5: 56 | G5: 53 | H5: 64 | I5: 51 | J5: 59 | K5: 84 | L5: 58 | M5: 53 | N5: 621
A6: Alpine | B6: 0 | C6: 1 | D6: 0 | E6: 0 | F6: 0 | G6: 1 | H6: 0 | I6: 1 | J6: 0 | K6: 0 | L6: 0 | M6: 0 | N6: 3
A7: Amador | B7: 6 | C7: 0 | D7: 1 | E7: 7 | F7: 7 | G7: 2 | H7: 2 | I7: 3 | J7: 6 | K7: 6 | L7: 2 | M7: 0 | N7: 42
A8: Butte | B8: 8 | C8: 6 | D8: 7 | E8: 14 | F8: 17 | G8: 13 | H8: 9 | I8: 15 | J8: 6 | K8: 16 | L8: 14 | M8: 13 | N8: 138
A9: Calaveras | B9: 6 | C9: 1 | D9: 4 | E9: 6 | F9: 2 | G9: 1 | H9: 8 | I9: 2 | J9: 2 | K9: 4 | L9: 4 | M9: 4 | N9: 44
A10: Colusa | B10: 1 | C10: 2 | D10: 3 | E10: 4 | F10: 3 | G10: 1 | H10: 7 | I10: 3 | J10: 3 | K10: 4 | L10: 1 | M10: 1 | N10: 33
A11: Contra Costa | B11: 27 | C11: 26 | D11: 24 | E11: 30 | F11: 34 | G11: 28 | H11: 42 | I11: 30 | J11: 39 | K11: 42 | L11: 48 | M11: 39 | N11: 409
A12: Del Norte | B12: 1 | C12: 0 | D12: 1 | E12: 2 | F12: 2 | G12: 1 | H12: 3 | I12: 2 | J12: 3 | K12: 2 | L12: 2 | M12: 2 | N12: 21
A13: El Dorado | B13: 10 | C13: 6 | D13: 6 | E13: 12 | F13: 5 | G13: 14 | H13: 16 | I13: 15 | J13: 9 | K13: 9 | L13: 7 | M13: 5 | N13: 114
A14: Fresno | B14: 33 | C14: 19 | D14: 39 | E14: 31 | F14: 50 | G14: 41 | H14: 41 | I14: 49 | J14: 45 | K14: 53 | L14: 38 | M14: 42 | N14: 481
A15: Glenn | B15: 1 | C15: 0 | D15: 1 | E15: 3 | F15: 1 | G15: 2 | H15: 3 | I15: 2 | J15: 3 | K15: 4 | L15: 3 | M15: 0 | N15: 23
A16: Humboldt | B16: 8 | C16: 7 | D16: 9 | E16: 5 | F16: 10 | G16: 4 | H16: 5 | I16: 9 | J16: 9 | K16: 10 | L16: 3 | M16: 10 | N16: 89
... A63: Total | B63: 1275 | C63: 1262 | D63: 1529 | E63: 1544 | F63: 1752 | G63: 1660 | H63: 1863 | I63: 1783 | J63: 1820 | K63: 1972 | L63: 1667 | M63: 1659 | N63: 19786

Sheet Table 5P
A1: =Parameters!$A$132 -> TABLE 5P PERSONS INJURED IN ALCOHOL INVOLVED CRASHES BY COUNTY BY MONTH - 2021
A4: County | B4: January | C4: February | D4: March | E4: April | F4: May | G4: June | H4: July | I4: August | J4: September | K4: October | L4: November | M4: December | N4: Total
A5: Alameda | B5: 42 | C5: 51 | D5: 44 | E5: 63 | F5: 74 | G5: 83 | H5: 86 | I5: 66 | J5: 93 | K5: 108 | L5: 85 | M5: 72 | N5: 867
A6: Alpine | B6: 0 | C6: 1 | D6: 0 | E6: 0 | F6: 0 | G6: 2 | H6: 0 | I6: 1 | J6: 0 | K6: 0 | L6: 0 | M6: 0 | N6: 4
A7: Amador | B7: 6 | C7: 0 | D7: 1 | E7: 9 | F7: 7 | G7: 5 | H7: 2 | I7: 3 | J7: 7 | K7: 8 | L7: 6 | M7: 0 | N7: 54
A8: Butte | B8: 8 | C8: 11 | D8: 12 | E8: 23 | F8: 20 | G8: 19 | H8: 10 | I8: 23 | J8: 7 | K8: 22 | L8: 21 | M8: 17 | N8: 193
A9: Calaveras | B9: 7 | C9: 1 | D9: 4 | E9: 10 | F9: 2 | G9: 4 | H9: 14 | I9: 2 | J9: 3 | K9: 4 | L9: 5 | M9: 5 | N9: 61
A10: Colusa | B10: 1 | C10: 3 | D10: 3 | E10: 7 | F10: 3 | G10: 1 | H10: 11 | I10: 3 | J10: 5 | K10: 6 | L10: 1 | M10: 2 | N10: 46
A11: Contra Costa | B11: 44 | C11: 38 | D11: 34 | E11: 48 | F11: 50 | G11: 37 | H11: 54 | I11: 37 | J11: 54 | K11: 61 | L11: 67 | M11: 56 | N11: 580
A12: Del Norte | B12: 3 | C12: 0 | D12: 1 | E12: 2 | F12: 3 | G12: 1 | H12: 3 | I12: 4 | J12: 7 | K12: 2 | L12: 3 | M12: 2 | N12: 31
A13: El Dorado | B13: 13 | C13: 7 | D13: 6 | E13: 14 | F13: 10 | G13: 20 | H13: 22 | I13: 23 | J13: 10 | K13: 10 | L13: 7 | M13: 10 | N13: 152
A14: Fresno | B14: 54 | C14: 28 | D14: 62 | E14: 46 | F14: 86 | G14: 64 | H14: 54 | I14: 84 | J14: 68 | K14: 85 | L14: 50 | M14: 49 | N14: 730
A15: Glenn | B15: 1 | C15: 0 | D15: 1 | E15: 4 | F15: 1 | G15: 2 | H15: 3 | I15: 3 | J15: 3 | K15: 5 | L15: 3 | M15: 0 | N15: 26
A16: Humboldt | B16: 9 | C16: 9 | D16: 14 | E16: 7 | F16: 14 | G16: 6 | H16: 5 | I16: 13 | J16: 15 | K16: 12 | L16: 3 | M16: 11 | N16: 118
... A63: Total | B63: 1782 | C63: 1768 | D63: 2243 | E63: 2271 | F63: 2539 | G63: 2474 | H63: 2703 | I63: 2557 | J63: 2567 | K63: 2854 | L63: 2394 | M63: 2430 | N63: 28582

Sheet Table 5Q
A1: =Parameters!$A$135 -> TABLE 5Q PERSONS KILLED AND INJURED IN ALCOHOL INVOLVED CRASHES BY AGE BY VICTIM CLASSIFICATION - 2021
B4: Driver | D4: Passenger | F4: Pedestrian | H4: Bicyclist | J4: Motorcyclist* | L4: Other | N4: Operator
A5: Age | B5: Killed | C5: Injured | D5: Killed | E5: Injured | F5: Killed | G5: Injured | H5: Killed | I5: Injured | J5: Killed | K5: Injured | L5: Killed | M5: Injured | N5: Killed | O5: Injured
A6: 0-4 | B6: 0 | C6: 13 | D6: 3 | E6: 214 | F6: 0 | G6: 7 | H6: 0 | I6: 1 | J6: 0 | K6: 2 | L6: 0 | M6: 1 | N6: 0 | O6: 0
A7: 5 | B7: 0 | C7: 0 | D7: 5 | E7: 72 | F7: 0 | G7: 1 | H7: 0 | I7: 0 | J7: 0 | K7: 0 | L7: 0 | M7: 0 | N7: 0 | O7: 0
A8: 6 | B8: 0 | C8: 2 | D8: 4 | E8: 79 | F8: 0 | G8: 3 | H8: 0 | I8: 0 | J8: 0 | K8: 1 | L8: 0 | M8: 0 | N8: 0 | O8: 0
A9: 7 | B9: 0 | C9: 2 | D9: 4 | E9: 95 | F9: 0 | G9: 3 | H9: 0 | I9: 2 | J9: 0 | K9: 0 | L9: 0 | M9: 1 | N9: 0 | O9: 0
A10: 8 | B10: 0 | C10: 0 | D10: 3 | E10: 83 | F10: 0 | G10: 2 | H10: 0 | I10: 1 | J10: 0 | K10: 1 | L10: 0 | M10: 0 | N10: 0 | O10: 0
A11: 9 | B11: 0 | C11: 0 | D11: 2 | E11: 80 | F11: 0 | G11: 2 | H11: 0 | I11: 2 | J11: 0 | K11: 1 | L11: 0 | M11: 0 | N11: 0 | O11: 0
A12: 10 | B12: 0 | C12: 2 | D12: 1 | E12: 105 | F12: 0 | G12: 1 | H12: 0 | I12: 1 | J12: 0 | K12: 0 | L12: 0 | M12: 0 | N12: 0 | O12: 0
A13: 11 | B13: 0 | C13: 0 | D13: 5 | E13: 75 | F13: 0 | G13: 6 | H13: 0 | I13: 5 | J13: 0 | K13: 1 | L13: 0 | M13: 0 | N13: 0 | O13: 0
A14: 12 | B14: 0 | C14: 1 | D14: 1 | E14: 87 | F14: 0 | G14: 1 | H14: 0 | I14: 2 | J14: 0 | K14: 4 | L14: 0 | M14: 0 | N14: 0 | O14: 0
A15: 13 | B15: 0 | C15: 1 | D15: 2 | E15: 88 | F15: 0 | G15: 5 | H15: 0 | I15: 14 | J15: 1 | K15: 6 | L15: 0 | M15: 0 | N15: 0 | O15: 0
A16: 14 | B16: 0 | C16: 9 | D16: 3 | E16: 119 | F16: 0 | G16: 10 | H16: 1 | I16: 8 | J16: 0 | K16: 3 | L16: 0 | M16: 0 | N16: 0 | O16: 0
A17: 15 | B17: 0 | C17: 6 | D17: 3 | E17: 118 | F17: 0 | G17: 9 | H17: 1 | I17: 7 | J17: 0 | K17: 2 | L17: 0 | M17: 0 | N17: 0 | O17: 0
... A64: Total | B64: 781 | C64: 19605 | D64: 255 | E64: 7092 | F64: 272 | G64: 1254 | H64: 31 | I64: 473 | J64: 172 | K64: 1005 | L64: 5 | M64: 156 | N64: 0 | O64: 2
A66: *Motorcyclist included under Driver & Passenger categories. May be under reported for non-CHP agencies due to a traffic collision report form revision July 2003.
A67: (See Preface for details.)

Sheet Parameters
A1: Start_year | B1: End_year
A2: 2017 | B2: 2021
A4: Crash_year
A5: 2021
A8: Title 5A
A9: ="TABLE 5A ALCOHOL INVOLVED FATAL AND INJURY CRASHES BY MONTH "&A2&"-"&B2 -> TABLE 5A ALCOHOL INVOLVED FATAL AND INJURY CRASHES BY MONTH 2017-2021
A11: Title 5B
A12: ="TABLE 5B PERSONS KILLED AND INJURED IN ALCOHOL INVOLVED CRASHES BY MONTH "&A2&"-"&B2 -> TABLE 5B PERSONS KILLED AND INJURED IN ALCOHOL INVOLVED CRASHES BY MONTH 2017-2021
A14: Title 5C
A15: ="TABLE 5C ALCOHOL INVOLVED FATAL AND INJURY CRASHES BY COUNTY "&A2&"-"&B2 -> TABLE 5C ALCOHOL INVOLVED FATAL AND INJURY CRASHES BY COUNTY 2017-2021
A17: Title 5D
A18: ="TABLE 5D PERSONS KILLED AND INJURED IN ALCOHOL INVOLVED CRASHES BY COUNTY "&A2&"-"&B2 -> TABLE 5D PERSONS KILLED AND INJURED IN ALCOHOL INVOLVED CRASHES BY COUNTY 2017-2021
A20: Title 5E
A21: ="TABLE 5E PERSONS KILLED AND INJURED IN ALCOHOL INVOLVED CRASHES BY VICTIM TYPE "&A2&"-"&B2 -> TABLE 5E PERSONS KILLED AND INJURED IN ALCOHOL INVOLVED CRASHES BY VICTIM TYPE 2017-2021
A23: Title 5F
A24: ="TABLE 5F MOTOR VEHICLE DRIVERS IN ALCOHOL INVOLVED FATAL AND INJURY CRASHES BY TYPE OF CRASH BY" -> TABLE 5F MOTOR VEHICLE DRIVERS IN ALCOHOL INVOLVED FATAL AND INJURY CRASHES BY TYPE OF CRASH BY
A25: ="MOVEMENT PRECEDING CRASH - "&A5&"" -> MOVEMENT PRECEDING CRASH - 2021
A27: Title 5G
A28: ="TABLE 5G PARTIES IN FATAL AND INJURY CRASHES BY SEX BY DEGREE OF ALCOHOL IMPAIRMENT - "&A5 -> TABLE 5G PARTIES IN FATAL AND INJURY CRASHES BY SEX BY DEGREE OF ALCOHOL IMPAIRMENT - 2021
A30: Male, Female, some Not Stated and some Nonbinary cells auto load to Table 5G. Nonbinary varies each year therefore verify.
A32: Table 5G-HBD
B34: MOTOR VEHICLE DRIVER | I34: PEDESTRIAN AND BICYCLIST | O34: TOTAL
B35: Fatal | E35: Injury | I35: Fatal | L35: Injury
A36: DEGREE OF ALCOHOL IMPAIRMENT | B36: Male | C36: Female | D36: Not Stated | E36: Male | F36: Female | G36: Nonbinary | H36: Not Stated | I36: Male | J36: Female | K36: Not Stated | L36: Male | M36: Female | N36: Not Stated
A37: HAD BEEN DRINKING | B37: 691 | C37: 157 | D37: 2 | E37: 10913 | F37: 3889 | G37: 1 | H37: 60 | I37: 119 | J37: 24 | K37: 1 | L37: 316 | M37: 83 | N37: 4 | O37: 16260
A38: HBD, NOT UNDER INFLUENCE | B38: 77 | C38: 20 | E38: 1948 | F38: 1046 | H38: 19 | I38: 15 | J38: 2 | L38: 213 | M38: 71 | N38: 5 | O38: 3416
A39: HBD, IMPAIRMENT UNKNOWN | B39: 102 | C39: 27 | D39: 7 | E39: 879 | F39: 301 | G39: 4 | H39: 676 | I39: 41 | J39: 8 | L39: 322 | M39: 92 | N39: 8 | O39: 2467
A40: TOTAL | B40: 870 | C40: 204 | D40: 9 | E40: 13740 | F40: 5236 | G40: 5 | H40: 755 | I40: 175 | J40: 34 | K40: 1 | L40: 851 | M40: 246 | N40: 17 | O40: 22143
A42: Male, Female, some Not Stated and some Nonbinary cells auto load to Table 5G. Nonbinary varies each year therefore verify.
A44: Table 5G - Total Parties
B46: MOTOR VEHICLE DRIVER | J46: PEDESTRIAN AND BICYCLIST
B47: Fatal | F47: Injury | J47: Fatal | M47: Injury
B48: Male | C48: Female | D48: Nonbinary | E48: Not Stated | F48: Male | G48: Female | H48: Nonbinary | I48: Not Stated | J48: Male | K48: Female | L48: Not Stated | M48: Male | N48: Female | O48: Nonbinary | P48: Not Stated
B49: 4602 | C49: 1444 | D49: 3 | E49: 318 | F49: 169558 | G49: 105409 | H49: 159 | I49: 13892 | J49: 1016 | K49: 364 | L49: 5 | M49: 12463 | N49: 5369 | O49: 3 | P49: 295
A51: Title 5H
A52: ="TABLE 5H MOTOR VEHICLE DRIVERS IN FATAL CRASHES BY AGE BY DEGREE OF ALCOHOL IMPAIRMENT - "&A5 -> TABLE 5H MOTOR VEHICLE DRIVERS IN FATAL CRASHES BY AGE BY DEGREE OF ALCOHOL IMPAIRMENT - 2021
A54: Cells auto load to Table 5H
A56: Table 5H- HBD
B57: AGE
A58: DEGREE OF ALCOHOL IMPAIRMENT | B58: 0-14 | C58: 15-20 | D58: 21-24 | E58: 25-29 | F58: 30-34 | G58: 35-39 | H58: 40-44 | I58: 45-49 | J58: 50-54 | K58: 55-59 | L58: 60-64 | M58: 65 and over | N58: Not Stated | O58: TOTAL
...
